BEGIN:VCALENDAR
VERSION:2.0
PRODID:-//ShiftKey Labs - ECPv6.3.5//NONSGML v1.0//EN
CALSCALE:GREGORIAN
METHOD:PUBLISH
X-ORIGINAL-URL:https://shiftkeylabs.ca
X-WR-CALDESC:Events for ShiftKey Labs
REFRESH-INTERVAL;VALUE=DURATION:PT1H
X-Robots-Tag:noindex
X-PUBLISHED-TTL:PT1H
BEGIN:VTIMEZONE
TZID:America/Halifax
BEGIN:DAYLIGHT
TZOFFSETFROM:-0400
TZOFFSETTO:-0300
TZNAME:ADT
DTSTART:20260308T060000
END:DAYLIGHT
BEGIN:STANDARD
TZOFFSETFROM:-0300
TZOFFSETTO:-0400
TZNAME:AST
DTSTART:20261101T050000
END:STANDARD
END:VTIMEZONE
BEGIN:VEVENT
DTSTART;TZID=America/Halifax:20260108T180000
DTEND;TZID=America/Halifax:20260108T200000
DTSTAMP:20260421T122510
CREATED:20251209T174342Z
LAST-MODIFIED:20251216T195635Z
UID:103713-1767895200-1767902400@shiftkeylabs.ca
SUMMARY:ShiftKey Academy UP: Game Dev - Unreal Engine (1/4)
DESCRIPTION:🎮 Bring your stories and let’s tell them together with Unreal Engine! Join Pedram Safari on a journey to create your first or better video games. This hands-on course covers everything from game design to interactions within Unreal Engine\, giving you unique insight into the industry and best practices. \n📅 Thursdays: Jan 8\, 15\, 22 & 29 | ⏰ 6–8 PM | 📍 Room 127 \nThis course leads up to Global Game Jam 26! Get your spots early to form your team for the competition. \nThank you to Cognizant for supporting the ShiftKey Academy UP program\, making these courses possible. \nRegistration is now open: https://bit.ly/shiftkey-events
URL:https://shiftkeylabs.ca/event/shiftkey-academy-up-game-dev-unreal-engine-1-4
ATTACH;FMTTYPE=image/jpeg:https://shiftkeylabs.ca/wp-content/uploads/2025/12/Academy-Up-Website-Event-Images-2.jpg
END:VEVENT
BEGIN:VEVENT
DTSTART;TZID=America/Halifax:20260113T173000
DTEND;TZID=America/Halifax:20260113T193000
DTSTAMP:20260421T122510
CREATED:20260107T155013Z
LAST-MODIFIED:20260107T155013Z
UID:103748-1768325400-1768332600@shiftkeylabs.ca
SUMMARY:Workshop: How to Pitch 
DESCRIPTION:Date: Tuesday January 13  \nTime: 5:30pm – 7:30pm \nLocation: Room 430\, Slonim Conference Room. Goldberg Computer Science Building     \nRegistration: Click here to register   \n  \nBenefits of attending:    \n\nUnderstand the importance of communicating your value \nLearn tips and strategies for showcasing yourself to potential employers or judges \nPractice your pitch and receive feedback from peers and professionals 
URL:https://shiftkeylabs.ca/event/workshop-how-to-pitch
ATTACH;FMTTYPE=image/png:https://shiftkeylabs.ca/wp-content/uploads/2026/01/How-To-Pitch-Workshop-Jan-2026.png
END:VEVENT
BEGIN:VEVENT
DTSTART;TZID=America/Halifax:20260114T180000
DTEND;TZID=America/Halifax:20260114T190000
DTSTAMP:20260421T122510
CREATED:20260106T193440Z
LAST-MODIFIED:20260106T193440Z
UID:103745-1768413600-1768417200@shiftkeylabs.ca
SUMMARY:AI2Market Launch Info Session
DESCRIPTION:Interested in learning how the AI2Market Launch program can help you build the skills and confidence to lead an AI-driven enterprise?\n\nLaunch is a three-month\, full-time experience focused on execution: developing robust business and financial models\, creating a go-to-market strategy\, and iterating an AI-based product. This info session is an opportunity to learn more about the program\, understand what to expect\, and ask any questions you may have.\n\nDate: January 14\, 2026\nTime: 6:00 pm – 7:00 pm\n\nRegister here: https://www.eventbrite.ca/e/info-session-ai2market-launch-tickets-1975697280751?aff=oddtdtcreator
URL:https://shiftkeylabs.ca/event/ai2market-launch-info-session
ATTACH;FMTTYPE=image/png:https://shiftkeylabs.ca/wp-content/uploads/2026/01/AI2M-Info-Session-L.png
END:VEVENT
BEGIN:VEVENT
DTSTART;TZID=America/Halifax:20260115T180000
DTEND;TZID=America/Halifax:20260115T200000
DTSTAMP:20260421T122510
CREATED:20251212T132618Z
LAST-MODIFIED:20251216T195706Z
UID:103723-1768500000-1768507200@shiftkeylabs.ca
SUMMARY:ShiftKey Academy UP: Game Dev - Unreal Engine (2/4)
DESCRIPTION:🎮 Bring your stories and let’s tell them together with Unreal Engine! Join Pedram Safari on a journey to create your first or better video games. This hands-on course covers everything from game design to interactions within Unreal Engine\, giving you unique insight into the industry and best practices. \n📅 Thursdays: Jan 8\, 15\, 22 & 29 | ⏰ 6–8 PM | 📍 Room 127 \nThis course leads up to Global Game Jam 26! Get your spots early to form your team for the competition. \nThank you to Cognizant for supporting the ShiftKey Academy UP program\, making these courses possible. \nRegistration is now open: https://bit.ly/shiftkey-events
URL:https://shiftkeylabs.ca/event/shiftkey-academy-up-game-dev-unreal-engine-2-4
ATTACH;FMTTYPE=image/jpeg:https://shiftkeylabs.ca/wp-content/uploads/2025/12/Academy-Up-Website-Event-Images-2.jpg
END:VEVENT
BEGIN:VEVENT
DTSTART;TZID=America/Halifax:20260120T173000
DTEND;TZID=America/Halifax:20260120T200000
DTSTAMP:20260421T122510
CREATED:20260106T192352Z
LAST-MODIFIED:20260120T161222Z
UID:103742-1768930200-1768939200@shiftkeylabs.ca
SUMMARY:*Postponed* Industry Showcase: Ateko (formerly CloudKettle)
DESCRIPTION:The Industry Showcase with Ateko (formerly CloudKettle) has been postponed. \nDate: Tuesday January 20 \nTime: 5:30pm – 8:00pm \nLocation: Room 430 Slonim Conference Room\, Goldberg Computer Science Building \nRegistration: Click here to register \nBenefits of attending: \n\nLearn about Ateko a Halifax based consultancy\nLearn about the organization’s operations\, applications and Salesforce ecosystem\nDiscover upcoming job and training opportunities
URL:https://shiftkeylabs.ca/event/industry-showcase-ateko-formerly-cloudkettle
ATTACH;FMTTYPE=image/png:https://shiftkeylabs.ca/wp-content/uploads/2026/01/Jan-20-2026-Industry-Showcase-Ateko-Formally-CloudKettle.png
END:VEVENT
BEGIN:VEVENT
DTSTART;TZID=America/Halifax:20260120T180000
DTEND;TZID=America/Halifax:20260120T210000
DTSTAMP:20260421T122510
CREATED:20260119T172531Z
LAST-MODIFIED:20260119T172531Z
UID:103774-1768932000-1768942800@shiftkeylabs.ca
SUMMARY:Intro to Godot Workshop
DESCRIPTION:🎮 Take your first steps into game development with Godot! Join Daniel Nascimento for a hands-on beginner-friendly workshop where you’ll learn the fundamentals of Godot\, explore GDScript\, and build a simple 3D platforming game from scratch. \nBy the end of the session\, you’ll have a playable game and practical skills to help you feel more prepared for Game Jam. \n📅 January 20 | ⏰ 6–9 PM | 📍 Room 224\, Student Union Building \nLed by Daniel Nascimento\, a full-time indie game developer with over 15 commercial game releases. \nRegistration is now open! Click here to secure your spot!
URL:https://shiftkeylabs.ca/event/intro-to-godot-workshop
ATTACH;FMTTYPE=image/jpeg:https://shiftkeylabs.ca/wp-content/uploads/2026/01/Workshop-2.jpg
END:VEVENT
BEGIN:VEVENT
DTSTART;TZID=America/Halifax:20260122T180000
DTEND;TZID=America/Halifax:20260122T200000
DTSTAMP:20260421T122510
CREATED:20251212T132645Z
LAST-MODIFIED:20251216T195519Z
UID:103724-1769104800-1769112000@shiftkeylabs.ca
SUMMARY:ShiftKey Academy UP: Game Dev - Unreal Engine (3/4)
DESCRIPTION:🎮 Bring your stories and let’s tell them together with Unreal Engine! Join Pedram Safari on a journey to create your first or better video games. This hands-on course covers everything from game design to interactions within Unreal Engine\, giving you unique insight into the industry and best practices. \n📅 Thursdays: Jan 8\, 15\, 22 & 29 | ⏰ 6–8 PM | 📍 Room 127 \nThis course leads up to Global Game Jam 26! Get your spots early to form your team for the competition. \nThank you to Cognizant for supporting the ShiftKey Academy UP program\, making these courses possible. \nRegistration is now open: https://bit.ly/shiftkey-events
URL:https://shiftkeylabs.ca/event/shiftkey-academy-up-game-dev-unreal-engine-3-4
ATTACH;FMTTYPE=image/jpeg:https://shiftkeylabs.ca/wp-content/uploads/2025/12/Academy-Up-Website-Event-Images-2.jpg
END:VEVENT
BEGIN:VEVENT
DTSTART;TZID=America/Halifax:20260123T180000
DTEND;TZID=America/Halifax:20260123T200000
DTSTAMP:20260421T122510
CREATED:20260108T232032Z
LAST-MODIFIED:20260112T154253Z
UID:103768-1769191200-1769198400@shiftkeylabs.ca
SUMMARY:How to Hackathon Workshop
DESCRIPTION:A hands-on workshop designed for students who are interested in participating in hackathons and want to feel more confident going into their first event—or level up their approach for future ones. \nIn this one-time session\, participants will be guided through what to expect at a hackathon and how to work effectively under pressure. The workshop will cover key topics such as design methodologies\, efficient task delegation\, deadline management\, and how to approach challenge statements with a problem-solving mindset. \nParticipants will also learn strategies for building efficiently as a team and crafting a clear\, compelling pitch\, helping them make the most of their time and ideas during a hackathon. \nThis workshop is ideal for learners who want a practical\, structured introduction to hackathons and are looking for tips to compete smarter and collaborate more effectively. \n📅 Date: January 23\, 2026⏰ Time: 6:00–7:30 PM📌 Location: Goldberg Computer Science Building\, Room 127💰 Cost: FREE \nRegistration is now open: https://bit.ly/shiftkey-events
URL:https://shiftkeylabs.ca/event/how-to-hackathon-workshop
ATTACH;FMTTYPE=image/png:https://shiftkeylabs.ca/wp-content/uploads/2026/01/How-to-Hackathon-Workshop.png
END:VEVENT
BEGIN:VEVENT
DTSTART;TZID=America/Halifax:20260127T160000
DTEND;TZID=America/Halifax:20260127T180000
DTSTAMP:20260421T122510
CREATED:20260120T162450Z
LAST-MODIFIED:20260120T162907Z
UID:103781-1769529600-1769536800@shiftkeylabs.ca
SUMMARY:Cybersecurity in Gaming\, Keeping Your Players Safe!
DESCRIPTION:🛡️ As games become more connected\, keeping players safe matters more than ever. Join Dr. Julia Silva Weber for a focused workshop on cybersecurity in gaming\, where you’ll explore the challenges game developers face and the strategies used to protect players in online and multiplayer environments. \nThis session is a valuable addition for anyone preparing for Game Jam\, helping you think beyond gameplay to build safer\, more resilient games. \n📆 Tuesday\, January 27 | ⏰ 4–6 PM | 📍 Room 134 \nLed by Dr. Julia Silva Weber\, a Post-Doctoral Fellow at Dalhousie University with a Ph.D. in Computer Science\, specializing in network security\, IoT\, and interactive games. \nRegistration is now open! https://bit.ly/shiftkey-events
URL:https://shiftkeylabs.ca/event/cybersecurity-in-gaming-keeping-your-players-safe
ATTACH;FMTTYPE=image/jpeg:https://shiftkeylabs.ca/wp-content/uploads/2026/01/Workshop-1.jpg
END:VEVENT
BEGIN:VEVENT
DTSTART;TZID=America/Halifax:20260127T180000
DTEND;TZID=America/Halifax:20260127T200000
DTSTAMP:20260421T122510
CREATED:20260107T160224Z
LAST-MODIFIED:20260126T192800Z
UID:103753-1769536800-1769544000@shiftkeylabs.ca
SUMMARY:*New Date!* Tinkering with Unity
DESCRIPTION:*New Date!* \nA hands-on workshop designed for participants who already have some familiarity with programming and want to explore how games are built using Unity. \nIn this one-time session\, participants will be guided through the core features of the Unity game engine using a pre-built game created by Sophie. The workshop will unpack how Unity works behind the scenes—from placing assets and moving a main character\, to tracking objectives and understanding the programming logic that makes the game run. \nParticipants will then have the opportunity to remix the game by experimenting with existing assets and mechanics\, encouraging creativity while reinforcing key Unity and programming concepts. \nThis workshop is ideal for learners who are not absolute beginners and are comfortable exploring code in a guided\, hands-on environment. \nPrerequisites: \n\nSome programming experience required\nPlease install Unity prior to the session\n\n📅 Date: January 27⏰ Time: 6:00–8:00 PM📌 Location: Goldberg Computer Science Building\, Room 134💰 Cost: FREE \n  \n\nRegistration is now open: https://bit.ly/shiftkey-events
URL:https://shiftkeylabs.ca/event/tinkering-with-unity
ATTACH;FMTTYPE=image/jpeg:https://shiftkeylabs.ca/wp-content/uploads/2026/01/Tinkering-with-Unity-Website-Promo.jpg
END:VEVENT
BEGIN:VEVENT
DTSTART;TZID=America/Halifax:20260128T160000
DTEND;TZID=America/Halifax:20260128T180000
DTSTAMP:20260421T122510
CREATED:20260120T162811Z
LAST-MODIFIED:20260121T140417Z
UID:103785-1769616000-1769623200@shiftkeylabs.ca
SUMMARY:The Lessons I Wish I Learned Before Doing 16 Game Jams
DESCRIPTION:🧠 Game Jams are fast\, intense\, and incredibly rewarding—but they come with lessons you usually learn the hard way. Join Trent Baker as he shares insights from nearly a decade and 16 Game Jams\, covering collaboration under pressure\, managing time and balance\, and finding success even when a project isn’t fully finished. \nThis session is designed to help you head into Game Jam 2026 with practical tools\, realistic expectations\, and a stronger jamming mindset. \n📆 Wednesday\, January 28 | ⏰ 4–6 PM | 📍 Room 430 \nLed by Trent Baker\, Junior Programmer at Gamemode One and former Dalhousie Computer Science student\, with experience across gameplay programming\, design\, and creative collaboration. \nRegistration is now open! Click here to register ✅
URL:https://shiftkeylabs.ca/event/the-lessons-i-wish-i-learned-before-doing-16-game-jams
ATTACH;FMTTYPE=image/jpeg:https://shiftkeylabs.ca/wp-content/uploads/2026/01/Workshop-3.jpg
END:VEVENT
BEGIN:VEVENT
DTSTART;TZID=America/Halifax:20260129T180000
DTEND;TZID=America/Halifax:20260129T200000
DTSTAMP:20260421T122510
CREATED:20251212T132724Z
LAST-MODIFIED:20251216T195457Z
UID:103725-1769709600-1769716800@shiftkeylabs.ca
SUMMARY:ShiftKey Academy UP: Game Dev - Unreal Engine (4/4)
DESCRIPTION:🎮 Bring your stories and let’s tell them together with Unreal Engine! Join Pedram Safari on a journey to create your first or better video games. This hands-on course covers everything from game design to interactions within Unreal Engine\, giving you unique insight into the industry and best practices. \n📅 Thursdays: Jan 8\, 15\, 22 & 29 | ⏰ 6–8 PM | 📍 Room 127 \nThis course leads up to Global Game Jam 26! Get your spots early to form your team for the competition. \nThank you to Cognizant for supporting the ShiftKey Academy UP program\, making these courses possible. \nRegistration is now open: https://bit.ly/shiftkey-events
URL:https://shiftkeylabs.ca/event/shiftkey-academy-up-game-dev-unreal-engine-4-4
ATTACH;FMTTYPE=image/jpeg:https://shiftkeylabs.ca/wp-content/uploads/2025/12/Academy-Up-Website-Event-Images-2.jpg
END:VEVENT
BEGIN:VEVENT
DTSTART;VALUE=DATE:20260130
DTEND;VALUE=DATE:20260202
DTSTAMP:20260421T122510
CREATED:20251003T185308Z
LAST-MODIFIED:20260108T161352Z
UID:103391-1769731200-1769990399@shiftkeylabs.ca
SUMMARY:Global Game Jam 2026
DESCRIPTION:Are You Ready to Jam? \nThe Global Game Jam 2026 is here! Dive into a weekend of creativity\, collaboration\, and game-making magic hosted by ShiftKey Labs. \nSign up Here: Global Game Jam 2026 – Halifax\, N.S. Tickets\, Fri\, Jan 30\, 2026 at 6:00 PM | Eventbrite \n🎯 Build a game from scratch \n🤝 Connect with fellow creators \n💡 Discover new ideas and skills \nThis non-competitive event is perfect for anyone curious about gaming\, whether you’re an artist\, programmer\, or dreamer. \n📅 Jan 30 – Feb 1\, 2026 \n📍 Dalhousie University \nDon’t just play games — create them!
URL:https://shiftkeylabs.ca/event/global-game-jam-2026
CATEGORIES:Hackathon
ATTACH;FMTTYPE=image/jpeg:https://shiftkeylabs.ca/wp-content/uploads/2025/10/Game-Jam-Website-Image.jpg
END:VEVENT
END:VCALENDAR