BEGIN:VCALENDAR
VERSION:2.0
PRODID:-//ShiftKey Labs - ECPv6.3.5//NONSGML v1.0//EN
CALSCALE:GREGORIAN
METHOD:PUBLISH
X-WR-CALNAME:ShiftKey Labs
X-ORIGINAL-URL:https://shiftkeylabs.ca
X-WR-CALDESC:Events for ShiftKey Labs
REFRESH-INTERVAL;VALUE=DURATION:PT1H
X-Robots-Tag:noindex
X-PUBLISHED-TTL:PT1H
BEGIN:VTIMEZONE
TZID:America/Halifax
BEGIN:DAYLIGHT
TZOFFSETFROM:-0400
TZOFFSETTO:-0300
TZNAME:ADT
DTSTART:20250309T060000
END:DAYLIGHT
BEGIN:STANDARD
TZOFFSETFROM:-0300
TZOFFSETTO:-0400
TZNAME:AST
DTSTART:20251102T050000
END:STANDARD
END:VTIMEZONE
BEGIN:VEVENT
DTSTART;TZID=America/Halifax:20250702T173000
DTEND;TZID=America/Halifax:20250702T190000
DTSTAMP:20260421T205648
CREATED:20250605T172308Z
LAST-MODIFIED:20250619T172751Z
UID:102202-1751477400-1751482800@shiftkeylabs.ca
SUMMARY:Dal CTF 2025 Info Session
DESCRIPTION:📅 Date: July 2nd\n⏰ Time: 5:30PM – 7:00 PM\n📌 Location: Goldberg Computer Science Building Room 127\n💰 Cost: FREE!
URL:https://shiftkeylabs.ca/event/dal-ctf-2025-info-session
LOCATION:Goldberg Computer Science Building\, 6050 University Avenue\, Halifax\, Nova Scotia\, B3H 1W5\, Canada
CATEGORIES:Capture the Flag,Info Session,Workshop
ATTACH;FMTTYPE=image/png:https://shiftkeylabs.ca/wp-content/uploads/2025/06/Dal-CTF-Web.png
END:VEVENT
BEGIN:VEVENT
DTSTART;TZID=America/Halifax:20250703T180000
DTEND;TZID=America/Halifax:20250703T200000
DTSTAMP:20260421T205648
CREATED:20250619T164539Z
LAST-MODIFIED:20250711T140459Z
UID:102318-1751565600-1751572800@shiftkeylabs.ca
SUMMARY:Academy UP: Game Development Foundations with Unity (1/5)
DESCRIPTION:The Game Development Foundations course by ShiftKey Academy UP\, led by Gabriel Savard\, is your first step into the world of game design and development using Unity. \nTailored for beginners with basic programming experience\, this course introduces core concepts in game mechanics\, physics\, and 2D/3D environments. You’ll learn how to navigate Unity’s interface\, build interactive scenes\, and bring your game ideas to life—all while gaining the foundational skills needed for future game development projects. \nThis course is open to participants from all disciplines. Basic programming experience is recommended. Please have Unity installed before the first session. \nThank you to Cognizant for supporting the ShiftKey Academy UP program\, making these courses possible. \n \n📅 Dates: July 3rd\, 10th\, 17th\, 24th and 31st\n⏰ Time: 6:00 PM – 8:00 PM\n📌 Location: Goldberg Computer Science Building Room 134\n💰 Cost: FREE! \nRegister Here: https://bit.ly/shiftkey-events \n\nNote: Attendance is required for 3 sessions to earn certification\, as well as successful completion of assessment.
URL:https://shiftkeylabs.ca/event/game-development-foundations-with-unity-1-5
LOCATION:Goldberg Computer Science Building\, 6050 University Avenue\, Halifax\, Nova Scotia\, B3H 1W5\, Canada
CATEGORIES:Certification
ATTACH;FMTTYPE=image/png:https://shiftkeylabs.ca/wp-content/uploads/2025/06/Academy-1.png
END:VEVENT
BEGIN:VEVENT
DTSTART;TZID=America/Halifax:20250705T090000
DTEND;TZID=America/Halifax:20250705T180000
DTSTAMP:20260421T205648
CREATED:20250605T162826Z
LAST-MODIFIED:20250704T164444Z
UID:102159-1751706000-1751738400@shiftkeylabs.ca
SUMMARY:Dal CTF 2025
DESCRIPTION:Ready to test your hacking skills?\n\nJoin us July 5th for an in-person Capture the Flag event hosted by ShiftKey Labs and the Dal CTF Society at the Dal FCS Goldberg building! Whether you’re a seasoned pro or just curious about cybersecurity\, there’s a challenge waiting for you. Grab your laptop\, form a team (2-5 people)\, and dive into real-world security puzzles. No experience? No problem – mentors will be on hand to guide beginners. Prizes await the top hackers! Mark your calendar\, invite your friends\, and register now.\n\nLet’s hack\, learn\, and have fun together. See you there!\n\n\n\n\n\n📅 Date: July 5th\n⏰ Time: 9:00AM – 6:00 PM (Hack is 10AM-5PM)\n📌 Location: Goldberg Computer Science Building\n💰 Cost: FREE!\n\nRegistration is now open! https://bit.ly/shiftkey-events\n\nSchedule:
URL:https://shiftkeylabs.ca/event/dal-ctf-2025
LOCATION:Goldberg Computer Science Building\, 6050 University Avenue\, Halifax\, Nova Scotia\, B3H 1W5\, Canada
CATEGORIES:Capture the Flag
ATTACH;FMTTYPE=image/png:https://shiftkeylabs.ca/wp-content/uploads/2025/06/Dal-CTF-Web.png
END:VEVENT
BEGIN:VEVENT
DTSTART;TZID=America/Halifax:20250709T180000
DTEND;TZID=America/Halifax:20250709T190000
DTSTAMP:20260421T205648
CREATED:20250609T165053Z
LAST-MODIFIED:20250625T154621Z
UID:102230-1752084000-1752087600@shiftkeylabs.ca
SUMMARY:Intro to Data Engineering
DESCRIPTION:Come find out at our Intro to Data Engineering Workshop⚙️📊! \nWhether it’s making product decisions\, tracking user behavior\, or powering internal tools\, data engineers play a key role in designing the systems that move\, clean\, and structure data at scale 🌐📈. \nIn this beginner-friendly session\, we’ll walk through the core components of the modern data stack and explore how data engineering fits into the broader world of software development 🧑‍💻. \nNo experience required. All you need is curiosity and an interest in how real-world systems are built. \n \n📅 Date: July 9th\n⏰ Time: 6:00PM – 7:00 PM\n📌 Location: Goldberg Computer Science Building Room 143\n💰 Cost: FREE!\n\nRegister Here: https://bit.ly/shiftkey-events
URL:https://shiftkeylabs.ca/event/intro-to-data-engineering
LOCATION:Goldberg Computer Science Building\, 6050 University Avenue\, Halifax\, Nova Scotia\, B3H 1W5\, Canada
CATEGORIES:Skills Development,Workshop
ATTACH;FMTTYPE=image/png:https://shiftkeylabs.ca/wp-content/uploads/2025/06/Workshop-Blue-copy.png
END:VEVENT
BEGIN:VEVENT
DTSTART;TZID=America/Halifax:20250710T180000
DTEND;TZID=America/Halifax:20250710T200000
DTSTAMP:20260421T205648
CREATED:20250619T164719Z
LAST-MODIFIED:20250711T140511Z
UID:102321-1752170400-1752177600@shiftkeylabs.ca
SUMMARY:Academy UP: Game Development Foundations with Unity (2/5)
DESCRIPTION:The Game Development Foundations course by ShiftKey Academy UP\, led by Gabriel Savard\, is your first step into the world of game design and development using Unity. \nTailored for beginners with basic programming experience\, this course introduces core concepts in game mechanics\, physics\, and 2D/3D environments. You’ll learn how to navigate Unity’s interface\, build interactive scenes\, and bring your game ideas to life—all while gaining the foundational skills needed for future game development projects. \nThis course is open to participants from all disciplines. Basic programming experience is recommended. Please have Unity installed before the first session. \nThank you to Cognizant for supporting the ShiftKey Academy UP program\, making these courses possible. \n \n📅 Dates: July 3rd\, 10th\, 17th\, 24th and 31st\n⏰ Time: 6:00 PM – 8:00 PM\n📌 Location: Goldberg Computer Science Building Room 134\n💰 Cost: FREE! \nRegister Here: https://bit.ly/shiftkey-events \n\nNote: Attendance is required for 3 sessions to earn certification\, as well as successful completion of assessment.
URL:https://shiftkeylabs.ca/event/game-development-foundations-with-unity-2-5
LOCATION:Goldberg Computer Science Building\, 6050 University Avenue\, Halifax\, Nova Scotia\, B3H 1W5\, Canada
CATEGORIES:Certification
ATTACH;FMTTYPE=image/png:https://shiftkeylabs.ca/wp-content/uploads/2025/06/Academy-1.png
END:VEVENT
BEGIN:VEVENT
DTSTART;TZID=America/Halifax:20250717T180000
DTEND;TZID=America/Halifax:20250717T200000
DTSTAMP:20260421T205648
CREATED:20250619T164738Z
LAST-MODIFIED:20250711T140523Z
UID:102322-1752775200-1752782400@shiftkeylabs.ca
SUMMARY:Academy UP: Game Development Foundations with Unity (3/5)
DESCRIPTION:The Game Development Foundations course by ShiftKey Academy UP\, led by Gabriel Savard\, is your first step into the world of game design and development using Unity. \nTailored for beginners with basic programming experience\, this course introduces core concepts in game mechanics\, physics\, and 2D/3D environments. You’ll learn how to navigate Unity’s interface\, build interactive scenes\, and bring your game ideas to life—all while gaining the foundational skills needed for future game development projects. \nThis course is open to participants from all disciplines. Basic programming experience is recommended. Please have Unity installed before the first session. \nThank you to Cognizant for supporting the ShiftKey Academy UP program\, making these courses possible. \n \n📅 Dates: July 3rd\, 10th\, 17th\, 24th and 31st\n⏰ Time: 6:00 PM – 8:00 PM\n📌 Location: Goldberg Computer Science Building Room 134\n💰 Cost: FREE! \nRegister Here: https://bit.ly/shiftkey-events \n\nNote: Attendance is required for 3 sessions to earn certification\, as well as successful completion of assessment.
URL:https://shiftkeylabs.ca/event/game-development-foundations-with-unity-3-5
LOCATION:Goldberg Computer Science Building\, 6050 University Avenue\, Halifax\, Nova Scotia\, B3H 1W5\, Canada
CATEGORIES:Certification
ATTACH;FMTTYPE=image/png:https://shiftkeylabs.ca/wp-content/uploads/2025/06/Academy-1.png
END:VEVENT
BEGIN:VEVENT
DTSTART;TZID=America/Halifax:20250724T180000
DTEND;TZID=America/Halifax:20250724T200000
DTSTAMP:20260421T205648
CREATED:20250619T164800Z
LAST-MODIFIED:20250724T185356Z
UID:102323-1753380000-1753387200@shiftkeylabs.ca
SUMMARY:Academy UP: Game Development Foundations with Unity (4/5)
DESCRIPTION:The Game Development Foundations course by ShiftKey Academy UP\, led by Gabriel Savard\, is your first step into the world of game design and development using Unity. \nTailored for beginners with basic programming experience\, this course introduces core concepts in game mechanics\, physics\, and 2D/3D environments. You’ll learn how to navigate Unity’s interface\, build interactive scenes\, and bring your game ideas to life—all while gaining the foundational skills needed for future game development projects. \nThis course is open to participants from all disciplines. Basic programming experience is recommended. Please have Unity installed before the first session. \nThank you to Cognizant for supporting the ShiftKey Academy UP program\, making these courses possible. \n \n📅 Dates: July 3rd\, 10th\, 17th\, 24th and 31st\n⏰ Time: 6:00 PM – 8:00 PM\n📌 Location: Goldberg Computer Science Building Room 134\n💰 Cost: FREE! \nRegister Here: https://bit.ly/shiftkey-events \n\nNote: Attendance is required for 3 sessions to earn certification\, as well as successful completion of assessment.
URL:https://shiftkeylabs.ca/event/game-development-foundations-with-unity-4-5
LOCATION:Goldberg Computer Science Building\, 6050 University Avenue\, Halifax\, Nova Scotia\, B3H 1W5\, Canada
CATEGORIES:Certification
ATTACH;FMTTYPE=image/png:https://shiftkeylabs.ca/wp-content/uploads/2025/06/Academy-1.png
END:VEVENT
BEGIN:VEVENT
DTSTART;TZID=America/Halifax:20250731T180000
DTEND;TZID=America/Halifax:20250731T200000
DTSTAMP:20260421T205648
CREATED:20250619T164818Z
LAST-MODIFIED:20250724T185304Z
UID:102324-1753984800-1753992000@shiftkeylabs.ca
SUMMARY:Academy UP: Game Development Foundations with Unity (5/5)
DESCRIPTION:The Game Development Foundations course by ShiftKey Academy UP\, led by Gabriel Savard\, is your first step into the world of game design and development using Unity. \nTailored for beginners with basic programming experience\, this course introduces core concepts in game mechanics\, physics\, and 2D/3D environments. You’ll learn how to navigate Unity’s interface\, build interactive scenes\, and bring your game ideas to life—all while gaining the foundational skills needed for future game development projects. \nThis course is open to participants from all disciplines. Basic programming experience is recommended. Please have Unity installed before the first session. \nThank you to Cognizant for supporting the ShiftKey Academy UP program\, making these courses possible. \n \n📅 Dates: July 3rd\, 10th\, 17th\, 24th and 31st\n⏰ Time: 6:00 PM – 8:00 PM\n📌 Location: Goldberg Computer Science Building Room 134\n💰 Cost: FREE! \nRegister Here: https://bit.ly/shiftkey-events \n\nNote: Attendance is required for 3 sessions to earn certification\, as well as successful completion of assessment.
URL:https://shiftkeylabs.ca/event/game-development-foundations-with-unity-5-5
LOCATION:Goldberg Computer Science Building\, 6050 University Avenue\, Halifax\, Nova Scotia\, B3H 1W5\, Canada
CATEGORIES:Certification
ATTACH;FMTTYPE=image/png:https://shiftkeylabs.ca/wp-content/uploads/2025/06/Academy-1.png
END:VEVENT
END:VCALENDAR