BEGIN:VCALENDAR
VERSION:2.0
PRODID:-//ShiftKey Labs - ECPv6.3.5//NONSGML v1.0//EN
CALSCALE:GREGORIAN
METHOD:PUBLISH
X-ORIGINAL-URL:https://shiftkeylabs.ca
X-WR-CALDESC:Events for ShiftKey Labs
REFRESH-INTERVAL;VALUE=DURATION:PT1H
X-Robots-Tag:noindex
X-PUBLISHED-TTL:PT1H
BEGIN:VTIMEZONE
TZID:America/Halifax
BEGIN:DAYLIGHT
TZOFFSETFROM:-0400
TZOFFSETTO:-0300
TZNAME:ADT
DTSTART:20250309T060000
END:DAYLIGHT
BEGIN:STANDARD
TZOFFSETFROM:-0300
TZOFFSETTO:-0400
TZNAME:AST
DTSTART:20251102T050000
END:STANDARD
END:VTIMEZONE
BEGIN:VEVENT
DTSTART;TZID=America/Halifax:20250506T163000
DTEND;TZID=America/Halifax:20250506T193000
DTSTAMP:20260421T234229
CREATED:20250409T165802Z
LAST-MODIFIED:20250421T183714Z
UID:101267-1746549000-1746559800@shiftkeylabs.ca
SUMMARY:Internet of Things: A Beginner Workshop
DESCRIPTION:Smart homes\, wearable tech\, and connected cities all run on IoT. Want to know how? Join us for this beginner-friendly workshop where you’ll learn how IoT works and build your own smart device. We’ll walk you through the basics using Arduino or Raspberry Pi in a fun\, collaborative setting. Perfect for beginners from all academic backgrounds. \nPrerequisites \nBring a laptop (if possible) \nSome exposure to programming (e.g.\, Python or C++) is a bonus but not required \nCuriosity and a willingness to learn! \n📅 Date: May 6th\, 2025\n⏰ Time: 4:30pm-7:30pm\n📌 Location: The Goldberg Computer Science Building Room 134\n🔗 Register Here: https://bit.ly/shiftkey-events
URL:https://shiftkeylabs.ca/event/internet-of-things-a-beginner-workshop
LOCATION:Goldberg Computer Science Building\, 6050 University Avenue\, Halifax\, Nova Scotia\, B3H 1W5\, Canada
CATEGORIES:Workshop
ATTACH;FMTTYPE=image/png:https://shiftkeylabs.ca/wp-content/uploads/2025/04/Workshop-Blue.png
END:VEVENT
BEGIN:VEVENT
DTSTART;TZID=America/Halifax:20250507T160000
DTEND;TZID=America/Halifax:20250507T180000
DTSTAMP:20260421T234229
CREATED:20250409T174507Z
LAST-MODIFIED:20250425T181437Z
UID:101271-1746633600-1746640800@shiftkeylabs.ca
SUMMARY:Academy UP: Machine Learning Basics (1/4)
DESCRIPTION:Discover the Power of Machine Learning with ACENET! \nCurious about Machine Learning (ML) and how it transforms industries? Join our engaging series of four sessions where you’ll explore the core concepts behind automation and intelligent decision-making\, including some hands-on examples. \n● Understand Key ML Principles – Learn about supervised\, unsupervised\, and reinforcement learning and their real-world applications. \n● Explore Essential Algorithms – Gain insights into Naive Bayes\, Regression\, Decision Trees\, Support Vector Machines\, and Neural Networks. \n● Learn the Fundamentals of Neural Networks and Deep Learning – Understand core concepts behind neural networks and deep learning\, their components\, and how to build a simple neural network. \n● Explore Large Language Models – Build foundational knowledge of transformer architectures including types of LLMs and their evolution\, pre-training vs. fine-tuning\, and practical considerations. \nPerfect for beginners and professionals alike\, this series will equip you with the fundamentals to navigate the world of machine learning with confidence. \nRegister now and start your ML journey today! \nThank you to Cognizant for supporting the ShiftKey Academy UP program\, making these courses possible. \n📅 Dates: May 7th\, 14th\, 21st and 28th\n⏰ Time: 4:00 PM – 6:00 PM\n📌 Location: Virtual\n💰 Cost: FREE! \nRegister Here: https://bit.ly/4jh8b7E \n\nNote: Attendance is required for 3 sessions to earn certification\, as well as successful completion of assessment.
URL:https://shiftkeylabs.ca/event/academy-up-machine-learning-1-4
LOCATION:Virtual
CATEGORIES:Certification
ATTACH;FMTTYPE=image/png:https://shiftkeylabs.ca/wp-content/uploads/2025/04/Academy-2.png
END:VEVENT
BEGIN:VEVENT
DTSTART;TZID=America/Halifax:20250508T180000
DTEND;TZID=America/Halifax:20250508T200000
DTSTAMP:20260421T234229
CREATED:20250409T175417Z
LAST-MODIFIED:20250415T153256Z
UID:101280-1746727200-1746734400@shiftkeylabs.ca
SUMMARY:Academy UP: Fundamentals of Cloud Administration with Azure (1/4)
DESCRIPTION:Take your Azure expertise to the next level with our deep-dive course on Microsoft Azure! This four-week program explores key cloud concepts\, including identity and access management with Entra ID\, scalable storage and compute solutions\, and network architecture best practices. You’ll also learn how to automate infrastructure deployment and optimize monitoring\, alerting\, and compliance. Perfect for those with foundational Azure knowledge looking to expand their skills\, this hands-on course will equip you with practical insights to design and manage Azure environments effectively. \nPrerequisites: \n\nKnowledge of Cloud Foundations \, a Cloud Computing course at a university or equivalent. Basic familiarity with Bash and the command line.\nBefore Day 1: Students must decide on “pay-as-you-go subscription” (take the free course to set up their subscription) or do labs in Microsoft’s sandbox.\n\nThank you to Cognizant for supporting the ShiftKey Academy UP program\, making these courses possible. \n \n📅 Dates: May 8th\, 15th\, 22nd\, and 29th \n⏰ Time: 6:00 PM – 8:00 PM\n📌 Location: Goldberg Computer Science Building\, Room 143\n💰 Cost: FREE! \nRegister Here: https://airtable.com/appkB4tLGaUIf7rIf/shrRXVDaYwEt6eTGg \nNote: Attendance is required for 3 sessions to earn certification\, as well as successful completion of assessment.
URL:https://shiftkeylabs.ca/event/academy-up-fundamentals-of-cloud-administration-with-azure-1-4
LOCATION:Goldberg Computer Science Building\, 6050 University Avenue\, Halifax\, Nova Scotia\, B3H 1W5\, Canada
CATEGORIES:Certification
ATTACH;FMTTYPE=image/png:https://shiftkeylabs.ca/wp-content/uploads/2025/04/Academy-1.png
END:VEVENT
BEGIN:VEVENT
DTSTART;TZID=America/Halifax:20250510T090000
DTEND;TZID=America/Halifax:20250510T170000
DTSTAMP:20260421T234229
CREATED:20250214T162616Z
LAST-MODIFIED:20250510T142335Z
UID:101012-1746867600-1746896400@shiftkeylabs.ca
SUMMARY:Summit for Women in Future Technology
DESCRIPTION:Are you ready to take charge of your path in tech? \n🚀 The Summit for Women in Future Technology (SWIFT) is created by CS students for CS students\, with one goal in mind: to empower you with the skills\, knowledge\, and confidence needed to succeed in the tech industry. \n👩‍💻 Open to all women and gender-diverse individuals\, this summit offers a full day of hands-on workshops and interactive sessions led by experienced professionals and industry leaders. \n✨ Join us for an experience designed to elevate your voice\, your skills\, and your future! \nPresented by the Leacross Foundation and Tech@RBC. \nSchedule: \n \nRegister Here: https://bit.ly/shiftkey-events
URL:https://shiftkeylabs.ca/event/summit-for-women-in-future-technology
LOCATION:Goldberg Computer Science Building\, 6050 University Avenue\, Halifax\, Nova Scotia\, B3H 1W5\, Canada
CATEGORIES:External Event,Networking,Workshop
ATTACH;FMTTYPE=image/png:https://shiftkeylabs.ca/wp-content/uploads/2025/02/SWIFT-Summit-for-Women-In-Future-Technology-1024-x-512-px-2.png
END:VEVENT
BEGIN:VEVENT
DTSTART;TZID=America/Halifax:20250513T170000
DTEND;TZID=America/Halifax:20250513T200000
DTSTAMP:20260421T234229
CREATED:20250422T171335Z
LAST-MODIFIED:20250502T141448Z
UID:101543-1747155600-1747166400@shiftkeylabs.ca
SUMMARY:Here We Code: Networking Mixer
DESCRIPTION:Calling all students who want to begin their careers in tech! \nJoin us on May 13th at the PIER for the Here We Code: Networking Mixer from 5:00pm to 8:00pm. \nLower and upper-year students\, connect about your experiences and careers\, and also get to know industry professionals in the tech field! Discuss your career and academic goals\, listen to a panel of upper year students\, alumni\, and industry professionals\, and much more. \nDon’t miss this chance to connect\, network\, explore your options\, and get to know the tech industry! 🧑‍💻🎓🤝 \nThanks to Digital Nova Scotia and SuperNOVA for their ongoing support for the Here We Code initiative! \nClick here to register: https://bit.ly/shiftkey-events
URL:https://shiftkeylabs.ca/event/here-we-code-networking-mixer
LOCATION:The PIER\, 1209 Marginal Road\, Halifax\, Nova Scotia\, Canada
CATEGORIES:Here We Code,Networking
ATTACH;FMTTYPE=image/png:https://shiftkeylabs.ca/wp-content/uploads/2025/04/HWC-Networking-Event-WordPress-1-copy.png
END:VEVENT
BEGIN:VEVENT
DTSTART;TZID=America/Halifax:20250514T160000
DTEND;TZID=America/Halifax:20250514T180000
DTSTAMP:20260421T234229
CREATED:20250409T174548Z
LAST-MODIFIED:20250425T181415Z
UID:101274-1747238400-1747245600@shiftkeylabs.ca
SUMMARY:Academy UP: Machine Learning Basics (2/4)
DESCRIPTION:Discover the Power of Machine Learning with ACENET! \nCurious about Machine Learning (ML) and how it transforms industries? Join our engaging series of four sessions where you’ll explore the core concepts behind automation and intelligent decision-making\, including some hands-on examples. \n● Understand Key ML Principles – Learn about supervised\, unsupervised\, and reinforcement learning and their real-world applications. \n● Explore Essential Algorithms – Gain insights into Naive Bayes\, Regression\, Decision Trees\, Support Vector Machines\, and Neural Networks. \n● Learn the Fundamentals of Neural Networks and Deep Learning – Understand core concepts behind neural networks and deep learning\, their components\, and how to build a simple neural network. \n● Explore Large Language Models – Build foundational knowledge of transformer architectures including types of LLMs and their evolution\, pre-training vs. fine-tuning\, and practical considerations. \nPerfect for beginners and professionals alike\, this series will equip you with the fundamentals to navigate the world of machine learning with confidence. \nRegister now and start your ML journey today! \nThank you to Cognizant for supporting the ShiftKey Academy UP program\, making these courses possible. \n📅 Dates: May 7th\, 14th\, 21st and 28th\n⏰ Time: 4:00 PM – 6:00 PM\n📌 Location: Virtual\n💰 Cost: FREE! \nRegister Here: https://bit.ly/4jh8b7E \n\nNote: Attendance is required for 3 sessions to earn certification\, as well as successful completion of assessment.
URL:https://shiftkeylabs.ca/event/academy-up-machine-learning-2-4
LOCATION:Virtual
CATEGORIES:Certification
ATTACH;FMTTYPE=image/png:https://shiftkeylabs.ca/wp-content/uploads/2025/04/Academy-2.png
END:VEVENT
BEGIN:VEVENT
DTSTART;TZID=America/Halifax:20250515T180000
DTEND;TZID=America/Halifax:20250515T200000
DTSTAMP:20260421T234229
CREATED:20250409T175448Z
LAST-MODIFIED:20250415T153321Z
UID:101283-1747332000-1747339200@shiftkeylabs.ca
SUMMARY:Academy UP: Fundamentals of Cloud Administration with Azure (2/4)
DESCRIPTION:Take your Azure expertise to the next level with our deep-dive course on Microsoft Azure! This four-week program explores key cloud concepts\, including identity and access management with Entra ID\, scalable storage and compute solutions\, and network architecture best practices. You’ll also learn how to automate infrastructure deployment and optimize monitoring\, alerting\, and compliance. Perfect for those with foundational Azure knowledge looking to expand their skills\, this hands-on course will equip you with practical insights to design and manage Azure environments effectively. \nPrerequisites: \n\nKnowledge of Cloud Foundations \, a Cloud Computing course at a university or equivalent. Basic familiarity with Bash and the command line.\nBefore Day 1: Students must decide on “pay-as-you-go subscription” (take the free course to set up their subscription) or do labs in Microsoft’s sandbox.\n\nThank you to Cognizant for supporting the ShiftKey Academy UP program\, making these courses possible. \n \n📅 Dates: May 8th\, 15th\, 22nd\, and 29th \n⏰ Time: 6:00 PM – 8:00 PM\n📌 Location: Goldberg Computer Science Building\, Room 143\n💰 Cost: FREE! \nRegister Here: https://airtable.com/appkB4tLGaUIf7rIf/shrRXVDaYwEt6eTGg \n\nNote: Attendance is required for 3 sessions to earn certification\, as well as successful completion of assessment.
URL:https://shiftkeylabs.ca/event/academy-up-fundamentals-of-cloud-administration-with-azure-2-4
LOCATION:Goldberg Computer Science Building\, 6050 University Avenue\, Halifax\, Nova Scotia\, B3H 1W5\, Canada
CATEGORIES:Certification
ATTACH;FMTTYPE=image/png:https://shiftkeylabs.ca/wp-content/uploads/2025/04/Academy-1.png
END:VEVENT
BEGIN:VEVENT
DTSTART;TZID=America/Halifax:20250521T160000
DTEND;TZID=America/Halifax:20250521T180000
DTSTAMP:20260421T234229
CREATED:20250409T174615Z
LAST-MODIFIED:20250425T181357Z
UID:101276-1747843200-1747850400@shiftkeylabs.ca
SUMMARY:Academy UP: Machine Learning Basics (3/4)
DESCRIPTION:Discover the Power of Machine Learning with ACENET! \nCurious about Machine Learning (ML) and how it transforms industries? Join our engaging series of four sessions where you’ll explore the core concepts behind automation and intelligent decision-making\, including some hands-on examples. \n● Understand Key ML Principles – Learn about supervised\, unsupervised\, and reinforcement learning and their real-world applications. \n● Explore Essential Algorithms – Gain insights into Naive Bayes\, Regression\, Decision Trees\, Support Vector Machines\, and Neural Networks. \n● Learn the Fundamentals of Neural Networks and Deep Learning – Understand core concepts behind neural networks and deep learning\, their components\, and how to build a simple neural network. \n● Explore Large Language Models – Build foundational knowledge of transformer architectures including types of LLMs and their evolution\, pre-training vs. fine-tuning\, and practical considerations. \nPerfect for beginners and professionals alike\, this series will equip you with the fundamentals to navigate the world of machine learning with confidence. \nRegister now and start your ML journey today! \nThank you to Cognizant for supporting the ShiftKey Academy UP program\, making these courses possible. \n📅 Dates: May 7th\, 14th\, 21st and 28th\n⏰ Time: 4:00 PM – 6:00 PM\n📌 Location: Virtual\n💰 Cost: FREE! \nRegister Here: https://bit.ly/4jh8b7E \n\nNote: Attendance is required for 3 sessions to earn certification\, as well as successful completion of assessment.
URL:https://shiftkeylabs.ca/event/academy-up-machine-learning-3-4
LOCATION:Virtual
CATEGORIES:Certification
ATTACH;FMTTYPE=image/png:https://shiftkeylabs.ca/wp-content/uploads/2025/04/Academy-2.png
END:VEVENT
BEGIN:VEVENT
DTSTART;TZID=America/Halifax:20250521T180000
DTEND;TZID=America/Halifax:20250521T200000
DTSTAMP:20260421T234229
CREATED:20250505T165646Z
LAST-MODIFIED:20250515T124814Z
UID:101707-1747850400-1747857600@shiftkeylabs.ca
SUMMARY:Encryption Foundations Workshop
DESCRIPTION:(Now at 6-8pm!) \nDive into the essentials of data security with our Encryption Foundations Workshop! Master AES\, RSA\, SHA encryption\, and Bcrypt\, plus experience hands-on practice with CyberChef. Whether you’re new to encryption or looking to deepen your skills\, this workshop will give you the tools to protect sensitive data effectively. Join us and take your cybersecurity knowledge to the next level. \n🔗 Register Now: https://bit.ly/shiftkey-events
URL:https://shiftkeylabs.ca/event/encryption-foundations-workshop
ATTACH;FMTTYPE=image/png:https://shiftkeylabs.ca/wp-content/uploads/2025/05/Workshop-Blue.png
END:VEVENT
BEGIN:VEVENT
DTSTART;TZID=America/Halifax:20250522T180000
DTEND;TZID=America/Halifax:20250522T200000
DTSTAMP:20260421T234229
CREATED:20250409T175522Z
LAST-MODIFIED:20250415T153340Z
UID:101285-1747936800-1747944000@shiftkeylabs.ca
SUMMARY:Academy UP: Fundamentals of Cloud Administration with Azure (3/4)
DESCRIPTION:Take your Azure expertise to the next level with our deep-dive course on Microsoft Azure! This four-week program explores key cloud concepts\, including identity and access management with Entra ID\, scalable storage and compute solutions\, and network architecture best practices. You’ll also learn how to automate infrastructure deployment and optimize monitoring\, alerting\, and compliance. Perfect for those with foundational Azure knowledge looking to expand their skills\, this hands-on course will equip you with practical insights to design and manage Azure environments effectively. \nPrerequisites: \n\nKnowledge of Cloud Foundations \, a Cloud Computing course at a university or equivalent. Basic familiarity with Bash and the command line.\nBefore Day 1: Students must decide on “pay-as-you-go subscription” (take the free course to set up their subscription) or do labs in Microsoft’s sandbox.\n\nThank you to Cognizant for supporting the ShiftKey Academy UP program\, making these courses possible. \n \n📅 Dates: May 8th\, 15th\, 22nd\, and 29th \n⏰ Time: 6:00 PM – 8:00 PM\n📌 Location: Goldberg Computer Science Building\, Room 143\n💰 Cost: FREE! \nRegister Here: https://airtable.com/appkB4tLGaUIf7rIf/shrRXVDaYwEt6eTGg \n\nNote: Attendance is required for 3 sessions to earn certification\, as well as successful completion of assessment.
URL:https://shiftkeylabs.ca/event/academy-up-fundamentals-of-cloud-administration-with-azure-3-4
LOCATION:Goldberg Computer Science Building\, 6050 University Avenue\, Halifax\, Nova Scotia\, B3H 1W5\, Canada
CATEGORIES:Certification
ATTACH;FMTTYPE=image/png:https://shiftkeylabs.ca/wp-content/uploads/2025/04/Academy-1.png
END:VEVENT
BEGIN:VEVENT
DTSTART;TZID=America/Halifax:20250528T160000
DTEND;TZID=America/Halifax:20250528T180000
DTSTAMP:20260421T234229
CREATED:20250409T174643Z
LAST-MODIFIED:20250425T181330Z
UID:101278-1748448000-1748455200@shiftkeylabs.ca
SUMMARY:Academy UP: Machine Learning Basics (4/4)
DESCRIPTION:Discover the Power of Machine Learning with ACENET! \nCurious about Machine Learning (ML) and how it transforms industries? Join our engaging series of four sessions where you’ll explore the core concepts behind automation and intelligent decision-making\, including some hands-on examples. \n● Understand Key ML Principles – Learn about supervised\, unsupervised\, and reinforcement learning and their real-world applications. \n● Explore Essential Algorithms – Gain insights into Naive Bayes\, Regression\, Decision Trees\, Support Vector Machines\, and Neural Networks. \n● Learn the Fundamentals of Neural Networks and Deep Learning – Understand core concepts behind neural networks and deep learning\, their components\, and how to build a simple neural network. \n● Explore Large Language Models – Build foundational knowledge of transformer architectures including types of LLMs and their evolution\, pre-training vs. fine-tuning\, and practical considerations. \nPerfect for beginners and professionals alike\, this series will equip you with the fundamentals to navigate the world of machine learning with confidence. \nRegister now and start your ML journey today! \nThank you to Cognizant for supporting the ShiftKey Academy UP program\, making these courses possible. \n📅 Dates: May 7th\, 14th\, 21st and 28th\n⏰ Time: 4:00 PM – 6:00 PM\n📌 Location: Virtual\n💰 Cost: FREE! \nRegister Here: https://bit.ly/4jh8b7E \n\nNote: Attendance is required for 3 sessions to earn certification\, as well as successful completion of assessment.
URL:https://shiftkeylabs.ca/event/academy-up-machine-learning-4-4
LOCATION:Virtual
CATEGORIES:Certification
ATTACH;FMTTYPE=image/png:https://shiftkeylabs.ca/wp-content/uploads/2025/04/Academy-2.png
END:VEVENT
BEGIN:VEVENT
DTSTART;TZID=America/Halifax:20250529T160000
DTEND;TZID=America/Halifax:20250529T173000
DTSTAMP:20260421T234229
CREATED:20250203T185119Z
LAST-MODIFIED:20250424T123720Z
UID:100545-1748534400-1748539800@shiftkeylabs.ca
SUMMARY:Industry Showcase: Volta
DESCRIPTION:📅 Date: May 29th\, 2025 \nBy Application Only
URL:https://shiftkeylabs.ca/event/industry-showcase-volta
LOCATION:Volta\, 1800 Argyle St Unit 801\, Halifax\, Nova Scotia\, B3J 3N8\, Canada
CATEGORIES:Industry Showcase,Tech Talks
ATTACH;FMTTYPE=image/png:https://shiftkeylabs.ca/wp-content/uploads/2022/12/Shiftkey-Labs-Logo-01-e1487284025704-1200x515-1.png
END:VEVENT
BEGIN:VEVENT
DTSTART;TZID=America/Halifax:20250529T180000
DTEND;TZID=America/Halifax:20250529T200000
DTSTAMP:20260421T234229
CREATED:20250409T175559Z
LAST-MODIFIED:20250527T163252Z
UID:101287-1748541600-1748548800@shiftkeylabs.ca
SUMMARY:Academy UP: Fundamentals of Cloud Administration with Azure (4/4)
DESCRIPTION:Take your Azure expertise to the next level with our deep-dive course on Microsoft Azure! This four-week program explores key cloud concepts\, including identity and access management with Entra ID\, scalable storage and compute solutions\, and network architecture best practices. You’ll also learn how to automate infrastructure deployment and optimize monitoring\, alerting\, and compliance. Perfect for those with foundational Azure knowledge looking to expand their skills\, this hands-on course will equip you with practical insights to design and manage Azure environments effectively. \nPrerequisites: \n\nKnowledge of Cloud Foundations \, a Cloud Computing course at a university or equivalent. Basic familiarity with Bash and the command line.\nBefore Day 1: Students must decide on “pay-as-you-go subscription” (take the free course to set up their subscription) or do labs in Microsoft’s sandbox.\n\nThank you to Cognizant for supporting the ShiftKey Academy UP program\, making these courses possible. \n \n📅 Dates: May 8th\, 15th\, 22nd\, and 29th \n⏰ Time: 6:00 PM – 8:00 PM\n📌 Location: Goldberg Computer Science Building\, Room 143\n💰 Cost: FREE! \nRegister Here: https://airtable.com/appkB4tLGaUIf7rIf/shrRXVDaYwEt6eTGg \nNote: Attendance is required for 3 sessions to earn certification\, as well as successful completion of assessment.
URL:https://shiftkeylabs.ca/event/academy-up-fundamentals-of-cloud-administration-with-azure-4-4
LOCATION:Goldberg Computer Science Building\, 6050 University Avenue\, Halifax\, Nova Scotia\, B3H 1W5\, Canada
CATEGORIES:Certification
ATTACH;FMTTYPE=image/png:https://shiftkeylabs.ca/wp-content/uploads/2025/04/Academy-1.png
END:VEVENT
BEGIN:VEVENT
DTSTART;TZID=America/Halifax:20250530T173000
DTEND;TZID=America/Halifax:20250530T190000
DTSTAMP:20260421T234229
CREATED:20250515T174830Z
LAST-MODIFIED:20250527T162633Z
UID:101752-1748626200-1748631600@shiftkeylabs.ca
SUMMARY:Build Fast / Ship Fast Workshop
DESCRIPTION:Want to turn ideas into real projects in hours\, not weeks? At the Build Fast / Ship Fast Workshop\, you’ll learn how to quickly set up everything your app needs\, from auth to analytics\, so you can focus on building features and getting feedback fast. \nThis workshop is all about adopting a modern\, lean approach to software development: validating ideas early 💡\, iterating quickly 🔁\, and using automation and AI 🤖 to move faster without sacrificing quality. Whether you’re hacking on a side project or launching a startup\, this is your guide to building smart and shipping with confidence. \nYou will learn: \nNextJS\,\nShadcn\,\nClerk\,\nSupabase\,\nResend\,\nPosthog\,\nCursor\,\nGithub CoPilot \n📍 Room 134\, Goldberg Computer Science Building \n🕠 5:30 to 7:00 PM \nRegistration open now: https://bit.ly/shiftkey-events
URL:https://shiftkeylabs.ca/event/build-fast-ship-fast-workshop
LOCATION:Goldberg Computer Science Building\, 6050 University Avenue\, Halifax\, Nova Scotia\, B3H 1W5\, Canada
CATEGORIES:Skills Development,Workshop
ATTACH;FMTTYPE=image/png:https://shiftkeylabs.ca/wp-content/uploads/2025/05/Workshop-Blue-1.png
END:VEVENT
END:VCALENDAR