BEGIN:VCALENDAR
VERSION:2.0
PRODID:-//ShiftKey Labs - ECPv6.3.5//NONSGML v1.0//EN
CALSCALE:GREGORIAN
METHOD:PUBLISH
X-ORIGINAL-URL:https://shiftkeylabs.ca
X-WR-CALDESC:Events for ShiftKey Labs
REFRESH-INTERVAL;VALUE=DURATION:PT1H
X-Robots-Tag:noindex
X-PUBLISHED-TTL:PT1H
BEGIN:VTIMEZONE
TZID:Asia/Kolkata
BEGIN:STANDARD
TZOFFSETFROM:+0530
TZOFFSETTO:+0530
TZNAME:IST
DTSTART:20240101T000000
END:STANDARD
END:VTIMEZONE
BEGIN:VEVENT
DTSTART;TZID=Asia/Kolkata:20240502T170000
DTEND;TZID=Asia/Kolkata:20240502T190000
DTSTAMP:20260422T203447
CREATED:20240413T023129Z
LAST-MODIFIED:20240413T023129Z
UID:98940-1714669200-1714676400@shiftkeylabs.ca
SUMMARY:Here We Code: Tech Fusion Networking Event
DESCRIPTION:Tech Fusion: Uniting the Talent Pipeline Ecosystem \nUnder the umbrella of Here We Code\, join the Dalhousie Faculty of Computer Science for a speed networking event exclusively for the tech eco-system in Nova Scotia. \nDate: May 2\, 2024\nTime: 5:00PM-7:00PM\nLocation: Atlantica Hotel Halifax\nRegistration: https://www.eventbrite.ca/e/tech-fusion-uniting-the-talent-pipeline-ecosystem-tickets-869275966817?aff=oddtdtcreator
URL:https://shiftkeylabs.ca/event/here-we-code-tech-fusion-networking-event
CATEGORIES:Networking
ATTACH;FMTTYPE=image/jpeg:https://shiftkeylabs.ca/wp-content/uploads/2024/04/https___cdn.evbuc_.com_images_738532099_791420240663_1_original.jpg
END:VEVENT
BEGIN:VEVENT
DTSTART;VALUE=DATE:20240504
DTEND;VALUE=DATE:20240505
DTSTAMP:20260422T203447
CREATED:20240301T025449Z
LAST-MODIFIED:20240406T003715Z
UID:98468-1714780800-1714867199@shiftkeylabs.ca
SUMMARY:GameDev Atlantic 2024 Conference
DESCRIPTION:Join industry professionals in one of Canada’s fastest growing video game hubs!\nWhether you’re already in the industry\, just starting out\, or looking to join\, GameDev Atlantic is your opportunity to network\, share knowledge\, support emerging talent\, expand our industry\, and present our rapidly expanding sector on a global stage. \nJoin the industry at ShiftKey Labs\, 6050 University Ave in Halifax on May 4th to connect with business executives\, students\, developers\, and educators in a shared vision to grow our industry and prepare for the future. \n  \nTo learn more and buy tickets:\nhttps://gamedevatlantic.ca/gda24-tickets/
URL:https://shiftkeylabs.ca/event/game-dev-atlantic-2024-conference
LOCATION:Goldberg Computer Science Building\, 6050 University Avenue\, Halifax\, Nova Scotia\, B3H 1W5\, Canada
CATEGORIES:Networking,Skills Development,Tech Talks
END:VEVENT
BEGIN:VEVENT
DTSTART;VALUE=DATE:20240504
DTEND;VALUE=DATE:20240506
DTSTAMP:20260422T203447
CREATED:20240301T025552Z
LAST-MODIFIED:20240417T033448Z
UID:98470-1714780800-1714953599@shiftkeylabs.ca
SUMMARY:Generative AI & Oceans: Challenge
DESCRIPTION:On Saturday\, May 4th  and Sunday\, May 5th \, join us at the GenAI Hackathon – a weekend dedicated to using Generative AI to answer the ultimate question: How can we use Generative AI to better understand the ocean? \nThis Hackathon invites students and recent graduates to come together for a weekend of hackathon fun! Participants will have two days to develop and present a GenAI project using ocean data. You’ll have the option of one of three streams to work in: text data\, image data\, or sound data. \nTentative Schedule (subject to change): \nOn May 4th we kick things off at 10:30am with an introduction presentation featuring guest speakers. Spend the day with us and build your teams\, grab lunch\, and start working on your projects.  On May 5th the doors open at 10:30am\, we will provide the fuel to get your team going to the end of the day! Presentations take place at 3pm and judges will pick the winners. \nDates: May 4-5\, 2024\nTime: 10:30AM-4:00PM (both days)\nLocation: Rowe Management Building\nRegistration: https://buytickets.at/deepsense/1215640 
URL:https://shiftkeylabs.ca/event/generative-ai-oceans-challenge
LOCATION:Rowe Management Building\, 6100 University Avenue\, Halifax\, Nova Scotia\, B3H 4R2\, Canada
CATEGORIES:Hackathon
ATTACH;FMTTYPE=image/png:https://shiftkeylabs.ca/wp-content/uploads/2024/02/Post-2-instagram.png
END:VEVENT
BEGIN:VEVENT
DTSTART;TZID=Asia/Kolkata:20240507T190000
DTEND;TZID=Asia/Kolkata:20240507T203000
DTSTAMP:20260422T203447
CREATED:20240413T023709Z
LAST-MODIFIED:20240413T023709Z
UID:98943-1715108400-1715113800@shiftkeylabs.ca
SUMMARY:ShiftKey Academy Up: React Native Course (1/4)
DESCRIPTION:Learn new skills and build your own projects by getting ShiftKey Certified in this brand new program\, supported by Cognizant. Our first certification is in Cross-Platform App Development with React Native. Write one codebase\, deploy to many platforms (iOS\, Android\, Web\, Mac\, Windows & more). \nThese qualifications will improve your resume and profile\, giving you a boost when applying for jobs! ShiftKey Academy Up is assessing which tech skills companies are looking for\, and bringing them straight to you – for free! From App Development to Gen AI\, ShiftKey Academy Up will prepare you for the career in tech that you’re looking for. \nDates: Every Tuesday in May (May 7\, May 14\, May 21\, May 28)\nTime: 7:00PM-8:30PM\nLocation: Room 143\, Goldberg Computer Science Building\nCost: FREE!\nRegistration: https://airtable.com/appkB4tLGaUIf7rIf/shr9RecxPUSupyS7L \nPlease note: by registering for this course\, you agree to attend all four sessions in order to obtain your certification.
URL:https://shiftkeylabs.ca/event/academy-up-react-native
LOCATION:Goldberg Computer Science Building\, 6050 University Avenue\, Halifax\, Nova Scotia\, B3H 1W5\, Canada
CATEGORIES:Certification,Skills Development
ATTACH;FMTTYPE=image/jpeg:https://shiftkeylabs.ca/wp-content/uploads/2024/04/ShiftKey-Academy-UP-React-Native-Certification.jpg
END:VEVENT
BEGIN:VEVENT
DTSTART;TZID=Asia/Kolkata:20240511T093000
DTEND;TZID=Asia/Kolkata:20240511T170000
DTSTAMP:20260422T203447
CREATED:20240413T025956Z
LAST-MODIFIED:20240413T025956Z
UID:98952-1715419800-1715446800@shiftkeylabs.ca
SUMMARY:Women in Tech Summit
DESCRIPTION:Calling on all women and gender-diverse computer science students! Get ready for an empowering experience designed BY you and FOR you.\nAt the Women in Tech Summit\, we’re here to equip you with the tools\, knowledge\, and skills to THRIVE in tech. Engage in workshops\, panel discussions\, and interactive sessions led by industry pros. \nDate: May 11\, 2024\nTime: 9:30AM-5:00PM\nLocation: Goldberg Computer Science Building\nRegistration: https://www.eventbrite.ca/e/women-in-tech-summit-tickets-880326378897?aff=oddtdtcreator 
URL:https://shiftkeylabs.ca/event/women-in-tech-summit
LOCATION:Goldberg Computer Science Building\, 6050 University Avenue\, Halifax\, Nova Scotia\, B3H 1W5\, Canada
CATEGORIES:Info Session,Networking,Skills Development
ATTACH;FMTTYPE=image/jpeg:https://shiftkeylabs.ca/wp-content/uploads/2024/04/https___cdn.evbuc_.com_images_739506269_791420240663_1_original.jpg
END:VEVENT
BEGIN:VEVENT
DTSTART;TZID=Asia/Kolkata:20240514T190000
DTEND;TZID=Asia/Kolkata:20240514T203000
DTSTAMP:20260422T203447
CREATED:20240413T023834Z
LAST-MODIFIED:20240413T023834Z
UID:98946-1715713200-1715718600@shiftkeylabs.ca
SUMMARY:ShiftKey Academy Up: React Native Course (2/4)
DESCRIPTION:Learn new skills and build your own projects by getting ShiftKey Certified in this brand new program\, supported by Cognizant. Our first certification is in Cross-Platform App Development with React Native. Write one codebase\, deploy to many platforms (iOS\, Android\, Web\, Mac\, Windows & more). \nThese qualifications will improve your resume and profile\, giving you a boost when applying for jobs! ShiftKey Academy Up is assessing which tech skills companies are looking for\, and bringing them straight to you – for free! From App Development to Gen AI\, ShiftKey Academy Up will prepare you for the career in tech that you’re looking for. \nDates: Every Tuesday in May (May 7\, May 14\, May 21\, May 28)\nTime: 7:00PM-8:30PM\nLocation: Room 143\, Goldberg Computer Science Building\nCost: FREE!\nRegistration: https://airtable.com/appkB4tLGaUIf7rIf/shr9RecxPUSupyS7L \nPlease note: by registering for this course\, you agree to attend all four sessions in order to obtain your certification.
URL:https://shiftkeylabs.ca/event/academy-up-react-native-2
LOCATION:Goldberg Computer Science Building\, 6050 University Avenue\, Halifax\, Nova Scotia\, B3H 1W5\, Canada
CATEGORIES:Certification,Skills Development
ATTACH;FMTTYPE=image/jpeg:https://shiftkeylabs.ca/wp-content/uploads/2024/04/ShiftKey-Academy-UP-React-Native-Certification.jpg
END:VEVENT
BEGIN:VEVENT
DTSTART;TZID=Asia/Kolkata:20240515T080000
DTEND;TZID=Asia/Kolkata:20240515T170000
DTSTAMP:20260422T203447
CREATED:20240508T232945Z
LAST-MODIFIED:20240516T032456Z
UID:99001-1715760000-1715792400@shiftkeylabs.ca
SUMMARY:STEM Connector: Ocean Industry Networking Event @ The PIER
DESCRIPTION:Dive into a Sea of Opportunities! 🌟 Join ShiftKey\, DeepSense\, Surge and our partners at the PIER on May 15th at 4 PM for the Ocean Industry Networking Event. Connect with industry professionals\, share ideas\, and chart your course to an ocean tech career. Don’t miss this chance to make waves in the blue economy! \nDate: May 15\, 2024\nTime: 4:00PM-6:00PM\nLocation: The PIER – 1209 Marginal Road\, Halifax\nRegistration: https://www.eventbrite.ca/e/ocean-industry-networking-event-tickets-884925143927?aff=oddtdtcreator
URL:https://shiftkeylabs.ca/event/stem-connector-ocean-industry-networking-event-the-pier
LOCATION:The PIER\, 1209 Marginal Road\, Halifax\, Nova Scotia\, Canada
CATEGORIES:Networking,Off-Campus
ATTACH;FMTTYPE=image/png:https://shiftkeylabs.ca/wp-content/uploads/2024/05/stem-connector.png
END:VEVENT
BEGIN:VEVENT
DTSTART;TZID=Asia/Kolkata:20240521T190000
DTEND;TZID=Asia/Kolkata:20240521T203000
DTSTAMP:20260422T203447
CREATED:20240413T023909Z
LAST-MODIFIED:20240413T023909Z
UID:98948-1716318000-1716323400@shiftkeylabs.ca
SUMMARY:ShiftKey Academy Up: React Native Course (3/4)
DESCRIPTION:Learn new skills and build your own projects by getting ShiftKey Certified in this brand new program\, supported by Cognizant. Our first certification is in Cross-Platform App Development with React Native. Write one codebase\, deploy to many platforms (iOS\, Android\, Web\, Mac\, Windows & more). \nThese qualifications will improve your resume and profile\, giving you a boost when applying for jobs! ShiftKey Academy Up is assessing which tech skills companies are looking for\, and bringing them straight to you – for free! From App Development to Gen AI\, ShiftKey Academy Up will prepare you for the career in tech that you’re looking for. \nDates: Every Tuesday in May (May 7\, May 14\, May 21\, May 28)\nTime: 7:00PM-8:30PM\nLocation: Room 143\, Goldberg Computer Science Building\nCost: FREE!\nRegistration: https://airtable.com/appkB4tLGaUIf7rIf/shr9RecxPUSupyS7L \nPlease note: by registering for this course\, you agree to attend all four sessions in order to obtain your certification.
URL:https://shiftkeylabs.ca/event/academy-up-react-native-3
LOCATION:Goldberg Computer Science Building\, 6050 University Avenue\, Halifax\, Nova Scotia\, B3H 1W5\, Canada
CATEGORIES:Certification,Skills Development
ATTACH;FMTTYPE=image/jpeg:https://shiftkeylabs.ca/wp-content/uploads/2024/04/ShiftKey-Academy-UP-React-Native-Certification.jpg
END:VEVENT
BEGIN:VEVENT
DTSTART;TZID=Asia/Kolkata:20240528T190000
DTEND;TZID=Asia/Kolkata:20240528T203000
DTSTAMP:20260422T203447
CREATED:20240413T024049Z
LAST-MODIFIED:20240413T024049Z
UID:98950-1716922800-1716928200@shiftkeylabs.ca
SUMMARY:ShiftKey Academy Up: React Native Course (4/4)
DESCRIPTION:Learn new skills and build your own projects by getting ShiftKey Certified in this brand new program\, supported by Cognizant. Our first certification is in Cross-Platform App Development with React Native. Write one codebase\, deploy to many platforms (iOS\, Android\, Web\, Mac\, Windows & more). \nThese qualifications will improve your resume and profile\, giving you a boost when applying for jobs! ShiftKey Academy Up is assessing which tech skills companies are looking for\, and bringing them straight to you – for free! From App Development to Gen AI\, ShiftKey Academy Up will prepare you for the career in tech that you’re looking for. \nDates: Every Tuesday in May (May 7\, May 14\, May 21\, May 28)\nTime: 7:00PM-8:30PM\nLocation: Room 143\, Goldberg Computer Science Building\nCost: FREE!\nRegistration: https://airtable.com/appkB4tLGaUIf7rIf/shr9RecxPUSupyS7L \nPlease note: by registering for this course\, you agree to attend all four sessions in order to obtain your certification.
URL:https://shiftkeylabs.ca/event/academy-up-react-native-4
LOCATION:Goldberg Computer Science Building\, 6050 University Avenue\, Halifax\, Nova Scotia\, B3H 1W5\, Canada
CATEGORIES:Certification,Skills Development
ATTACH;FMTTYPE=image/jpeg:https://shiftkeylabs.ca/wp-content/uploads/2024/04/ShiftKey-Academy-UP-React-Native-Certification.jpg
END:VEVENT
END:VCALENDAR