BEGIN:VCALENDAR
VERSION:2.0
PRODID:-//ShiftKey Labs - ECPv6.3.5//NONSGML v1.0//EN
CALSCALE:GREGORIAN
METHOD:PUBLISH
X-WR-CALNAME:ShiftKey Labs
X-ORIGINAL-URL:https://shiftkeylabs.ca
X-WR-CALDESC:Events for ShiftKey Labs
REFRESH-INTERVAL;VALUE=DURATION:PT1H
X-Robots-Tag:noindex
X-PUBLISHED-TTL:PT1H
BEGIN:VTIMEZONE
TZID:Asia/Kolkata
BEGIN:STANDARD
TZOFFSETFROM:+0530
TZOFFSETTO:+0530
TZNAME:IST
DTSTART:20240101T000000
END:STANDARD
END:VTIMEZONE
BEGIN:VEVENT
DTSTART;VALUE=DATE:20240302
DTEND;VALUE=DATE:20240304
DTSTAMP:20260422T230534
CREATED:20240208T055126Z
LAST-MODIFIED:20240210T023031Z
UID:98206-1709337600-1709510399@shiftkeylabs.ca
SUMMARY:Cognizant BrAInstorm Challenge
DESCRIPTION:Introducing the Cognizant BrAInstorm Challenge\, an innovation challenge for students across Atlantic Canada! \nThis is your opportunity to brAInstorm (see what I did there?) and present technological solutions to a real-time problem with the mentoring of @Cognizant leaders. The winning team will: \n💰 Win a cash prize \n🤝 Winning teams get first access to interview for Cognizant’s early career opportunities (a great way to carve your path from #Campus2Cognizan \n👨‍💻 Earn a seat at our virtual Generative AI Externship \nThe Cognizant BrAInstorm Challenge is your opportunity to reimagine the future. In groups of 5\, students will have 24 hours to brAInstorm and present technological solutions to a real-world problem. A fusion of cutting-edge tech and strategic problem solving\, this is an event not to be missed! \n  \nEligibility \nThe Cognizant BrAInstorm Challenge is open to post-secondary tech students across Atlantic Canada\, and is best suited for upper year students. \nTeams \nParticipation will be in teams of 5 people\, and you can either come as a team (each team member must register individually) or you can join a team when you arrive. We will be hosting a small “team formation” session for those looking for team members after the kick-off. \nAbout Cognizant \nCognizant is one of the world’s leading IT professional services firms. We help our clients modernize technology\, reimagine processes and transform experiences so they can stay ahead in our fast-changing world. As we work toward becoming the largest IT employer in Canada\, we welcome professionals passionate about life-long learning and improving the lives of individuals across the country—and around the world. Learn more about life at #CognizantCanada. \n  \nReady to take on the challenge and reimagine the future? \nRegister now!: https://bit.ly/cognizant-challenge \n 
URL:https://shiftkeylabs.ca/event/cognizant-brainstorm-challenge
LOCATION:Goldberg Computer Science Building\, 6050 University Avenue\, Halifax\, Nova Scotia\, B3H 1W5\, Canada
CATEGORIES:Hackathon,Networking
ATTACH;FMTTYPE=image/jpeg:https://shiftkeylabs.ca/wp-content/uploads/2024/02/Post-BrAInstorm-Challenge_final.jpg
END:VEVENT
BEGIN:VEVENT
DTSTART;TZID=Asia/Kolkata:20240309T110000
DTEND;TZID=Asia/Kolkata:20240309T153000
DTSTAMP:20260422T230534
CREATED:20240227T043440Z
LAST-MODIFIED:20240227T045819Z
UID:98448-1709982000-1709998200@shiftkeylabs.ca
SUMMARY:STEM Connector: Public Speaking Workshop
DESCRIPTION:Join STEM Connector\, Dalhousie Faculty of Computer Science\, and the Computer Science Society for a Public Speaking Workshop! Learn from the pros about the art of public speaking\, keeping your audience engaged\, and common mistakes! After lunch\, practice your public speaking skills with a debate\, and there will be prizes for the best speakers. Lunch and snacks will be provided. We can’t wait to see you there! \nRegister now: https://www.tickettailor.com/events/stemconnector/1171947 
URL:https://shiftkeylabs.ca/event/stem-connector-public-speaking-workshop
LOCATION:Goldberg Computer Science Building\, 6050 University Avenue\, Halifax\, Nova Scotia\, B3H 1W5\, Canada
CATEGORIES:Networking
ATTACH;FMTTYPE=image/png:https://shiftkeylabs.ca/wp-content/uploads/2024/02/Public-Speaking-Workshop.png
END:VEVENT
BEGIN:VEVENT
DTSTART;TZID=Asia/Kolkata:20240312T100000
DTEND;TZID=Asia/Kolkata:20240312T150000
DTSTAMP:20260422T230534
CREATED:20240208T055430Z
LAST-MODIFIED:20240208T055542Z
UID:98210-1710237600-1710255600@shiftkeylabs.ca
SUMMARY:Global Game Jam NEXT - Amherst (Youth)
DESCRIPTION:GGJ NEXT® is an annual event operated by the Global Game Jam® organization to serve youth who are interested in game creation! \nIgnite Atlantic have teamed up with ShiftKey Labs\, SuperNOVA\, The Town of Amherst and Cumberland Community Youth Development Centre to host Game Jam Next which is part of a global initiative to encourage youth to stretch their creative muscles in the world of game design! \nThis event will be held in person in Amherst and is for those aged 13-17.  \nRegister here: https://www.eventbrite.ca/e/game-jam-next-tickets-809706813877
URL:https://shiftkeylabs.ca/event/global-game-jam-next-amherst-youth
CATEGORIES:Hackathon,Under 18
ATTACH;FMTTYPE=image/png:https://shiftkeylabs.ca/wp-content/uploads/2024/02/Game-Jam-Next-3.png
END:VEVENT
BEGIN:VEVENT
DTSTART;TZID=Asia/Kolkata:20240312T180000
DTEND;TZID=Asia/Kolkata:20240312T203000
DTSTAMP:20260422T230534
CREATED:20240301T014402Z
LAST-MODIFIED:20240301T014402Z
UID:98457-1710266400-1710275400@shiftkeylabs.ca
SUMMARY:Women in Tech Society: We Talk Tech Panel
DESCRIPTION:🌟 Attention all computer science students! 🌟 We’re thrilled to invite you to our exclusive hybrid event\, where you’ll embark on a journey through corporate landscapes alongside experts from Ubisoft\, AXIS Capital\, EfficiencyOne\, and FCS. Experience the best of both worlds with engaging panels and interactive round table discussions. Gain invaluable insider insights and seize the opportunity to directly engage with our esteemed panelists. 🏙 Don’t miss out on this unique opportunity! \nDate: March 12\, 2024 @ 6:00PM\nLocation: Room 430\, Goldberg Computer Science Building \nRegister now: https://forms.office.com/pages/responsepage.aspx?id=mRm4YH8LLUGSo-F9iunj4IN9EduLehJLq1eM5La5md5UQVhJWUM0R1dCUUpVMVlSS1lWR0UyNFIxRS4u
URL:https://shiftkeylabs.ca/event/women-in-tech-society-we-talk-tech-panel
LOCATION:Goldberg Computer Science Building\, 6050 University Avenue\, Halifax\, Nova Scotia\, B3H 1W5\, Canada
CATEGORIES:Networking
END:VEVENT
BEGIN:VEVENT
DTSTART;TZID=Asia/Kolkata:20240314T183000
DTEND;TZID=Asia/Kolkata:20240314T193000
DTSTAMP:20260422T230534
CREATED:20240227T043821Z
LAST-MODIFIED:20240306T053843Z
UID:98450-1710441000-1710444600@shiftkeylabs.ca
SUMMARY:Tech Talk: Ibad Khan from IBM
DESCRIPTION:ShiftKey’s next Tech Talk features Ibad Khan\, an Application Developer at IBM. Ibad is going to delve into the topics of full-stack web development and navigating Agile Scrum-driven teams for enhanced performance. \nDate : March 14\, 2024\nLocation : Room 430 Goldberg Computer Science Building\nTime : 6:30PM-7:30PM\nHost : Ibad Khan \nRegister now: https://bit.ly/ibm-tech-talk  \n 
URL:https://shiftkeylabs.ca/event/tech-talk-ibad-khan-from-ibm
LOCATION:Goldberg Computer Science Building\, 6050 University Avenue\, Halifax\, Nova Scotia\, B3H 1W5\, Canada
CATEGORIES:Networking,Tech Talks
ATTACH;FMTTYPE=image/png:https://shiftkeylabs.ca/wp-content/uploads/2024/02/IBM-4.png
END:VEVENT
BEGIN:VEVENT
DTSTART;TZID=Asia/Kolkata:20240315T160000
DTEND;TZID=Asia/Kolkata:20240315T170000
DTSTAMP:20260422T230534
CREATED:20240312T220556Z
LAST-MODIFIED:20240313T235504Z
UID:98528-1710518400-1710522000@shiftkeylabs.ca
SUMMARY:Industry Showcase: Yaser Alkayale from Instagram by Meta
DESCRIPTION:Tech Talks meet Industry Showcases! \nShiftKey Labs is teaming up with the Faculty of Computer Science to host Yaser Alkayale\, a computer science graduate now a tech lead on the Instagram Pro Ecosystem team. \nDate: Friday March 15\, 2024 \nTime: 4-5:30pm \nLocation: Room 429/430\, Slonim Conference Room. Goldberg Computer Science Building \nThis is an in-person event only. \nBenefits of attending:  \n\nMeet a Software Engineer currently working at Instagram by Meta\nLearn about Yaser’s career journey from CS student at Dal to Software Engineer at Meta/Instagram.\nGet advice on how to build a career in Product Engineering (technical side) and/or Software Engineering.\n\nTo register\, send an email with your name\, email address and what school you attend to info@shiftkeylabs.ca. \n 
URL:https://shiftkeylabs.ca/event/industry-showcase-yaser-alkayale-from-instagram-by-meta
LOCATION:Goldberg Computer Science Building\, 6050 University Avenue\, Halifax\, Nova Scotia\, B3H 1W5\, Canada
CATEGORIES:Networking,Tech Talks
ATTACH;FMTTYPE=image/png:https://shiftkeylabs.ca/wp-content/uploads/2024/03/1710258943520.png
END:VEVENT
BEGIN:VEVENT
DTSTART;TZID=Asia/Kolkata:20240318T170000
DTEND;TZID=Asia/Kolkata:20240318T180000
DTSTAMP:20260422T230534
CREATED:20240208T055010Z
LAST-MODIFIED:20240313T234832Z
UID:98204-1710781200-1710784800@shiftkeylabs.ca
SUMMARY:ShiftKey Works Info Session
DESCRIPTION:Presenting ShiftKey Works\, a brand new initiative that will connect tech and computer science students with real-world industry experience. Hosted by ShiftKey Labs\, Works is tailored to students looking to balance education and employment in the face of increasing financial burdens. Works connects students with engaging part-time jobs that double as valuable experience in your chosen field\, skill-building opportunities\, and networking prospects within Nova Scotia’s tech ecosystem. \nFind out about how you can get started with ShiftKey Works by attending the Info session on March 18th! \nDate: March 18\, 2024 \nTime: 5:00PM \nLocation: Room 430 Goldberg Computer Science Building \nRegistration: No registration required; drop-in only \n 
URL:https://shiftkeylabs.ca/event/shiftkey-works-info-session
LOCATION:Goldberg Computer Science Building\, 6050 University Avenue\, Halifax\, Nova Scotia\, B3H 1W5\, Canada
CATEGORIES:Info Session
ATTACH;FMTTYPE=image/jpeg:https://shiftkeylabs.ca/wp-content/uploads/2024/02/ShiftKey-Works.jpg
END:VEVENT
BEGIN:VEVENT
DTSTART;TZID=Asia/Kolkata:20240319T150000
DTEND;TZID=Asia/Kolkata:20240319T160000
DTSTAMP:20260422T230534
CREATED:20240301T014950Z
LAST-MODIFIED:20240313T235045Z
UID:98460-1710860400-1710864000@shiftkeylabs.ca
SUMMARY:STEM Connector: Innovate\, Create\, Elevate - Lessons from Entrepreneurs
DESCRIPTION:Are you interested in learning more about entrepreneurship? Join us for our last STEM connector event of the semester as we talk with a panel of entrepreneurs about their journeys through their ventures. Join us virtually on March 19 at 3pm as we delve into the multifaceted world of entrepreneurship\, uncovering the challenges\, triumphs\, and invaluable lessons learned along the way. You’ll also have the chance to ask our panel anything you’ve been curious about in entrepreneurship. Whether you’re a seasoned entrepreneur\, aspiring startup founder\, or simply curious about the entrepreneurial ecosystem\, this panel promises valuable insights\, inspiration\, and takeaways. Don’t miss this opportunity to celebrate the spirit of entrepreneurship and empower the next generation of trailblazers.  \nDate: March 19\, 2024 \nTime: 3:00PM \nLocation: Virtual! \nRegistration: https://www.tickettailor.com/events/stemconnector/1165860
URL:https://shiftkeylabs.ca/event/stem-connector-innovate-create-elevate-lessons-from-entrepreneurs
CATEGORIES:Networking,Virtual
ATTACH;FMTTYPE=image/png:https://shiftkeylabs.ca/wp-content/uploads/2024/02/Screenshot-2024-03-13-111950.png
END:VEVENT
BEGIN:VEVENT
DTSTART;TZID=Asia/Kolkata:20240320T180000
DTEND;TZID=Asia/Kolkata:20240320T190000
DTSTAMP:20260422T230534
CREATED:20240301T015114Z
LAST-MODIFIED:20240320T040700Z
UID:98462-1710957600-1710961200@shiftkeylabs.ca
SUMMARY:Say Hello to... Sharepoint
DESCRIPTION:— POSTPONED — \nExplore the Power of SharePoint\, popular tool for seamless teamwork\, document management\, and workflow automation! Whether you’re in healthcare\, finance\, or any industry\, SharePoint is your ultimate tool for bringing teams together and streamlining work processes. Join us for Intro to SharePoint workshop where we’ll cover the basics of SharePoint and its features. Learn how to create sites\, manage permissions efficiently\, and seamlessly integrate with Microsoft suite tools with ease. Whether you’re a tech enthusiast\, business professional\, or simply curious about boosting productivity\, SharePoint offers something for everyone. Register now to dive in and explore SharePoint! \nDate: March 20\, 2024 \nTime: 6:00 – 7:00 PM \nLocation: Goldberg Computer Science Building Room 430. \nRegistration: https://airtable.com/appkB4tLGaUIf7rIf/shr19FWbGQnTFLkV0
URL:https://shiftkeylabs.ca/event/say-hello-to-sharepoint
LOCATION:Goldberg Computer Science Building\, 6050 University Avenue\, Halifax\, Nova Scotia\, B3H 1W5\, Canada
CATEGORIES:Say Hello to,Skills Development
ATTACH;FMTTYPE=image/jpeg:https://shiftkeylabs.ca/wp-content/uploads/2024/02/SharePoint.jpg
END:VEVENT
BEGIN:VEVENT
DTSTART;VALUE=DATE:20240323
DTEND;VALUE=DATE:20240325
DTSTAMP:20260422T230534
CREATED:20240301T025238Z
LAST-MODIFIED:20240313T235234Z
UID:98465-1711152000-1711324799@shiftkeylabs.ca
SUMMARY:Arduino Days
DESCRIPTION:Arduino Days is an annual global event (11th Edition) that Arduino has worldwide – workshops\, events\, talks… makers around the globe unite! \nA keen group of students have been working throughout the month of March to prepare an Arduino based Escape Room! During the Arduino Days on March 23 and 24\, folks from across Nova Scotia are invited to challenge themselves by visiting the Escape Room and seeing if they can make it through the tough puzzles! The theme for the Escape Room is Good AI & Bad AI. \nAttendees will be asked to book a time slot in advance. Registration information coming soon! \nPlease note: This event is in person in Truro!
URL:https://shiftkeylabs.ca/event/arduino-days
LOCATION:Truro\, Truro\, Canada
CATEGORIES:Off-Campus,Skills Development
ATTACH;FMTTYPE=image/jpeg:https://shiftkeylabs.ca/wp-content/uploads/2024/02/Arduino-Days-Instagram-Post.jpg
END:VEVENT
BEGIN:VEVENT
DTSTART;TZID=Asia/Kolkata:20240326T190000
DTEND;TZID=Asia/Kolkata:20240326T203000
DTSTAMP:20260422T230534
CREATED:20240312T222146Z
LAST-MODIFIED:20240322T221150Z
UID:98537-1711479600-1711485000@shiftkeylabs.ca
SUMMARY:Say Hello to... React Native
DESCRIPTION:In Say Hello to… React Native\, we’ll be covering the fundamentals of cross-platform app development with React Native by coding an app together. React Native makes app coding much more accessible than ever before.Topics include:\n– Web-based prototyping with Expo Snack\n– JSX\n– Tailwind Styling\n– Core React Native Components\n– Creating Custom Components\n– React Hooks\, State & Side-effects \nBring your laptop (Mac or PC) and iOS / Android phone. \nDate: March 26\, 2024 \nTime: 7:00PM-8:30PM \nLocation: Room 430\, Goldberg Computer Science Building \nRegistration: https://airtable.com/appkB4tLGaUIf7rIf/shrmo0NjEkCyar9P7
URL:https://shiftkeylabs.ca/event/say-hello-to-react-native
LOCATION:Goldberg Computer Science Building\, 6050 University Avenue\, Halifax\, Nova Scotia\, B3H 1W5\, Canada
CATEGORIES:Say Hello to,Skills Development
ATTACH;FMTTYPE=image/png:https://shiftkeylabs.ca/wp-content/uploads/2024/03/React-Native.png
END:VEVENT
BEGIN:VEVENT
DTSTART;TZID=Asia/Kolkata:20240328T173000
DTEND;TZID=Asia/Kolkata:20240328T190000
DTSTAMP:20260422T230534
CREATED:20240320T055410Z
LAST-MODIFIED:20240320T055533Z
UID:98707-1711647000-1711652400@shiftkeylabs.ca
SUMMARY:Get Started with Freelancing
DESCRIPTION:Delve into finding your niche\, making money through unique freelancing opportunities beyond conventional part-time jobs\, creating a captivating portfolio\, and mastering time management at the “Get Started with Freelancing” 💰 💻. This dynamic gathering aims to empower students with the essential know-how of kickstarting a freelancing career while effectively balancing academics. Ignite your entrepreneurial spark and step into a world of endless possibilities!
URL:https://shiftkeylabs.ca/event/get-started-with-freelancing
LOCATION:Arthur L. Irving Entrepreneurhip Center\, 5907 Gorsebrook Ave\, Halifax\, Nova Scotia\, B3H 1G3\, Canada
CATEGORIES:Networking,Say Hello to
ATTACH;FMTTYPE=image/png:https://shiftkeylabs.ca/wp-content/uploads/2024/03/Intro-to-Freelance.png
END:VEVENT
END:VCALENDAR