BEGIN:VCALENDAR
VERSION:2.0
PRODID:-//ShiftKey Labs - ECPv6.3.5//NONSGML v1.0//EN
CALSCALE:GREGORIAN
METHOD:PUBLISH
X-ORIGINAL-URL:https://shiftkeylabs.ca
X-WR-CALDESC:Events for ShiftKey Labs
REFRESH-INTERVAL;VALUE=DURATION:PT1H
X-Robots-Tag:noindex
X-PUBLISHED-TTL:PT1H
BEGIN:VTIMEZONE
TZID:Asia/Kolkata
BEGIN:STANDARD
TZOFFSETFROM:+0530
TZOFFSETTO:+0530
TZNAME:IST
DTSTART:20240101T000000
END:STANDARD
TZID:America/Halifax
BEGIN:DAYLIGHT
TZOFFSETFROM:-0400
TZOFFSETTO:-0300
TZNAME:ADT
DTSTART:20240310T060000
END:DAYLIGHT
BEGIN:STANDARD
TZOFFSETFROM:-0300
TZOFFSETTO:-0400
TZNAME:AST
DTSTART:20241103T050000
END:STANDARD
END:VTIMEZONE
BEGIN:VEVENT
DTSTART;VALUE=DATE:20240202
DTEND;VALUE=DATE:20240205
DTSTAMP:20260423T013654
CREATED:20240111T052516Z
LAST-MODIFIED:20240202T043743Z
UID:97487-1706832000-1707091199@shiftkeylabs.ca
SUMMARY:MRI & Neural Data Hackathon
DESCRIPTION:Dive into the world of cutting-edge brain imaging technology and neural data analysis with the MRI & Neural Data Hackathon! Unleash your creativity\, collaborate with fellow innovators\, and push boundaries while working with experts and researchers from Dal’s Department of Psychiatry & Department of Psychology and Neuroscience. \nThis event is hosted by Pulse\, Shiftkey\, and SURGE on Dal’s upper campus from February 2nd-4th. Further details will be emailed after registration. \nStudents from any program are welcome\, but spaces available are limited. \nRegister now!: https://pulseinnovation.ca/#mrihack \nSCHEDULE: \nFriday\, Feb 2\, 2024\n1:00PM-2:00PM        Welcome & Opening Presentations\n2:00PM-3:00PM        Icebreakers & Team Formation\n3:00PM-6:00PM        Work Time! \nSaturday\, Feb 3\, 2024\n10:00AM-12:00PM    Work Time!\n12:00PM-1:00PM      Lunch\n1:00PM-5:00PM        Work Time! \nSunday\, Feb 4\, 2024\n10:00AM-12:00PM    Work Time!\n12:00PM-1:00PM      Lunch\n1:00PM-2:00PM        Work Time!\n2:00PM-3:00PM        Final Presentations\n3:00PM-4:00PM       Judging & Close
URL:https://shiftkeylabs.ca/event/mri-neural-data-hack
LOCATION:SURGE Innovation\, Room O2660\, 1355 Oxford Street\, Halifax\, Nova Scotia\, B3H 4R2\, Canada
CATEGORIES:Hackathon
ATTACH;FMTTYPE=image/jpeg:https://shiftkeylabs.ca/wp-content/uploads/2024/01/Neural-Data-Hack-1.jpg
END:VEVENT
BEGIN:VEVENT
DTSTART;VALUE=DATE:20240205
DTEND;VALUE=DATE:20240221
DTSTAMP:20260423T013654
CREATED:20240112T224713Z
LAST-MODIFIED:20240112T224713Z
UID:97500-1707091200-1708473599@shiftkeylabs.ca
SUMMARY:Ocean of Data Challenge: Seafood and You
DESCRIPTION:Join the Ocean of Data Challenge by COVE and DeepSense for some creative collaboration and idea generation! This free event will kick off on Monday\, February 5th at 6pm ADT with an introduction to the Challenge\, presentations from experts\, and the chance to ask questions to help idea exploration. Participants present their submissions and winners are announced on a live Zoom meeting on Tuesday\, February 20th at 6pm ADT. \nThis Data Challenge will invite participants to consider the role of the seafood industry in Canada. Answer the ultimate question: How does the seafood industry impact Canadians? We are inviting students at post-secondary institutions across Atlantic Canada to use fisheries\, aquaculture\, and trade data to examine how we can illuminate the significant role of the seafood industry in our day to day lives through this Challenge. \nFind out more by visiting the DeepSense website: https://deepsense.ca/ocean-of-data-challenge/ \n 
URL:https://shiftkeylabs.ca/event/ocean-of-data-challenge-seafood-and-you
ATTACH;FMTTYPE=image/png:https://shiftkeylabs.ca/wp-content/uploads/2024/01/Ocean-of-Data-Instagram-Post-1.png
END:VEVENT
BEGIN:VEVENT
DTSTART;TZID=Asia/Kolkata:20240208T180000
DTEND;TZID=Asia/Kolkata:20240208T193000
DTSTAMP:20260423T013654
CREATED:20240201T005518Z
LAST-MODIFIED:20240206T075229Z
UID:98069-1707415200-1707420600@shiftkeylabs.ca
SUMMARY:Say Hello to... R
DESCRIPTION:Ever thought of conquering statistical analysis without getting tangled in the web of coding chaos? Fancy turning your data into visual masterpieces without losing your sanity over formatting?Say goodbye to complexity and hello to the user-friendly R studio. Not sure where to start? No worries\, Statistician Joy Liu will present an engaging exploration of R studio\, providing a comprehensive overview of its fundamental functionalities and general applications.In this hands-on workshop\, participants will delve into the essential aspects of R applications\, focusing on reading data\, creating data visualizations\, and mastering report writing through Rmarkdown.The workshop will conclude with an interactive Q&A session\, providing attendees with the opportunity to request content tailored to their specific interests in R. Based on these inquiries\, we will organize additional workshops to delve into more specialized and targeted topics. Your learning journey doesn’t end here – it evolves with your questions and needs.Upon completion of the workshop\, attendees will acquire a solid familiarity with the foundational functional tools within R\, empowering them with essential skills for practical application. \nThis event is in collaboration with the Math & Stat Society. \nSpeaker: Joy Liu\nTime: 6:00PM-7:30PM\nLocation: Room 143\, Goldberg Computer Science Building \nRegister using the link below! \nhttps://airtable.com/appkB4tLGaUIf7rIf/shrtf6qM7UKw60Lg7 
URL:https://shiftkeylabs.ca/event/say-hello-to-r
LOCATION:Goldberg Computer Science Building\, 6050 University Avenue\, Halifax\, Nova Scotia\, B3H 1W5\, Canada
CATEGORIES:Say Hello to
ATTACH;FMTTYPE=image/png:https://shiftkeylabs.ca/wp-content/uploads/2024/01/R-Programming-1.png
END:VEVENT
BEGIN:VEVENT
DTSTART;TZID=Asia/Kolkata:20240215T183000
DTEND;TZID=Asia/Kolkata:20240215T193000
DTSTAMP:20260423T013654
CREATED:20240111T053504Z
LAST-MODIFIED:20240208T054901Z
UID:97492-1708021800-1708025400@shiftkeylabs.ca
SUMMARY:Say Hello to... Cloud Computing
DESCRIPTION:🚀 Ready to soar into the future of technology? Join us for an immersive dive into the world of cloud computing! 🌐\nDiscover why cloud computing is not just the future but the present necessity for businesses worldwide. 🌟 Explore its essentials\, unravel different types\, and gain insights into key strategies. 💡\nCurious about the top cloud providers? 🤔 We’ve got you covered! Learn about their offerings and how they can empower your business.\nCertifications? Reimbursement policies? Don’t worry; we’ll navigate you through all the important details to ensure you’re well-equipped for success in the cloud era. 💼\nAnd to top it off\, a dedicated Q&A session awaits to address all your burning questions. 🔥\nDon’t miss out on this enlightening journey! Secure your spot now and elevate your understanding of cloud computing. ☁️ \nJoin us on 15th February\, 2024 at 6:30 – 7:30 PM at Goldberg Computer Science Building Room 430. \nRegister using the link: https://lnkd.in/ekegT3Jv
URL:https://shiftkeylabs.ca/event/say-hello-to-cloud-computing
LOCATION:Goldberg Computer Science Building\, 6050 University Avenue\, Halifax\, Nova Scotia\, B3H 1W5\, Canada
CATEGORIES:Say Hello to
ATTACH;FMTTYPE=image/jpeg:https://shiftkeylabs.ca/wp-content/uploads/2024/01/Cloud-Computing.jpg
END:VEVENT
BEGIN:VEVENT
DTSTART;VALUE=DATE:20240221
DTEND;VALUE=DATE:20240226
DTSTAMP:20260423T013654
CREATED:20240111T053000Z
LAST-MODIFIED:20240217T055525Z
UID:97490-1708473600-1708905599@shiftkeylabs.ca
SUMMARY:Full Stack Dev Sprint
DESCRIPTION:Get ready for an intensive 4-day\, 3-hour daily sprint designed to elevate your full stack development skills! Aimed at university students in Nova Scotia\, this sprint covers React\, Node JS\, and NoSQL databases\, with hands-on experience in API development\, state management\, and more. You’ll also have the opportunity to showcase your project\, ranging from e-commerce to habit tracking. Don’t miss this chance to boost your web development expertise! \nWednesday\, Feb 21  |  3:00PM-6:00PM\nThursday\, Feb 22  |  3:00PM-6:00PM\nFriday\, Feb 23  |  3:00PM-6:00PM\nSaturday\, Feb 24  |  3:00PM-6:00PM \nPrerequisites include basic HTML\, CSS\, JavaScript knowledge\, and a GitHub account.
URL:https://shiftkeylabs.ca/event/full-stack-dev-sprint
LOCATION:Goldberg Computer Science Building\, 6050 University Avenue\, Halifax\, Nova Scotia\, B3H 1W5\, Canada
CATEGORIES:Hackathon,Skills Development
ATTACH;FMTTYPE=image/png:https://shiftkeylabs.ca/wp-content/uploads/2024/01/Full-Stack-Dev-Sprint.png
END:VEVENT
END:VCALENDAR