BEGIN:VCALENDAR
VERSION:2.0
PRODID:-//ShiftKey Labs - ECPv6.3.5//NONSGML v1.0//EN
CALSCALE:GREGORIAN
METHOD:PUBLISH
X-ORIGINAL-URL:https://shiftkeylabs.ca
X-WR-CALDESC:Events for ShiftKey Labs
REFRESH-INTERVAL;VALUE=DURATION:PT1H
X-Robots-Tag:noindex
X-PUBLISHED-TTL:PT1H
BEGIN:VTIMEZONE
TZID:America/Halifax
BEGIN:DAYLIGHT
TZOFFSETFROM:-0400
TZOFFSETTO:-0300
TZNAME:ADT
DTSTART:20260308T060000
END:DAYLIGHT
BEGIN:STANDARD
TZOFFSETFROM:-0300
TZOFFSETTO:-0400
TZNAME:AST
DTSTART:20261101T050000
END:STANDARD
END:VTIMEZONE
BEGIN:VEVENT
DTSTART;TZID=America/Halifax:20260331T180000
DTEND;TZID=America/Halifax:20260331T200000
DTSTAMP:20260421T181818
CREATED:20260209T202904Z
LAST-MODIFIED:20260225T152437Z
UID:103865-1774980000-1774987200@shiftkeylabs.ca
SUMMARY:Academy UP: Core Cybersecurity (5/5)
DESCRIPTION: Ready to explore the world of cybersecurity? \nJoin the Core Cybersecurity Course by ShiftKey Academy UP\, led by Aman Bhalla and Kaitlyn Woodworth. This hands-on course introduces key areas like Information Security\, Threat Assessments\, and Cloud Infrastructure Security—helping you build practical skills to assess risks\, safeguard data\, and navigate real cybersecurity frameworks. \n Open to all disciplines and skill levels—no prior experience required! \n Tuesdays in March (March 3\, 10\, 17\, 24 & 31)\n 6:00 PM – 8:00 PM\n Goldberg Room 127 (March 10 will be held in Room 143) \nThank you to Cognizant for supporting the ShiftKey Academy UP program and making these opportunities possible. \nRegistration is now open: https://bit.ly/shiftkey-events
URL:https://shiftkeylabs.ca/event/academy-up-core-cybersecurity-5-5
LOCATION:Goldberg Computer Science Building\, 6050 University Avenue\, Halifax\, Nova Scotia\, B3H 1W5\, Canada
CATEGORIES:Academy UP
ATTACH;FMTTYPE=image/jpeg:https://shiftkeylabs.ca/wp-content/uploads/2026/02/Academy-Up-Website-Event-Images-4.jpg
END:VEVENT
BEGIN:VEVENT
DTSTART;TZID=America/Halifax:20260401T180000
DTEND;TZID=America/Halifax:20260401T193000
DTSTAMP:20260421T181818
CREATED:20260325T170723Z
LAST-MODIFIED:20260325T171107Z
UID:103979-1775066400-1775071800@shiftkeylabs.ca
SUMMARY:ShiftKey Academy Up: AI Agents & Chatbots
DESCRIPTION:Curious about how AI chatbots like ChatGPT actually work—and how organizations are building powerful AI agents to automate real-world tasks? \nJoin us for AI Agents & Chatbots Course\, led by Kavya Bhojani\, a 6-week\, hands-on course designed for professionals who want to move beyond the hype and understand how modern AI systems really function. You’ll explore everything from how large language models generate responses to how AI agents connect with tools\, APIs\, and trusted data to deliver reliable results. \nThis course is hybrid\, with both in-person sessions and a fully supported online option—so you can participate in the way that works best for you. \nAlong the way\, you’ll design and build your own simple chatbot or agent workflow\, gaining practical experience you can apply right away. Whether you’re looking to automate workflows\, improve decision-making\, or simply stay ahead in a rapidly evolving field\, this course will give you the foundation to get started. \nSpots are limited—register now and start building with AI 🚀 \n Wednesdays (April 1st\, 8th\, 15th\, 22nd\, 29th\, and May 6th)\n 6:00 PM – 7:30 PM\n Hybrid (April 1 and May 6 will be held in Room 143 the rest of the sessions are online) \nRegister here! https://shiftkeylabs.ca/register
URL:https://shiftkeylabs.ca/event/shiftkey-academy-up-ai-agents-chatbots
LOCATION:Nova Scotia
ATTACH;FMTTYPE=image/jpeg:https://shiftkeylabs.ca/wp-content/uploads/2026/03/Academy-Up-Website-Event-Images-5.jpg
END:VEVENT
BEGIN:VEVENT
DTSTART;TZID=America/Halifax:20260408T180000
DTEND;TZID=America/Halifax:20260408T193000
DTSTAMP:20260421T181818
CREATED:20260325T171019Z
LAST-MODIFIED:20260325T171125Z
UID:103986-1775671200-1775676600@shiftkeylabs.ca
SUMMARY:ShiftKey Academy Up: AI Agents & Chatbots (2/6)
DESCRIPTION:Curious about how AI chatbots like ChatGPT actually work—and how organizations are building powerful AI agents to automate real-world tasks? \nJoin us for AI Agents & Chatbots Course\, led by Kavya Bhojani\, a 6-week\, hands-on course designed for professionals who want to move beyond the hype and understand how modern AI systems really function. You’ll explore everything from how large language models generate responses to how AI agents connect with tools\, APIs\, and trusted data to deliver reliable results. \nThis course is hybrid\, with both in-person sessions and a fully supported online option—so you can participate in the way that works best for you. \nAlong the way\, you’ll design and build your own simple chatbot or agent workflow\, gaining practical experience you can apply right away. Whether you’re looking to automate workflows\, improve decision-making\, or simply stay ahead in a rapidly evolving field\, this course will give you the foundation to get started. \nSpots are limited—register now and start building with AI 🚀 \n Wednesdays (April 1st\, 8th\, 15th\, 22nd\, 29th\, and May 6th)\n 6:00 PM – 7:30 PM\n Hybrid (April 1 and May 6 will be held in Room 143 the rest of the sessions are online) \nRegister here! https://shiftkeylabs.ca/register
URL:https://shiftkeylabs.ca/event/shiftkey-academy-up-ai-agents-chatbots-2-6
LOCATION:Nova Scotia
ATTACH;FMTTYPE=image/jpeg:https://shiftkeylabs.ca/wp-content/uploads/2026/03/Academy-Up-Website-Event-Images-5.jpg
END:VEVENT
BEGIN:VEVENT
DTSTART;TZID=America/Halifax:20260415T180000
DTEND;TZID=America/Halifax:20260415T193000
DTSTAMP:20260421T181818
CREATED:20260325T171155Z
LAST-MODIFIED:20260325T171155Z
UID:103989-1776276000-1776281400@shiftkeylabs.ca
SUMMARY:ShiftKey Academy Up: AI Agents & Chatbots (3/6)
DESCRIPTION:Curious about how AI chatbots like ChatGPT actually work—and how organizations are building powerful AI agents to automate real-world tasks? \nJoin us for AI Agents & Chatbots Course\, led by Kavya Bhojani\, a 6-week\, hands-on course designed for professionals who want to move beyond the hype and understand how modern AI systems really function. You’ll explore everything from how large language models generate responses to how AI agents connect with tools\, APIs\, and trusted data to deliver reliable results. \nThis course is hybrid\, with both in-person sessions and a fully supported online option—so you can participate in the way that works best for you. \nAlong the way\, you’ll design and build your own simple chatbot or agent workflow\, gaining practical experience you can apply right away. Whether you’re looking to automate workflows\, improve decision-making\, or simply stay ahead in a rapidly evolving field\, this course will give you the foundation to get started. \nSpots are limited—register now and start building with AI 🚀 \n Wednesdays (April 1st\, 8th\, 15th\, 22nd\, 29th\, and May 6th)\n 6:00 PM – 7:30 PM\n Hybrid (April 1 and May 6 will be held in Room 143 the rest of the sessions are online) \nRegister here! https://shiftkeylabs.ca/register
URL:https://shiftkeylabs.ca/event/shiftkey-academy-up-ai-agents-chatbots-3-6
LOCATION:Nova Scotia
ATTACH;FMTTYPE=image/jpeg:https://shiftkeylabs.ca/wp-content/uploads/2026/03/Academy-Up-Website-Event-Images-5.jpg
END:VEVENT
BEGIN:VEVENT
DTSTART;TZID=America/Halifax:20260422T180000
DTEND;TZID=America/Halifax:20260422T193000
DTSTAMP:20260421T181818
CREATED:20260325T171220Z
LAST-MODIFIED:20260325T171220Z
UID:103991-1776880800-1776886200@shiftkeylabs.ca
SUMMARY:ShiftKey Academy Up: AI Agents & Chatbots (4/6)
DESCRIPTION:Curious about how AI chatbots like ChatGPT actually work—and how organizations are building powerful AI agents to automate real-world tasks? \nJoin us for AI Agents & Chatbots Course\, led by Kavya Bhojani\, a 6-week\, hands-on course designed for professionals who want to move beyond the hype and understand how modern AI systems really function. You’ll explore everything from how large language models generate responses to how AI agents connect with tools\, APIs\, and trusted data to deliver reliable results. \nThis course is hybrid\, with both in-person sessions and a fully supported online option—so you can participate in the way that works best for you. \nAlong the way\, you’ll design and build your own simple chatbot or agent workflow\, gaining practical experience you can apply right away. Whether you’re looking to automate workflows\, improve decision-making\, or simply stay ahead in a rapidly evolving field\, this course will give you the foundation to get started. \nSpots are limited—register now and start building with AI 🚀 \n Wednesdays (April 1st\, 8th\, 15th\, 22nd\, 29th\, and May 6th)\n 6:00 PM – 7:30 PM\n Hybrid (April 1 and May 6 will be held in Room 143 the rest of the sessions are online) \nRegister here! https://shiftkeylabs.ca/register
URL:https://shiftkeylabs.ca/event/shiftkey-academy-up-ai-agents-chatbots-4-6
LOCATION:Nova Scotia
ATTACH;FMTTYPE=image/jpeg:https://shiftkeylabs.ca/wp-content/uploads/2026/03/Academy-Up-Website-Event-Images-5.jpg
END:VEVENT
BEGIN:VEVENT
DTSTART;TZID=America/Halifax:20260429T180000
DTEND;TZID=America/Halifax:20260429T193000
DTSTAMP:20260421T181818
CREATED:20260325T171247Z
LAST-MODIFIED:20260325T171247Z
UID:103993-1777485600-1777491000@shiftkeylabs.ca
SUMMARY:ShiftKey Academy Up: AI Agents & Chatbots (5/6)
DESCRIPTION:Curious about how AI chatbots like ChatGPT actually work—and how organizations are building powerful AI agents to automate real-world tasks? \nJoin us for AI Agents & Chatbots Course\, led by Kavya Bhojani\, a 6-week\, hands-on course designed for professionals who want to move beyond the hype and understand how modern AI systems really function. You’ll explore everything from how large language models generate responses to how AI agents connect with tools\, APIs\, and trusted data to deliver reliable results. \nThis course is hybrid\, with both in-person sessions and a fully supported online option—so you can participate in the way that works best for you. \nAlong the way\, you’ll design and build your own simple chatbot or agent workflow\, gaining practical experience you can apply right away. Whether you’re looking to automate workflows\, improve decision-making\, or simply stay ahead in a rapidly evolving field\, this course will give you the foundation to get started. \nSpots are limited—register now and start building with AI 🚀 \n Wednesdays (April 1st\, 8th\, 15th\, 22nd\, 29th\, and May 6th)\n 6:00 PM – 7:30 PM\n Hybrid (April 1 and May 6 will be held in Room 143 the rest of the sessions are online) \nRegister here! https://shiftkeylabs.ca/register
URL:https://shiftkeylabs.ca/event/shiftkey-academy-up-ai-agents-chatbots-5-6
LOCATION:Nova Scotia
ATTACH;FMTTYPE=image/jpeg:https://shiftkeylabs.ca/wp-content/uploads/2026/03/Academy-Up-Website-Event-Images-5.jpg
END:VEVENT
BEGIN:VEVENT
DTSTART;TZID=America/Halifax:20260506T180000
DTEND;TZID=America/Halifax:20260506T193000
DTSTAMP:20260421T181818
CREATED:20260325T171314Z
LAST-MODIFIED:20260325T171340Z
UID:103995-1778090400-1778095800@shiftkeylabs.ca
SUMMARY:ShiftKey Academy Up: AI Agents & Chatbots (6/6)
DESCRIPTION:Curious about how AI chatbots like ChatGPT actually work—and how organizations are building powerful AI agents to automate real-world tasks? \nJoin us for AI Agents & Chatbots Course\, led by Kavya Bhojani\, a 6-week\, hands-on course designed for professionals who want to move beyond the hype and understand how modern AI systems really function. You’ll explore everything from how large language models generate responses to how AI agents connect with tools\, APIs\, and trusted data to deliver reliable results. \nThis course is hybrid\, with both in-person sessions and a fully supported online option—so you can participate in the way that works best for you. \nAlong the way\, you’ll design and build your own simple chatbot or agent workflow\, gaining practical experience you can apply right away. Whether you’re looking to automate workflows\, improve decision-making\, or simply stay ahead in a rapidly evolving field\, this course will give you the foundation to get started. \nSpots are limited—register now and start building with AI 🚀 \n Wednesdays (April 1st\, 8th\, 15th\, 22nd\, 29th\, and May 6th)\n 6:00 PM – 7:30 PM\n Hybrid (April 1 and May 6 will be held in Room 143 the rest of the sessions are online) \nRegister here! https://shiftkeylabs.ca/register
URL:https://shiftkeylabs.ca/event/shiftkey-academy-up-ai-agents-chatbots-6-6
LOCATION:Nova Scotia
ATTACH;FMTTYPE=image/jpeg:https://shiftkeylabs.ca/wp-content/uploads/2026/03/Academy-Up-Website-Event-Images-5.jpg
END:VEVENT
BEGIN:VEVENT
DTSTART;TZID=America/Halifax:20260512T180000
DTEND;TZID=America/Halifax:20260512T200000
DTSTAMP:20260421T181818
CREATED:20260421T124358Z
LAST-MODIFIED:20260421T124604Z
UID:104018-1778608800-1778616000@shiftkeylabs.ca
SUMMARY:Coding With Claude - ShiftKey Academy Up (1/4)
DESCRIPTION:Coding With Claude – Staying In The Drivers Seat\nCore topics in four bullet points (matching the four classes of the course): \n\nUnderstand how Claude reads. Read and write functions.\nLearn how to creating and edit specific commands\nExplore Agents vs an assistant – when to use what?\nGain industry focused insight and best practices\n\nPrerequisites: \n\nWorking knowledge of coding in any language\nBasic experience coding with AI agents\n\nCourse Structure: \n\nSession 1: Claude reads — contexts\, it understands your project\nSession 2: Claude acts — breaking down the thinking process\, words → actions\nSession 3: Claude decides — it chains actions together without you directing each step\nSession 4: Claude deployments — it operates in a real environment with real constraints/industry level applications\n\n \n \n Tuesdays (May 12th\, 19th\, 26th\, & June 2nd)\n 6:00 PM – 8:00 PM\n Room 127 \nRegister here! https://shiftkeylabs.ca/register
URL:https://shiftkeylabs.ca/event/coding-with-claude-shiftkey-academy-up-1-5
LOCATION:Nova Scotia
ATTACH;FMTTYPE=image/jpeg:https://shiftkeylabs.ca/wp-content/uploads/2026/04/Coding-with-Claude-Website-Banner.jpg
END:VEVENT
BEGIN:VEVENT
DTSTART;TZID=America/Halifax:20260519T180000
DTEND;TZID=America/Halifax:20260519T200000
DTSTAMP:20260421T181818
CREATED:20260421T123756Z
LAST-MODIFIED:20260421T124543Z
UID:104008-1779213600-1779220800@shiftkeylabs.ca
SUMMARY:Coding With Claude - ShiftKey Academy Up (2/4)
DESCRIPTION:Coding With Claude – Staying In The Drivers Seat\nCore topics in four bullet points (matching the four classes of the course): \n\nUnderstand how Claude reads. Read and write functions.\nLearn how to creating and edit specific commands\nExplore Agents vs an assistant – when to use what?\nGain industry focused insight and best practices\n\nPrerequisites: \n\nWorking knowledge of coding in any language\nBasic experience coding with AI agents\n\nCourse Structure: \n\nSession 1: Claude reads — contexts\, it understands your project\nSession 2: Claude acts — breaking down the thinking process\, words → actions\nSession 3: Claude decides — it chains actions together without you directing each step\nSession 4: Claude deployments — it operates in a real environment with real constraints/industry level applications\n\n \n \n Tuesdays (May 12th\, 19th\, 26th\, & June 2nd)\n 6:00 PM – 8:00 PM\n Room 127 \nRegister here! https://shiftkeylabs.ca/register
URL:https://shiftkeylabs.ca/event/coding-with-claude-shiftkey-academy-up-2
LOCATION:Nova Scotia
ATTACH;FMTTYPE=image/jpeg:https://shiftkeylabs.ca/wp-content/uploads/2026/04/Coding-with-Claude-Website-Banner.jpg
END:VEVENT
BEGIN:VEVENT
DTSTART;TZID=America/Halifax:20260526T180000
DTEND;TZID=America/Halifax:20260526T200000
DTSTAMP:20260421T181818
CREATED:20260421T123925Z
LAST-MODIFIED:20260421T124505Z
UID:104007-1779818400-1779825600@shiftkeylabs.ca
SUMMARY:Coding With Claude - ShiftKey Academy Up (3/4)
DESCRIPTION:Coding With Claude – Staying In The Drivers Seat\nCore topics in four bullet points (matching the four classes of the course): \n\nUnderstand how Claude reads. Read and write functions.\nLearn how to creating and edit specific commands\nExplore Agents vs an assistant – when to use what?\nGain industry focused insight and best practices\n\nPrerequisites: \n\nWorking knowledge of coding in any language\nBasic experience coding with AI agents\n\nCourse Structure: \n\nSession 1: Claude reads — contexts\, it understands your project\nSession 2: Claude acts — breaking down the thinking process\, words → actions\nSession 3: Claude decides — it chains actions together without you directing each step\nSession 4: Claude deployments — it operates in a real environment with real constraints/industry level applications\n\n \n \n Tuesdays (May 12th\, 19th\, 26th\, & June 2nd)\n 6:00 PM – 8:00 PM\n Room 127 \nRegister here! https://shiftkeylabs.ca/register
URL:https://shiftkeylabs.ca/event/coding-with-claude-shiftkey-academy-up-3
LOCATION:Nova Scotia
ATTACH;FMTTYPE=image/jpeg:https://shiftkeylabs.ca/wp-content/uploads/2026/04/Coding-with-Claude-Website-Banner.jpg
END:VEVENT
BEGIN:VEVENT
DTSTART;TZID=America/Halifax:20260602T180000
DTEND;TZID=America/Halifax:20260602T200000
DTSTAMP:20260421T181818
CREATED:20260421T124128Z
LAST-MODIFIED:20260421T124524Z
UID:104012-1780423200-1780430400@shiftkeylabs.ca
SUMMARY:Coding With Claude - ShiftKey Academy Up (4/4)
DESCRIPTION:Coding With Claude – Staying In The Drivers Seat\nCore topics in four bullet points (matching the four classes of the course): \n\nUnderstand how Claude reads. Read and write functions.\nLearn how to creating and edit specific commands\nExplore Agents vs an assistant – when to use what?\nGain industry focused insight and best practices\n\nPrerequisites: \n\nWorking knowledge of coding in any language\nBasic experience coding with AI agents\n\nCourse Structure: \n\nSession 1: Claude reads — contexts\, it understands your project\nSession 2: Claude acts — breaking down the thinking process\, words → actions\nSession 3: Claude decides — it chains actions together without you directing each step\nSession 4: Claude deployments — it operates in a real environment with real constraints/industry level applications\n\n \n \n Tuesdays (May 12th\, 19th\, 26th\, & June 2nd)\n 6:00 PM – 8:00 PM\n Room 127 \nRegister here! https://shiftkeylabs.ca/register
URL:https://shiftkeylabs.ca/event/coding-with-claude-shiftkey-academy-up-5-5
LOCATION:Nova Scotia
ATTACH;FMTTYPE=image/jpeg:https://shiftkeylabs.ca/wp-content/uploads/2026/04/Coding-with-Claude-Website-Banner.jpg
END:VEVENT
END:VCALENDAR