BEGIN:VCALENDAR
VERSION:2.0
PRODID:-//ShiftKey Labs - ECPv6.3.5//NONSGML v1.0//EN
CALSCALE:GREGORIAN
METHOD:PUBLISH
X-ORIGINAL-URL:https://shiftkeylabs.ca
X-WR-CALDESC:Events for ShiftKey Labs
REFRESH-INTERVAL;VALUE=DURATION:PT1H
X-Robots-Tag:noindex
X-PUBLISHED-TTL:PT1H
BEGIN:VTIMEZONE
TZID:America/Halifax
BEGIN:DAYLIGHT
TZOFFSETFROM:-0400
TZOFFSETTO:-0300
TZNAME:ADT
DTSTART:20260308T060000
END:DAYLIGHT
BEGIN:STANDARD
TZOFFSETFROM:-0300
TZOFFSETTO:-0400
TZNAME:AST
DTSTART:20261101T050000
END:STANDARD
END:VTIMEZONE
BEGIN:VEVENT
DTSTART;TZID=America/Halifax:20260522T080000
DTEND;TZID=America/Halifax:20260524T170000
DTSTAMP:20260425T123416
CREATED:20260423T192305Z
LAST-MODIFIED:20260425T112837Z
UID:104031-1779436800-1779642000@shiftkeylabs.ca
SUMMARY:Hack the Elements 🔥🌊💨🌱
DESCRIPTION:More details coming soon! \n📅 May 22-24\, 2026\n⏰ All-Day\n📍 Goldberg Computer Science Building \n\nRegister here! https://shiftkeylabs.ca/register
URL:https://shiftkeylabs.ca/event/hack-the-elements-%f0%9f%94%a5%f0%9f%8c%8a%f0%9f%92%a8%f0%9f%8c%b1
LOCATION:Nova Scotia
ATTACH;FMTTYPE=image/jpeg:https://shiftkeylabs.ca/wp-content/uploads/2026/04/Copy-of-May-Hackathon-Draft-Presentation.jpg
END:VEVENT
BEGIN:VEVENT
DTSTART;TZID=America/Halifax:20260526T180000
DTEND;TZID=America/Halifax:20260526T200000
DTSTAMP:20260425T123416
CREATED:20260421T123925Z
LAST-MODIFIED:20260422T141243Z
UID:104007-1779818400-1779825600@shiftkeylabs.ca
SUMMARY:Coding With Claude - ShiftKey Academy Up (3/4)
DESCRIPTION:Coding With Claude – Staying In The Drivers Seat\nCore topics in four bullet points (matching the four classes of the course): \n\nUnderstand how Claude reads. Read and write functions.\nLearn how to creating and edit specific commands\nExplore Agents vs an assistant – when to use what?\nGain industry focused insight and best practices\n\nPrerequisites: \n\nWorking knowledge of coding in any language\nBasic experience coding with AI agents\n\nCourse Structure: \n\nSession 1: Claude reads — contexts\, it understands your project\nSession 2: Claude acts — breaking down the thinking process\, words → actions\nSession 3: Claude decides — it chains actions together without you directing each step\nSession 4: Claude deployments — it operates in a real environment with real constraints/industry level applications\n\n \n \n Tuesdays (May 12th\, 19th\, 26th\, & June 2nd)\n 6:00 PM – 8:00 PM\n Room 127 \nRegister here! https://shiftkeylabs.ca/register
URL:https://shiftkeylabs.ca/event/coding-with-claude-shiftkey-academy-up-3
LOCATION:Nova Scotia
ATTACH;FMTTYPE=image/jpeg:https://shiftkeylabs.ca/wp-content/uploads/2026/04/Coding-with-Claude-Website-Banner.jpg
END:VEVENT
BEGIN:VEVENT
DTSTART;TZID=America/Halifax:20260602T180000
DTEND;TZID=America/Halifax:20260602T200000
DTSTAMP:20260425T123416
CREATED:20260421T124128Z
LAST-MODIFIED:20260422T141300Z
UID:104012-1780423200-1780430400@shiftkeylabs.ca
SUMMARY:Coding With Claude - ShiftKey Academy Up (4/4)
DESCRIPTION:Coding With Claude – Staying In The Drivers Seat\nCore topics in four bullet points (matching the four classes of the course): \n\nUnderstand how Claude reads. Read and write functions.\nLearn how to creating and edit specific commands\nExplore Agents vs an assistant – when to use what?\nGain industry focused insight and best practices\n\nPrerequisites: \n\nWorking knowledge of coding in any language\nBasic experience coding with AI agents\n\nCourse Structure: \n\nSession 1: Claude reads — contexts\, it understands your project\nSession 2: Claude acts — breaking down the thinking process\, words → actions\nSession 3: Claude decides — it chains actions together without you directing each step\nSession 4: Claude deployments — it operates in a real environment with real constraints/industry level applications\n\n \n \n Tuesdays (May 12th\, 19th\, 26th\, & June 2nd)\n 6:00 PM – 8:00 PM\n Room 127 \nRegister here! https://shiftkeylabs.ca/register
URL:https://shiftkeylabs.ca/event/coding-with-claude-shiftkey-academy-up-5-5
LOCATION:Nova Scotia
ATTACH;FMTTYPE=image/jpeg:https://shiftkeylabs.ca/wp-content/uploads/2026/04/Coding-with-Claude-Website-Banner.jpg
END:VEVENT
END:VCALENDAR