BEGIN:VCALENDAR
VERSION:2.0
PRODID:-//ShiftKey Labs - ECPv6.3.5//NONSGML v1.0//EN
CALSCALE:GREGORIAN
METHOD:PUBLISH
X-WR-CALNAME:ShiftKey Labs
X-ORIGINAL-URL:https://shiftkeylabs.ca
X-WR-CALDESC:Events for ShiftKey Labs
REFRESH-INTERVAL;VALUE=DURATION:PT1H
X-Robots-Tag:noindex
X-PUBLISHED-TTL:PT1H
BEGIN:VTIMEZONE
TZID:UTC
BEGIN:STANDARD
TZOFFSETFROM:+0000
TZOFFSETTO:+0000
TZNAME:UTC
DTSTART:20230101T000000
END:STANDARD
END:VTIMEZONE
BEGIN:VEVENT
DTSTART;VALUE=DATE:20240120
DTEND;VALUE=DATE:20240122
DTSTAMP:20260423T084718
CREATED:20231018T185754Z
LAST-MODIFIED:20240202T043659Z
UID:94712-1705708800-1705881599@shiftkeylabs.ca
SUMMARY:Gen AI Hackathon
DESCRIPTION:  \nWelcome to ShiftKey Labs’ Generative AI Hackathon\, where innovation meets technology in collaboration with Dal CSS and Dal WiTS! \nCalling on all students across Nova Scotia to unleash their creativity and coding prowess! Dive into the world of Generative AI and channel your ideas towards addressing the United Nations Sustainable Development Goals. Join us for a weekend of learning\, collaboration\, and problem-solving as we strive to make a positive impact on our world. \nIn this hackathon\, participants have the freedom to select their preferred category—whether it’s hands-on development and coding of a tool or crafting an idea alongside a compelling business model to showcase the potential of their technology. \nHappening on the 20th and the 21st of January\, at the Goldberg Computer Science Building\, Halifax. There will be amazing food\, exciting prizes and lot of entertainment opportunities for all participants. \nThis event is suitable for all skill-levels\, and participants will have access to introductory workshops to help you prepare. \nInformation about the schedule and more on what to expect will come soon. Feel free to reach out with questions! \nWhat: Gen AI Hackathon\nWhen: Fri 20th January 2024 to Saturday 21st January 2024\nWhere: Goldberg Computer Science Building @ Dalhousie University\nFor who: All university students\nCost: Free \nRegister now: https://airtable.com/appkB4tLGaUIf7rIf/shrJsX61iYp0U4XCR \n  \n  \n                                     
URL:https://shiftkeylabs.ca/event/generative-ai-hackathon-2024
LOCATION:Nova Scotia
CATEGORIES:Hackathon
ATTACH;FMTTYPE=image/png:https://shiftkeylabs.ca/wp-content/uploads/2023/10/Alt-2-3.png
END:VEVENT
BEGIN:VEVENT
DTSTART;TZID=UTC:20231213T080000
DTEND;TZID=UTC:20231213T170000
DTSTAMP:20260423T084718
CREATED:20231018T185657Z
LAST-MODIFIED:20231126T170321Z
UID:94710-1702454400-1702486800@shiftkeylabs.ca
SUMMARY:Game Design Club (SuperNOVA/ShiftKey)
DESCRIPTION:FREE YOUTH PROGRAMMING: Available for kids in grades 5-7.\n\nFlex your creativity and build your coding skills! SuperNOVA and Shifkey Labs’ Game Design Club will introduce first-time coders to the basics of game design. They will explore Microsoft MakeCode and learn how to make complex interactive programs that they will be able to play on handheld gaming devices! \nGame Design Club will take place every other Wednesday\, starting on September 20th\, 2023\, from 6:30-7:30 PM. The program will be located at the Goldberg Computer Science Building on Dalhousie University’s Studley campus. It is open to students who are currently going into grades 5 to 7. \nRegister now! \nBit.ly/GameDesignClub_Registration
URL:https://shiftkeylabs.ca/event/game-design-club-supernova-shiftkey-5
LOCATION:Nova Scotia
ATTACH;FMTTYPE=image/webp:https://shiftkeylabs.ca/wp-content/uploads/2023/11/186-1-scaled.webp
END:VEVENT
BEGIN:VEVENT
DTSTART;TZID=UTC:20231129T080000
DTEND;TZID=UTC:20231129T170000
DTSTAMP:20260423T084718
CREATED:20231018T185546Z
LAST-MODIFIED:20231126T170400Z
UID:94708-1701244800-1701277200@shiftkeylabs.ca
SUMMARY:Game Design Club (SuperNOVA/ShiftKey)
DESCRIPTION:FREE YOUTH PROGRAMMING: Available for kids in grades 5-7.\n\nFlex your creativity and build your coding skills! SuperNOVA and Shifkey Labs’ Game Design Club will introduce first-time coders to the basics of game design. They will explore Microsoft MakeCode and learn how to make complex interactive programs that they will be able to play on handheld gaming devices! \nGame Design Club will take place every other Wednesday\, starting on September 20th\, 2023\, from 6:30-7:30 PM. The program will be located at the Goldberg Computer Science Building on Dalhousie University’s Studley campus. It is open to students who are currently going into grades 5 to 7. \nRegister now! \nBit.ly/GameDesignClub_Registration
URL:https://shiftkeylabs.ca/event/game-design-club-supernova-shiftkey-4
LOCATION:Nova Scotia
ATTACH;FMTTYPE=image/webp:https://shiftkeylabs.ca/wp-content/uploads/2023/11/204-1-scaled.webp
END:VEVENT
BEGIN:VEVENT
DTSTART;TZID=UTC:20231117T080000
DTEND;TZID=UTC:20231117T170000
DTSTAMP:20260423T084718
CREATED:20231018T185431Z
LAST-MODIFIED:20231126T170427Z
UID:94706-1700208000-1700240400@shiftkeylabs.ca
SUMMARY:STEM Connector: Networking @ The PIER
DESCRIPTION:Details TBA!
URL:https://shiftkeylabs.ca/event/stem-connector-networking-the-pier
LOCATION:Nova Scotia
ATTACH;FMTTYPE=image/webp:https://shiftkeylabs.ca/wp-content/uploads/2023/11/188-1-scaled.webp
END:VEVENT
BEGIN:VEVENT
DTSTART;TZID=UTC:20231115T080000
DTEND;TZID=UTC:20231115T170000
DTSTAMP:20260423T084718
CREATED:20231018T185346Z
LAST-MODIFIED:20231126T170509Z
UID:94704-1700035200-1700067600@shiftkeylabs.ca
SUMMARY:Game Design Club (SuperNOVA/ShiftKey)
DESCRIPTION:FREE YOUTH PROGRAMMING: Available for kids in grades 5-7.\n\nFlex your creativity and build your coding skills! SuperNOVA and Shifkey Labs’ Game Design Club will introduce first-time coders to the basics of game design. They will explore Microsoft MakeCode and learn how to make complex interactive programs that they will be able to play on handheld gaming devices! \nGame Design Club will take place every other Wednesday\, starting on September 20th\, 2023\, from 6:30-7:30 PM. The program will be located at the Goldberg Computer Science Building on Dalhousie University’s Studley campus. It is open to students who are currently going into grades 5 to 7. \nRegister now! \nBit.ly/GameDesignClub_Registration
URL:https://shiftkeylabs.ca/event/game-design-club-supernova-shiftkey-3
LOCATION:Nova Scotia
ATTACH;FMTTYPE=image/webp:https://shiftkeylabs.ca/wp-content/uploads/2023/11/125-1-scaled.webp
END:VEVENT
BEGIN:VEVENT
DTSTART;TZID=UTC:20231107T080000
DTEND;TZID=UTC:20231107T170000
DTSTAMP:20260423T084718
CREATED:20231018T185224Z
LAST-MODIFIED:20240202T043641Z
UID:94702-1699344000-1699376400@shiftkeylabs.ca
SUMMARY:We Talk Tech Panel with WiTS
DESCRIPTION:Details TBD!
URL:https://shiftkeylabs.ca/event/we-talk-tech-panel-with-wits
LOCATION:Nova Scotia
CATEGORIES:Tech Talks
ATTACH;FMTTYPE=image/webp:https://shiftkeylabs.ca/wp-content/uploads/2023/11/148-1-scaled.webp
END:VEVENT
BEGIN:VEVENT
DTSTART;TZID=UTC:20231101T080000
DTEND;TZID=UTC:20231101T170000
DTSTAMP:20260423T084718
CREATED:20231018T185127Z
LAST-MODIFIED:20231126T170632Z
UID:94700-1698825600-1698858000@shiftkeylabs.ca
SUMMARY:Game Design Club (SuperNOVA/ShiftKey)
DESCRIPTION:FREE YOUTH PROGRAMMING: Available for kids in grades 5-7. \nFlex your creativity and build your coding skills! SuperNOVA and Shifkey Labs’ Game Design Club will introduce first-time coders to the basics of game design. They will explore Microsoft MakeCode and learn how to make complex interactive programs that they will be able to play on handheld gaming devices! \nGame Design Club will take place every other Wednesday\, starting on September 20th\, 2023\, from 6:30-7:30 PM. The program will be located at the Goldberg Computer Science Building on Dalhousie University’s Studley campus. It is open to students who are currently going into grades 5 to 7. \nRegister now! \nBit.ly/GameDesignClub_Registration
URL:https://shiftkeylabs.ca/event/game-design-club-supernova-shiftkey-2
LOCATION:Nova Scotia
ATTACH;FMTTYPE=image/webp:https://shiftkeylabs.ca/wp-content/uploads/2023/11/085-1-scaled.webp
END:VEVENT
BEGIN:VEVENT
DTSTART;TZID=UTC:20231101T080000
DTEND;TZID=UTC:20231101T170000
DTSTAMP:20260423T084718
CREATED:20231018T185011Z
LAST-MODIFIED:20231126T170754Z
UID:94698-1698825600-1698858000@shiftkeylabs.ca
SUMMARY:Ocean of Data Challenge: CIOOS Coast to Coast to Coast
DESCRIPTION:Details TBA!
URL:https://shiftkeylabs.ca/event/ocean-of-data-challenge-cioos-coast-to-coast-to-coast
LOCATION:Nova Scotia
ATTACH;FMTTYPE=image/webp:https://shiftkeylabs.ca/wp-content/uploads/2023/11/192-scaled.webp
END:VEVENT
BEGIN:VEVENT
DTSTART;TZID=UTC:20231030T080000
DTEND;TZID=UTC:20231030T170000
DTSTAMP:20260423T084718
CREATED:20231018T184824Z
LAST-MODIFIED:20240202T043611Z
UID:94696-1698652800-1698685200@shiftkeylabs.ca
SUMMARY:Say Hello to.. Fin Tech
DESCRIPTION:Details TBA!
URL:https://shiftkeylabs.ca/event/say-hello-to-fin-tech
LOCATION:Nova Scotia
CATEGORIES:Say Hello to
ATTACH;FMTTYPE=image/webp:https://shiftkeylabs.ca/wp-content/uploads/2023/11/159-scaled.webp
END:VEVENT
BEGIN:VEVENT
DTSTART;TZID=UTC:20231024T080000
DTEND;TZID=UTC:20231024T170000
DTSTAMP:20260423T084718
CREATED:20231018T184744Z
LAST-MODIFIED:20240202T043622Z
UID:94694-1698134400-1698166800@shiftkeylabs.ca
SUMMARY:WiTS: We Talk Tech Panel
DESCRIPTION:Details TBA!
URL:https://shiftkeylabs.ca/event/wits-we-talk-tech-panel
LOCATION:Nova Scotia
CATEGORIES:Tech Talks
ATTACH;FMTTYPE=image/webp:https://shiftkeylabs.ca/wp-content/uploads/2023/11/019-scaled.webp
END:VEVENT
BEGIN:VEVENT
DTSTART;TZID=UTC:20231024T080000
DTEND;TZID=UTC:20231024T170000
DTSTAMP:20260423T084718
CREATED:20231018T184615Z
LAST-MODIFIED:20231126T171108Z
UID:94691-1698134400-1698166800@shiftkeylabs.ca
SUMMARY:STEM Connector: How to Connect
DESCRIPTION:This free event is the first official STEM Connector Event of Fall 2023! STEM connector is a free flash mentorship program run by DeepSense\, ShiftKey Labs\, and SURGE Innovation\, that allows members within the STEM Community to connect with each other! Join us on October 24th as we launch this amazing event that gives you all the key tips and tricks you need to present yourself professionally for job and mentor searches\, and to practice networking skills with fellow students! Snacks and refreshments will be provided! \nSign up now!\nhttps://www.eventbrite.com/e/stem-connector-how-to-connect-tickets-735141386677?aff=oddtdtcreator
URL:https://shiftkeylabs.ca/event/stem-connector-how-to-connect
LOCATION:Nova Scotia
ATTACH;FMTTYPE=image/webp:https://shiftkeylabs.ca/wp-content/uploads/2023/11/020-1-scaled.webp
END:VEVENT
BEGIN:VEVENT
DTSTART;TZID=UTC:20231018T080000
DTEND;TZID=UTC:20231018T170000
DTSTAMP:20260423T084718
CREATED:20231018T184442Z
LAST-MODIFIED:20231126T171222Z
UID:94688-1697616000-1697648400@shiftkeylabs.ca
SUMMARY:Game Design Club (SuperNOVA/ShiftKey)
DESCRIPTION:FREE YOUTH PROGRAMMING: Available for kids in grades 5-7. \nFlex your creativity and build your coding skills! SuperNOVA and Shifkey Labs’ Game Design Club will introduce first-time coders to the basics of game design. They will explore Microsoft MakeCode and learn how to make complex interactive programs that they will be able to play on handheld gaming devices! \nGame Design Club will take place every other Wednesday\, starting on September 20th\, 2023\, from 6:30-7:30 PM. The program will be located at the Goldberg Computer Science Building on Dalhousie University’s Studley campus. It is open to students who are currently going into grades 5 to 7. \nRegister now! \nBit.ly/GameDesignClub_Registration
URL:https://shiftkeylabs.ca/event/game-design-club-supernova-shiftkey
LOCATION:Nova Scotia
ATTACH;FMTTYPE=image/webp:https://shiftkeylabs.ca/wp-content/uploads/2023/10/IMG_8005-scaled.webp
END:VEVENT
END:VCALENDAR