BEGIN:VCALENDAR
VERSION:2.0
PRODID:-//ShiftKey Labs - ECPv6.3.5//NONSGML v1.0//EN
CALSCALE:GREGORIAN
METHOD:PUBLISH
X-WR-CALNAME:ShiftKey Labs
X-ORIGINAL-URL:https://shiftkeylabs.ca
X-WR-CALDESC:Events for ShiftKey Labs
REFRESH-INTERVAL;VALUE=DURATION:PT1H
X-Robots-Tag:noindex
X-PUBLISHED-TTL:PT1H
BEGIN:VTIMEZONE
TZID:America/Halifax
BEGIN:DAYLIGHT
TZOFFSETFROM:-0400
TZOFFSETTO:-0300
TZNAME:ADT
DTSTART:20240310T060000
END:DAYLIGHT
BEGIN:STANDARD
TZOFFSETFROM:-0300
TZOFFSETTO:-0400
TZNAME:AST
DTSTART:20241103T050000
END:STANDARD
END:VTIMEZONE
BEGIN:VEVENT
DTSTART;TZID=America/Halifax:20241113T150000
DTEND;TZID=America/Halifax:20241113T190000
DTSTAMP:20260422T214919
CREATED:20241019T020818Z
LAST-MODIFIED:20241029T031843Z
UID:99719-1731510000-1731524400@shiftkeylabs.ca
SUMMARY:STEM Connector: Ocean Networking
DESCRIPTION:Join us on November 13 for an exclusive opportunity to explore careers in the blue economy at The PIER! \nThis is the perfect opportunity to connect and build relationships with key players in the field. Enjoy refreshments\, networking\, and an opportunity to meet some of the companies working out of The PIER. \nFor students\, if you are attending the Ocean Industry Crawl\, you don’t need to register for this event\, your Crawl registration includes the Networking Event. \nFor PIER members\, this is an excellent opportunity to connect with undergraduate and post-graduate students as well as industry professionals and the ecosystem. PIER members will have access to a table during the event to showcase or demo and connect with students. \nWhether you’re a post-secondary student eager to chart your career path\, an ocean enthusiast looking to deepen your knowledge\, or an industry professional looking to engage the brightest academic minds\, the Ocean Industry Networking Event is your compass to the future of ocean technology. \nThis event is brought to you by DeepSense\, Shiftkey Labs\, COVE\, SURGE Innovation\, NSCC\, The PIER\, Port Halifax\, OTCNS and BHER \n📅 Date: November 13\, 2024\n⏰ Time: 4:00PM-6:00PM\n📌 Location: The Pier\n✍ Registration: https://www.eventbrite.ca/e/ocean-industry-networking-event-tickets-1062078668889?aff=oddtdtcreator
URL:https://shiftkeylabs.ca/event/stem-connector-ocean-networking
LOCATION:The PIER\, 1209 Marginal Road\, Halifax\, Nova Scotia\, Canada
CATEGORIES:Info Session,Networking
ATTACH;FMTTYPE=image/png:https://shiftkeylabs.ca/wp-content/uploads/2024/10/STEM-Connector-Pier.png
END:VEVENT
BEGIN:VEVENT
DTSTART;TZID=America/Halifax:20241113T173000
DTEND;TZID=America/Halifax:20241113T190000
DTSTAMP:20260422T214919
CREATED:20240914T004735Z
LAST-MODIFIED:20241113T222237Z
UID:99566-1731519000-1731524400@shiftkeylabs.ca
SUMMARY:Postponed: ShiftKey Lounge: Entrepreneurship as an International
DESCRIPTION:November 13 session is postponed! Keep an eye out for the make-up date.  \nShiftKey Lounge is a collaborative project with the Faculty of Computer Science to introduce new students to all the amazing things they can do with a Computer Science education. This informal drop-in session will take place every Wednesday from October 2\, 2024 until November 13\, 2024.In each of these sessions\, you’ll get to meet upper-year students\, recent graduates\, industry professionals\, and advisors to help you get the tools you need to learn more about what you are most passionate about. Learn about important resources and events\, what it is like to work in different fields\, and ask all your curious questions at ShiftKey Lounge. \nFood will be provided at each drop-in session. Registration is not required. \nDetails for this session:  \nThe theme for the ShiftKey Lounge drop-in session on November 13 from 5:30PM-7:00PM is Entrepreneurship as an International. To introduce all the details about being an Entrepreneur as an International\, we’ve got a great panel of guests lined up. \n\nComing soon!\n\n 
URL:https://shiftkeylabs.ca/event/shiftkey-lounge-entrepreneurship
LOCATION:Goldberg Computer Science Building\, 6050 University Avenue\, Halifax\, Nova Scotia\, B3H 1W5\, Canada
CATEGORIES:Info Session,Networking
ATTACH;FMTTYPE=image/png:https://shiftkeylabs.ca/wp-content/uploads/2024/09/Lounge.png
END:VEVENT
END:VCALENDAR