BEGIN:VCALENDAR
VERSION:2.0
PRODID:-//ShiftKey Labs - ECPv6.3.5//NONSGML v1.0//EN
CALSCALE:GREGORIAN
METHOD:PUBLISH
X-WR-CALNAME:ShiftKey Labs
X-ORIGINAL-URL:https://shiftkeylabs.ca
X-WR-CALDESC:Events for ShiftKey Labs
REFRESH-INTERVAL;VALUE=DURATION:PT1H
X-Robots-Tag:noindex
X-PUBLISHED-TTL:PT1H
BEGIN:VTIMEZONE
TZID:America/Halifax
BEGIN:DAYLIGHT
TZOFFSETFROM:-0400
TZOFFSETTO:-0300
TZNAME:ADT
DTSTART:20240310T060000
END:DAYLIGHT
BEGIN:STANDARD
TZOFFSETFROM:-0300
TZOFFSETTO:-0400
TZNAME:AST
DTSTART:20241103T050000
END:STANDARD
END:VTIMEZONE
BEGIN:VEVENT
DTSTART;TZID=America/Halifax:20241016T173000
DTEND;TZID=America/Halifax:20241016T190000
DTSTAMP:20260423T002418
CREATED:20240914T003810Z
LAST-MODIFIED:20241016T230837Z
UID:99556-1729099800-1729105200@shiftkeylabs.ca
SUMMARY:ShiftKey Lounge: Artificial Intelligence
DESCRIPTION:ShiftKey Lounge is a collaborative project with the Faculty of Computer Science to introduce new students to all the amazing things they can do with a Computer Science education. This informal drop-in session will take place every Wednesday from October 2\, 2024 until November 13\, 2024.In each of these sessions\, you’ll get to meet upper-year students\, recent graduates\, industry professionals\, and advisors to help you get the tools you need to learn more about what you are most passionate about. Learn about important resources and events\, what it is like to work in different fields\, and ask all your curious questions at ShiftKey Lounge. \nFood will be provided at each drop-in session. Registration is not required. \nDetails for this session:  \nThe theme for the ShiftKey Lounge drop-in session on October 16 from 5:30PM-7:00PM is Artificial Intelligence. To talk all things AI\, we’ve got a great panel of guests lined up. \n\nZainuddin Saiyed\, FCS Alumni and former Machine Learning Engineer at Poly 9\,\nUdhayaranjani Sellappagounder Mohan\, FCS upper year student\, former Machine Learning Intern at Orangead\,\nKeremalp Durdabak\, student & industry professional \nColin Vandenhof\, Research scientist at Dash Hudson\n\nOther sessions this term:  \nOctober 23 – Data Science\nOctober 30 – Game Dev\nNovember 6 – Cloud & Cybersecurity\nNovember 13 – Entrepreneurship as an International
URL:https://shiftkeylabs.ca/event/shiftkey-lounge-ai
LOCATION:Goldberg Computer Science Building\, 6050 University Avenue\, Halifax\, Nova Scotia\, B3H 1W5\, Canada
CATEGORIES:Info Session,Networking
ATTACH;FMTTYPE=image/png:https://shiftkeylabs.ca/wp-content/uploads/2024/09/Lounge.png
END:VEVENT
END:VCALENDAR