BEGIN:VCALENDAR
VERSION:2.0
PRODID:-//ShiftKey Labs - ECPv6.3.5//NONSGML v1.0//EN
CALSCALE:GREGORIAN
METHOD:PUBLISH
X-ORIGINAL-URL:https://shiftkeylabs.ca
X-WR-CALDESC:Events for ShiftKey Labs
REFRESH-INTERVAL;VALUE=DURATION:PT1H
X-Robots-Tag:noindex
X-PUBLISHED-TTL:PT1H
BEGIN:VTIMEZONE
TZID:America/Halifax
BEGIN:DAYLIGHT
TZOFFSETFROM:-0400
TZOFFSETTO:-0300
TZNAME:ADT
DTSTART:20240310T060000
END:DAYLIGHT
BEGIN:STANDARD
TZOFFSETFROM:-0300
TZOFFSETTO:-0400
TZNAME:AST
DTSTART:20241103T050000
END:STANDARD
END:VTIMEZONE
BEGIN:VEVENT
DTSTART;TZID=America/Halifax:20241015T170000
DTEND;TZID=America/Halifax:20241015T190000
DTSTAMP:20260423T002100
CREATED:20240918T040831Z
LAST-MODIFIED:20241010T040219Z
UID:99574-1729011600-1729018800@shiftkeylabs.ca
SUMMARY:STEM Connector: Public Speaking Workshop
DESCRIPTION:Join local STEM students for our STEM Connector workshop! Take time to make practice your public speaking skills\, take part in cool challenges\, and enjoy snacks and refreshments! PLUS you will be able to win a $100 UBER EATS GIFT CARD! \n📅 Date: October 15\, 2024\n⏰ Time: 5:00PM-7:30PM\n📌 Location: Goldberg Computer Science Building\, Atrium\n✍ Registration: https://www.tickettailor.com/events/stemconnector/1369232
URL:https://shiftkeylabs.ca/event/stem-connector-public-speaking-workshop-2
LOCATION:Nova Scotia
CATEGORIES:Info Session,Networking
ATTACH;FMTTYPE=image/png:https://shiftkeylabs.ca/wp-content/uploads/2024/09/Screenshot-2024-10-09-at-3.30.41 PM.png
END:VEVENT
END:VCALENDAR