BEGIN:VCALENDAR
VERSION:2.0
PRODID:-//ShiftKey Labs - ECPv6.3.5//NONSGML v1.0//EN
CALSCALE:GREGORIAN
METHOD:PUBLISH
X-WR-CALNAME:ShiftKey Labs
X-ORIGINAL-URL:https://shiftkeylabs.ca
X-WR-CALDESC:Events for ShiftKey Labs
REFRESH-INTERVAL;VALUE=DURATION:PT1H
X-Robots-Tag:noindex
X-PUBLISHED-TTL:PT1H
BEGIN:VTIMEZONE
TZID:America/Halifax
BEGIN:DAYLIGHT
TZOFFSETFROM:-0400
TZOFFSETTO:-0300
TZNAME:ADT
DTSTART:20240310T060000
END:DAYLIGHT
BEGIN:STANDARD
TZOFFSETFROM:-0300
TZOFFSETTO:-0400
TZNAME:AST
DTSTART:20241103T050000
END:STANDARD
END:VTIMEZONE
BEGIN:VEVENT
DTSTART;TZID=America/Halifax:20241009T170000
DTEND;TZID=America/Halifax:20241009T190000
DTSTAMP:20260423T002500
CREATED:20240914T003624Z
LAST-MODIFIED:20240927T232845Z
UID:99552-1728493200-1728500400@shiftkeylabs.ca
SUMMARY:ShiftKey Lounge: UI/UX
DESCRIPTION:ShiftKey Lounge is a collaborative project with the Faculty of Computer Science to introduce new students to all the amazing things they can do with a Computer Science education. This informal drop-in session will take place every Wednesday from October 2\, 2024 until November 13\, 2024. In each of these sessions\, you’ll get to meet upper-year students\, recent graduates\, industry professionals\, and advisors to help you get the tools you need to learn more about what you are most passionate about. Learn about important resources and events\, what it is like to work in different fields\, and ask all your curious questions at ShiftKey Lounge. \nFood will be provided at each drop-in session. Registration is not required. \nDetails for this session:  \nThe theme for the ShiftKey Lounge drop-in session on October 9 from 5:00PM-7:00PM is UI/UX. To talk all things UI/UX\, we’ve got a great panel of guests lined up. \n\nSahil Sian\, upper year Computer Science student\nMac Burton\, FCS Alumni\n\nOther sessions this term:  \nOctober 16 – AI\nOctober 23 – Data Science\nOctober 30 – Game Dev\nNovember 6 – Cloud & Cybersecurity\nNovember 13 – Entrepreneurship as an International
URL:https://shiftkeylabs.ca/event/shiftkey-lounge-ui-ux
LOCATION:Goldberg Computer Science Building\, 6050 University Avenue\, Halifax\, Nova Scotia\, B3H 1W5\, Canada
CATEGORIES:Info Session,Networking
ATTACH;FMTTYPE=image/png:https://shiftkeylabs.ca/wp-content/uploads/2024/09/ShiftKey-Lounge_Instagram.png
END:VEVENT
END:VCALENDAR