BEGIN:VCALENDAR
VERSION:2.0
PRODID:-//ShiftKey Labs - ECPv6.3.5//NONSGML v1.0//EN
CALSCALE:GREGORIAN
METHOD:PUBLISH
X-ORIGINAL-URL:https://shiftkeylabs.ca
X-WR-CALDESC:Events for ShiftKey Labs
REFRESH-INTERVAL;VALUE=DURATION:PT1H
X-Robots-Tag:noindex
X-PUBLISHED-TTL:PT1H
BEGIN:VTIMEZONE
TZID:America/Halifax
BEGIN:DAYLIGHT
TZOFFSETFROM:-0400
TZOFFSETTO:-0300
TZNAME:ADT
DTSTART:20240310T060000
END:DAYLIGHT
BEGIN:STANDARD
TZOFFSETFROM:-0300
TZOFFSETTO:-0400
TZNAME:AST
DTSTART:20241103T050000
END:STANDARD
END:VTIMEZONE
BEGIN:VEVENT
DTSTART;TZID=America/Halifax:20240925T080000
DTEND;TZID=America/Halifax:20240925T170000
DTSTAMP:20260423T015440
CREATED:20240816T224159Z
LAST-MODIFIED:20240816T224457Z
UID:99487-1727251200-1727283600@shiftkeylabs.ca
SUMMARY:Here We Code: Tech Career Fair
DESCRIPTION:Calling all aspiring tech talents in Nova Scotia! \nJoin us on September 25th at Dalhousie University for the second  #HereWeCode Tech Career Fair! Come drop by our booth at the fair. \nEmbrace your passion for computer science and connect with top-notch companies. Whether you’re a coding expert or just starting your journey\, this fair welcomes all post-secondary students pursuing computer science education. \nDon’t miss this chance to explore your potential\, network\, and pave the way for a successful tech career! 💼 🤝 \nSign up today 👉 https://www.eventbrite.ca/e/here-we-code-tech-career-fair-tickets-945126708427?aff=oddtdtcreator \n  \n 
URL:https://shiftkeylabs.ca/event/here-we-code-tech-career-fair
LOCATION:Nova Scotia
CATEGORIES:Networking
ATTACH;FMTTYPE=image/jpeg:https://shiftkeylabs.ca/wp-content/uploads/2024/08/32231-CS-Here-We-Code-Fair_1080-x-1080.jpg
END:VEVENT
END:VCALENDAR