BEGIN:VCALENDAR
VERSION:2.0
PRODID:-//ShiftKey Labs - ECPv6.3.5//NONSGML v1.0//EN
CALSCALE:GREGORIAN
METHOD:PUBLISH
X-ORIGINAL-URL:https://shiftkeylabs.ca
X-WR-CALDESC:Events for ShiftKey Labs
REFRESH-INTERVAL;VALUE=DURATION:PT1H
X-Robots-Tag:noindex
X-PUBLISHED-TTL:PT1H
BEGIN:VTIMEZONE
TZID:America/Halifax
BEGIN:DAYLIGHT
TZOFFSETFROM:-0400
TZOFFSETTO:-0300
TZNAME:ADT
DTSTART:20240310T060000
END:DAYLIGHT
BEGIN:STANDARD
TZOFFSETFROM:-0300
TZOFFSETTO:-0400
TZNAME:AST
DTSTART:20241103T050000
END:STANDARD
END:VTIMEZONE
BEGIN:VEVENT
DTSTART;TZID=America/Halifax:20240918T103000
DTEND;TZID=America/Halifax:20240918T133000
DTSTAMP:20260423T015403
CREATED:20240816T225517Z
LAST-MODIFIED:20240816T225517Z
UID:99490-1726655400-1726666200@shiftkeylabs.ca
SUMMARY:Innovation Week: Open Street Innovation
DESCRIPTION:Uniting Dalhousie’s Visionaries for Collaboration and Advancement\nOpen Innovation Street is set to ignite your entrepreneurial spirit Wednesday\, September 18th\, from 10:30 a.m. to 1:30 p.m. This dynamic showcase aims to unite the innovation continuum at Dalhousie University. \nCome along as we bring together over 15 organizations\, offering you the unique opportunity to connect with innovation partners at booths and activations located across campus. Whether you’re seeking collaborative opportunities\, exploring new ventures\, or simply curious about the latest advancements\, Open Innovation Street promises an engaging experience for all. \nTime: 10:30 a.m. – 1:30 p.m. \n*Registration is not required.
URL:https://shiftkeylabs.ca/event/innovation-week-open-street-innovation
LOCATION:Nova Scotia
CATEGORIES:Networking,Off-Campus
END:VEVENT
END:VCALENDAR