BEGIN:VCALENDAR
VERSION:2.0
PRODID:-//ShiftKey Labs - ECPv6.3.5//NONSGML v1.0//EN
CALSCALE:GREGORIAN
METHOD:PUBLISH
X-WR-CALNAME:ShiftKey Labs
X-ORIGINAL-URL:https://shiftkeylabs.ca
X-WR-CALDESC:Events for ShiftKey Labs
REFRESH-INTERVAL;VALUE=DURATION:PT1H
X-Robots-Tag:noindex
X-PUBLISHED-TTL:PT1H
BEGIN:VTIMEZONE
TZID:Asia/Kolkata
BEGIN:STANDARD
TZOFFSETFROM:+0530
TZOFFSETTO:+0530
TZNAME:IST
DTSTART:20240101T000000
END:STANDARD
END:VTIMEZONE
BEGIN:VEVENT
DTSTART;VALUE=DATE:20240820
DTEND;VALUE=DATE:20240823
DTSTAMP:20260423T025559
CREATED:20240522T023941Z
LAST-MODIFIED:20240731T035342Z
UID:99067-1724112000-1724371199@shiftkeylabs.ca
SUMMARY:Google DevOps Days
DESCRIPTION:DevOpsDays Halifax is bringing DevOpsDays to the Atlantic Canada for the first time! The event will feature a variety of presentations\, discussions\, and networking opportunities\, all centered around the themes of collaboration\, automation\, measurement\, and sharing.\nYou’ll have the chance to learn from experts in the field\, share your own experiences\, and connect with like-minded professionals from around the region. We hope you’ll join us for this exciting event and help us build a stronger\, more vibrant DevOps community in Halifax.\nWhether you’re a seasoned veteran or just starting to explore the world of DevOps\, there’s a place for you at DevOpsDays Halifax. \n  \nDon’t miss the workshop taking place in cooperation with ShiftKey Labs on August 20th! Gain hands-on skills with Generative AI technologies on Google Cloud. \nGoogle Developers Group Halifax and the DevOpsDays Halifax team are hosting a hands on workshop event prior to the conference. This workshop is free to attend when you register for DevOpsDays Halifax! \nComplete the intermediate Explore Generative AI with the Vertex AI Gemini API skill badge to demonstrate skills in the following: text generation\, image and video analysis for enhanced content creation\, and applying function calling techniques within the Gemini API. Discover how to leverage sophisticated Gemini techniques\, explore multimodal content generation\, and expand the capabilities of your AI-powered projects. \nA skill badge is an exclusive digital badge issued by Google Cloud in recognition of your proficiency with Google Cloud products and services and tests your ability to apply your knowledge in an interactive hands-on environment. Complete this skill badge course and the final assessment challenge lab to receive a skill badge that you can share with your network. \nWhen you complete this course\, you can earn the badge displayed here! View all the badges you have earned by visiting your profile page. Boost your cloud career by showing the world the skills you have developed! \n  \nBuy ticket & find out more by visiting their website: https://devopsdays.org/events/2024-halifax/welcome/\nMake sure to check out specal student prices!
URL:https://shiftkeylabs.ca/event/google-devops-days
LOCATION:Nova Scotia
CATEGORIES:Networking,Off-Campus
ATTACH;FMTTYPE=image/png:https://shiftkeylabs.ca/wp-content/uploads/2024/05/dodhfxflyer.png
END:VEVENT
END:VCALENDAR