BEGIN:VCALENDAR
VERSION:2.0
PRODID:-//ShiftKey Labs - ECPv6.3.5//NONSGML v1.0//EN
CALSCALE:GREGORIAN
METHOD:PUBLISH
X-ORIGINAL-URL:https://shiftkeylabs.ca
X-WR-CALDESC:Events for ShiftKey Labs
REFRESH-INTERVAL;VALUE=DURATION:PT1H
X-Robots-Tag:noindex
X-PUBLISHED-TTL:PT1H
BEGIN:VTIMEZONE
TZID:Asia/Kolkata
BEGIN:STANDARD
TZOFFSETFROM:+0530
TZOFFSETTO:+0530
TZNAME:IST
DTSTART:20240101T000000
END:STANDARD
END:VTIMEZONE
BEGIN:VEVENT
DTSTART;TZID=Asia/Kolkata:20240814T170000
DTEND;TZID=Asia/Kolkata:20240814T190000
DTSTAMP:20260423T025749
CREATED:20240730T000206Z
LAST-MODIFIED:20240730T005444Z
UID:99438-1723654800-1723662000@shiftkeylabs.ca
SUMMARY:STEM Connector: Connections in the Sun
DESCRIPTION:Interested in enjoying a relaxing afternoon full of food\, games\, networking and the outdoors? Then join us on August 14th at 5 pm for our Connections in the Sun STEM Connector Event with DeepSense\, ShiftKey Labs\, and SURGE Innovation! Bring a blanket or chair\, and don’t forget your sunscreen. Hope to see you all there! \nDate: August 14\, 2024\nTime: 5:00PM\nLocation: Halifax Commons\, near the Emera Oval\nRegistration: https://www.tickettailor.com/events/stemconnector/1304006
URL:https://shiftkeylabs.ca/event/stem-connector-connections-in-the-sun
LOCATION:Nova Scotia
CATEGORIES:Networking,Off-Campus
ATTACH;FMTTYPE=image/jpeg:https://shiftkeylabs.ca/wp-content/uploads/2024/07/stem-connector-social-insta.jpg
END:VEVENT
END:VCALENDAR