BEGIN:VCALENDAR
VERSION:2.0
PRODID:-//ShiftKey Labs - ECPv6.3.5//NONSGML v1.0//EN
CALSCALE:GREGORIAN
METHOD:PUBLISH
X-WR-CALNAME:ShiftKey Labs
X-ORIGINAL-URL:https://shiftkeylabs.ca
X-WR-CALDESC:Events for ShiftKey Labs
REFRESH-INTERVAL;VALUE=DURATION:PT1H
X-Robots-Tag:noindex
X-PUBLISHED-TTL:PT1H
BEGIN:VTIMEZONE
TZID:America/Halifax
BEGIN:DAYLIGHT
TZOFFSETFROM:-0400
TZOFFSETTO:-0300
TZNAME:ADT
DTSTART:20250309T060000
END:DAYLIGHT
BEGIN:STANDARD
TZOFFSETFROM:-0300
TZOFFSETTO:-0400
TZNAME:AST
DTSTART:20251102T050000
END:STANDARD
END:VTIMEZONE
BEGIN:VEVENT
DTSTART;TZID=America/Halifax:20250304T180000
DTEND;TZID=America/Halifax:20250304T190000
DTSTAMP:20260422T122552
CREATED:20250219T191813Z
LAST-MODIFIED:20250219T191813Z
UID:101019-1741111200-1741114800@shiftkeylabs.ca
SUMMARY:ShiftKey Lounge: Entrepreneurship
DESCRIPTION:Join us for an insightful panel where Build Founders\, alumni\, and student freelancers open up about the challenges of balancing entrepreneurship with student life. Hear firsthand experiences on juggling the demands of running a business while pursuing a degree\, the obstacles they’ve faced\, and the lessons they’ve learned along the way. This session will give you a real-world look at the ups and downs of balancing school with building something of your own. Whether you’re considering an entrepreneurial path or just curious about the realities of it\, this event will leave you inspired and ready to take on the challenge! \n📅 Date: March 4th\n⏰ Time: 6:00 PM – 7:00 PM\n📌 Location: Goldberg Computer Science Building\, Room 430\n💰 Cost: FREE! \nRegister now: https://linktr.ee/shiftkeylabs 
URL:https://shiftkeylabs.ca/event/shiftkey-lounge-entrepreneurship-03-04
LOCATION:Goldberg Computer Science Building\, 6050 University Avenue\, Halifax\, Nova Scotia\, B3H 1W5\, Canada
CATEGORIES:AMA,Info Session,Lounge,Networking,Tech Talks
ATTACH;FMTTYPE=image/png:https://shiftkeylabs.ca/wp-content/uploads/2025/02/SK-Lounge-2025.png
END:VEVENT
BEGIN:VEVENT
DTSTART;TZID=America/Halifax:20250306T180000
DTEND;TZID=America/Halifax:20250306T210000
DTSTAMP:20260422T122552
CREATED:20250219T192726Z
LAST-MODIFIED:20250219T192726Z
UID:101022-1741284000-1741294800@shiftkeylabs.ca
SUMMARY:Women's Excellence Gala 2025
DESCRIPTION:Get ready for an exciting & inspiring evening to celebrate the achievements of women and non-binary in tech at the Women’s Excellence Gala! \n\n\n\n\n\n\n\n📅 Date: March 6th\, 2025\n⏰ Time: 6:00PM-9:00PM\n📌 Location: Dalhousie Student Union Building\, McInnes Room\n🎟️ Tickets: https://bit.ly/3XwmOLB
URL:https://shiftkeylabs.ca/event/womens-excellence-gala-2025
LOCATION:Dalhousie Student Union Building\, 6136 University Ave\, Halifax\, Nova Scotia\, B3H 4R2\, Canada
CATEGORIES:External Event,Networking
ATTACH;FMTTYPE=image/png:https://shiftkeylabs.ca/wp-content/uploads/2025/02/Gala.png
END:VEVENT
BEGIN:VEVENT
DTSTART;TZID=America/Halifax:20250315T170000
DTEND;TZID=America/Halifax:20250315T233000
DTSTAMP:20260422T122552
CREATED:20250219T193511Z
LAST-MODIFIED:20250219T195234Z
UID:101029-1742058000-1742081400@shiftkeylabs.ca
SUMMARY:Snowball Awards 2025
DESCRIPTION:CSS SNOWBALL 2025 is here❄️⭐️\nEvery year since 1997\, the Computer Science Society (CSS) hosts Snowball Gala\, an event that brings students\, staff\, faculty and individuals from the IT industry together to applaud student achievements in and out of the classroom.\nThis year was no different as we come together on March 15\, 2025 to celebrate accomplishments that vary from student academic successes and teaching to community engagement and leadership.\nWe have limited seats available\, so get your tickets as early as possible! \n📅 Date: March 15th\, 2025\n⏰ Time: 5:00PM-11:30PM\n📌 Location: The Westin Nova Scotian\n🎟️ Tickets: https://bit.ly/4k78ti7
URL:https://shiftkeylabs.ca/event/snowball-awards-2025
LOCATION:The Westin Nova Scotian\, 1181 Hollis Street\, Halifax\, Nova Scotia\, B3H 2P6\, Canada
CATEGORIES:External Event,Networking,Off-Campus
ATTACH;FMTTYPE=image/png:https://shiftkeylabs.ca/wp-content/uploads/2025/02/Snowball.png
END:VEVENT
BEGIN:VEVENT
DTSTART;TZID=America/Halifax:20250318T180000
DTEND;TZID=America/Halifax:20250318T190000
DTSTAMP:20260422T122552
CREATED:20250219T193915Z
LAST-MODIFIED:20250219T193945Z
UID:101033-1742320800-1742324400@shiftkeylabs.ca
SUMMARY:ShiftKey Lounge: Fintech
DESCRIPTION:Curious about what it’s really like working in the fintech industry? Come hear from senior students who’ve recently stepped into the field! They’ll share their experiences\, the skills that matter most in fintech\, and tips for breaking into the industry. Whether you’re aiming for a career in fintech or just curious about the journey\, this session will give you the insights you need to navigate this fast-growing industry. Don’t miss out on this opportunity to learn from those who are already diving in!  \n \n📅 Date: March 18th\n⏰ Time: 6:00 PM – 7:00 PM\n📌 Location: Goldberg Computer Science Building\, Room 430\n💰 Cost: FREE! \nRegister now: https://linktr.ee/shiftkeylabs 
URL:https://shiftkeylabs.ca/event/shiftkey-lounge-fintech
LOCATION:Goldberg Computer Science Building\, 6050 University Avenue\, Halifax\, Nova Scotia\, B3H 1W5\, Canada
CATEGORIES:AMA,Info Session,Lounge,Networking,Tech Talks
ATTACH;FMTTYPE=image/png:https://shiftkeylabs.ca/wp-content/uploads/2025/02/SK-Lounge-2025-copy.png
END:VEVENT
BEGIN:VEVENT
DTSTART;TZID=America/Halifax:20250324T160000
DTEND;TZID=America/Halifax:20250324T173000
DTSTAMP:20260422T122552
CREATED:20250219T194406Z
LAST-MODIFIED:20250410T142106Z
UID:101038-1742832000-1742837400@shiftkeylabs.ca
SUMMARY:Alumni Speaks: Andres Collart
DESCRIPTION:📅 Date: March 24\, 2025\n⏰ Time: 4:00PM-5:30PM\n📌 Location: Goldberg Computer Science Building
URL:https://shiftkeylabs.ca/event/alumni-speaks-andres-collart
LOCATION:Goldberg Computer Science Building\, 6050 University Avenue\, Halifax\, Nova Scotia\, B3H 1W5\, Canada
CATEGORIES:Alumni Speaks,Info Session,Networking,Tech Talks
ATTACH;FMTTYPE=image/png:https://shiftkeylabs.ca/wp-content/uploads/2022/12/Shiftkey-Labs-Logo-01-e1487284025704-1200x515-1.png
END:VEVENT
END:VCALENDAR