BEGIN:VCALENDAR
VERSION:2.0
PRODID:-//ShiftKey Labs - ECPv6.3.5//NONSGML v1.0//EN
CALSCALE:GREGORIAN
METHOD:PUBLISH
X-ORIGINAL-URL:https://shiftkeylabs.ca
X-WR-CALDESC:Events for ShiftKey Labs
REFRESH-INTERVAL;VALUE=DURATION:PT1H
X-Robots-Tag:noindex
X-PUBLISHED-TTL:PT1H
BEGIN:VTIMEZONE
TZID:Asia/Kolkata
BEGIN:STANDARD
TZOFFSETFROM:+0530
TZOFFSETTO:+0530
TZNAME:IST
DTSTART:20240101T000000
END:STANDARD
TZID:America/Halifax
BEGIN:DAYLIGHT
TZOFFSETFROM:-0400
TZOFFSETTO:-0300
TZNAME:ADT
DTSTART:20240310T060000
END:DAYLIGHT
BEGIN:STANDARD
TZOFFSETFROM:-0300
TZOFFSETTO:-0400
TZNAME:AST
DTSTART:20241103T050000
END:STANDARD
END:VTIMEZONE
BEGIN:VEVENT
DTSTART;VALUE=DATE:20241106
DTEND;VALUE=DATE:20241108
DTSTAMP:20260422T203044
CREATED:20240918T043341Z
LAST-MODIFIED:20241108T091804Z
UID:99579-1730851200-1731023999@shiftkeylabs.ca
SUMMARY:Find Your Co-Founder: Tech & Entrepreneurship
DESCRIPTION:Come Join us for the Find Your Cofounder: Tech & Entrepreneurship Event on November 6th\, 7th & 8th co-hosted by Shiftkey\, DalInovates\, and the Arthur L. Irving Entrepreneurship Centre.Each session day is unique (and in a different location!)\, so you are welcome to attend all three or just the days that interest you. Expect delicious food from local entrepreneurs and thought-provoking discussions on all 3 days!\n\nHere’s what you’ll get from this:\n\nHow to Talk Tech: how to talk tech to non-tech startups and why entrepreneurship is so important in the tech industry\nNovember 6\, 2024  |  6:00PM-7:00PM  |  Arthur L Irving Entrepreneurship Centre\, Sobey Inspiration Hub (SH212)\n\nTech in Entrepreneurship: exploring the importance of tech in entrepreneurship and what entrepreneurial skills are vital for tech and non-tech startups\nNovember 7\, 2024  |  6:00PM-7:00PM  |  Goldberg Computer Science Building\, Room 127\n\nPOSTPONED*: Find your CoFounder: Panel discussion with this week’s speakers\, Q&A\, and networking (dinner included!)\n\nDon’t miss this opportunity to connect and learn! See you there!\n\nRegister now: https://bit.ly/shiftkey-events
URL:https://shiftkeylabs.ca/event/find-your-co-founder-tech-entrepreneurship
LOCATION:Dalhousie and SMU
CATEGORIES:Info Session,Networking,Off-Campus,Skills Development
ATTACH;FMTTYPE=image/png:https://shiftkeylabs.ca/wp-content/uploads/2024/09/Co-Founder.png
END:VEVENT
BEGIN:VEVENT
DTSTART;TZID=America/Halifax:20241106T173000
DTEND;TZID=America/Halifax:20241106T190000
DTSTAMP:20260422T203044
CREATED:20240914T004544Z
LAST-MODIFIED:20241016T231247Z
UID:99564-1730914200-1730919600@shiftkeylabs.ca
SUMMARY:ShiftKey Lounge: Cloud & Cybersecurity
DESCRIPTION:ShiftKey Lounge is a collaborative project with the Faculty of Computer Science to introduce new students to all the amazing things they can do with a Computer Science education. This informal drop-in session will take place every Wednesday from October 2\, 2024 until November 13\, 2024.In each of these sessions\, you’ll get to meet upper-year students\, recent graduates\, industry professionals\, and advisors to help you get the tools you need to learn more about what you are most passionate about. Learn about important resources and events\, what it is like to work in different fields\, and ask all your curious questions at ShiftKey Lounge. \nFood will be provided at each drop-in session. Registration is not required. \nDetails for this session:  \nThe theme for the ShiftKey Lounge drop-in session on November 6 from 5:30PM-7:00PM is Cloud & Cybersecurity. To talk all things Cloud & Cybersecurity\, we’ve got a great panel of guests lined up. \n\nComing soon!\n\nOther sessions this term:  \nNovember 13 – Entrepreneurship as an International
URL:https://shiftkeylabs.ca/event/shiftkey-lounge-cloud-cybersecurity
LOCATION:Goldberg Computer Science Building\, 6050 University Avenue\, Halifax\, Nova Scotia\, B3H 1W5\, Canada
CATEGORIES:Info Session,Networking
ATTACH;FMTTYPE=image/png:https://shiftkeylabs.ca/wp-content/uploads/2024/09/Lounge.png
END:VEVENT
BEGIN:VEVENT
DTSTART;TZID=America/Halifax:20241113T150000
DTEND;TZID=America/Halifax:20241113T190000
DTSTAMP:20260422T203044
CREATED:20241019T020818Z
LAST-MODIFIED:20241029T031843Z
UID:99719-1731510000-1731524400@shiftkeylabs.ca
SUMMARY:STEM Connector: Ocean Networking
DESCRIPTION:Join us on November 13 for an exclusive opportunity to explore careers in the blue economy at The PIER! \nThis is the perfect opportunity to connect and build relationships with key players in the field. Enjoy refreshments\, networking\, and an opportunity to meet some of the companies working out of The PIER. \nFor students\, if you are attending the Ocean Industry Crawl\, you don’t need to register for this event\, your Crawl registration includes the Networking Event. \nFor PIER members\, this is an excellent opportunity to connect with undergraduate and post-graduate students as well as industry professionals and the ecosystem. PIER members will have access to a table during the event to showcase or demo and connect with students. \nWhether you’re a post-secondary student eager to chart your career path\, an ocean enthusiast looking to deepen your knowledge\, or an industry professional looking to engage the brightest academic minds\, the Ocean Industry Networking Event is your compass to the future of ocean technology. \nThis event is brought to you by DeepSense\, Shiftkey Labs\, COVE\, SURGE Innovation\, NSCC\, The PIER\, Port Halifax\, OTCNS and BHER \n📅 Date: November 13\, 2024\n⏰ Time: 4:00PM-6:00PM\n📌 Location: The Pier\n✍ Registration: https://www.eventbrite.ca/e/ocean-industry-networking-event-tickets-1062078668889?aff=oddtdtcreator
URL:https://shiftkeylabs.ca/event/stem-connector-ocean-networking
LOCATION:The PIER\, 1209 Marginal Road\, Halifax\, Nova Scotia\, Canada
CATEGORIES:Info Session,Networking
ATTACH;FMTTYPE=image/png:https://shiftkeylabs.ca/wp-content/uploads/2024/10/STEM-Connector-Pier.png
END:VEVENT
BEGIN:VEVENT
DTSTART;TZID=America/Halifax:20241113T173000
DTEND;TZID=America/Halifax:20241113T190000
DTSTAMP:20260422T203044
CREATED:20240914T004735Z
LAST-MODIFIED:20241113T222237Z
UID:99566-1731519000-1731524400@shiftkeylabs.ca
SUMMARY:Postponed: ShiftKey Lounge: Entrepreneurship as an International
DESCRIPTION:November 13 session is postponed! Keep an eye out for the make-up date.  \nShiftKey Lounge is a collaborative project with the Faculty of Computer Science to introduce new students to all the amazing things they can do with a Computer Science education. This informal drop-in session will take place every Wednesday from October 2\, 2024 until November 13\, 2024.In each of these sessions\, you’ll get to meet upper-year students\, recent graduates\, industry professionals\, and advisors to help you get the tools you need to learn more about what you are most passionate about. Learn about important resources and events\, what it is like to work in different fields\, and ask all your curious questions at ShiftKey Lounge. \nFood will be provided at each drop-in session. Registration is not required. \nDetails for this session:  \nThe theme for the ShiftKey Lounge drop-in session on November 13 from 5:30PM-7:00PM is Entrepreneurship as an International. To introduce all the details about being an Entrepreneur as an International\, we’ve got a great panel of guests lined up. \n\nComing soon!\n\n 
URL:https://shiftkeylabs.ca/event/shiftkey-lounge-entrepreneurship
LOCATION:Goldberg Computer Science Building\, 6050 University Avenue\, Halifax\, Nova Scotia\, B3H 1W5\, Canada
CATEGORIES:Info Session,Networking
ATTACH;FMTTYPE=image/png:https://shiftkeylabs.ca/wp-content/uploads/2024/09/Lounge.png
END:VEVENT
BEGIN:VEVENT
DTSTART;VALUE=DATE:20241114
DTEND;VALUE=DATE:20241115
DTSTAMP:20260422T203044
CREATED:20241019T021239Z
LAST-MODIFIED:20241025T041356Z
UID:99723-1731542400-1731628799@shiftkeylabs.ca
SUMMARY:BSides Halifax Cybersecurity Conference
DESCRIPTION:BSides Halifax is proud to announce our 4th (becoming annual!) Halifax BSides conference! The event will once again be held IRL (in real life)\, but this time in the fall on Thursday\, November 14th\, 2024. It will be another great day filled with talks and the chance to spend time with fellow security enthusiasts\, as well as some muffins\, hopefully. \nFor this go round we are partnering with ShiftKey Labs and will be holding the event at Dalhousie’s Computer Science building. As always\, all are welcome\, be they battle-hardened analysts\, DC902 stalwarts\, application security experts\, or those new to the field. \nAs we did last year\, we are offering tickets for a minimum donation of $13.37 (we’ll keep this price point as long as we possibly can). All proceeds will again go to Feed Nova Scotia\, because grocery prices haven’t gotten any better since last time. Student Tickets are Free! \nWe are looking forward to seeing everyone mid November and are excited by the chance to hold the event at a larger venue. We’ll have some old favorites and a fresh batch of talks and activities to enjoy. \nKeep on reading to see the schedule and how to register. \n  \n \nImportant information: \n📅 Date: November 14th\, 2024\n⏰ Time: 9:00am to 4:30pm\n📌 Location: The Goldberg Computer Science Building\n✍ Registration Instructions:\n💼 For Industry Professionals: Please Click Here\n🎓 For Students: Due to limited student spaces\, please email info@shiftkeylabs.ca to register.
URL:https://shiftkeylabs.ca/event/bsides-cybersecurity-conference
LOCATION:Goldberg Computer Science Building\, 6050 University Avenue\, Halifax\, Nova Scotia\, B3H 1W5\, Canada
CATEGORIES:Networking
ATTACH;FMTTYPE=image/png:https://shiftkeylabs.ca/wp-content/uploads/2024/10/Website-Graphics.png
END:VEVENT
END:VCALENDAR