BEGIN:VCALENDAR
VERSION:2.0
PRODID:-//ShiftKey Labs - ECPv6.3.5//NONSGML v1.0//EN
CALSCALE:GREGORIAN
METHOD:PUBLISH
X-ORIGINAL-URL:https://shiftkeylabs.ca
X-WR-CALDESC:Events for ShiftKey Labs
REFRESH-INTERVAL;VALUE=DURATION:PT1H
X-Robots-Tag:noindex
X-PUBLISHED-TTL:PT1H
BEGIN:VTIMEZONE
TZID:America/Halifax
BEGIN:DAYLIGHT
TZOFFSETFROM:-0400
TZOFFSETTO:-0300
TZNAME:ADT
DTSTART:20260308T060000
END:DAYLIGHT
BEGIN:STANDARD
TZOFFSETFROM:-0300
TZOFFSETTO:-0400
TZNAME:AST
DTSTART:20261101T050000
END:STANDARD
END:VTIMEZONE
BEGIN:VEVENT
DTSTART;TZID=America/Halifax:20260328T100000
DTEND;TZID=America/Halifax:20260328T170000
DTSTAMP:20260421T110856
CREATED:20260312T164141Z
LAST-MODIFIED:20260316T145033Z
UID:103963-1774692000-1774717200@shiftkeylabs.ca
SUMMARY:Summit for Women in Future Technologies (SWIFT)
DESCRIPTION:This full-day experience is designed by the women of the Faculty of Computer Science\, for the women of the Faculty of Computer Science\, and will be packed with inspiring conversations\, practical insights\, and opportunities to grow within a supportive community. \nSWIFT brings together students\, alumni\, faculty\, and industry professionals for a day of engaging workshops\, panel discussions\, and interactive sessions focused on empowering women and gender-diverse people to thrive in the technology sector. Whether you are exploring career possibilities\, building new skills\, or looking to connect with others who share your ambitions\, SWIFT offers a welcoming space to learn\, network\, and celebrate the impact of women in technology. \nThanks to the generous support of the Leacross Foundation and ShiftKey Academy\, attendance is completely free\, and lunch\, snacks\, and refreshments will be provided throughout the day. Join us for a Saturday dedicated to empowerment\, inspiration\, and community growth — and be part of a movement shaping the future of technology. \nDate: March 28\, 2026\nLocation: Goldberg Computer Science Building\nRegistration: https://shiftkeylabs.ca/register \n 
URL:https://shiftkeylabs.ca/event/swift
LOCATION:Goldberg Computer Science Building\, 6050 University Avenue\, Halifax\, Nova Scotia\, B3H 1W5\, Canada
CATEGORIES:Networking
ATTACH;FMTTYPE=image/png:https://shiftkeylabs.ca/wp-content/uploads/2026/03/4-1.png
END:VEVENT
END:VCALENDAR