BEGIN:VCALENDAR
VERSION:2.0
PRODID:-//ShiftKey Labs - ECPv6.3.5//NONSGML v1.0//EN
CALSCALE:GREGORIAN
METHOD:PUBLISH
X-WR-CALNAME:ShiftKey Labs
X-ORIGINAL-URL:https://shiftkeylabs.ca
X-WR-CALDESC:Events for ShiftKey Labs
REFRESH-INTERVAL;VALUE=DURATION:PT1H
X-Robots-Tag:noindex
X-PUBLISHED-TTL:PT1H
BEGIN:VTIMEZONE
TZID:America/Halifax
BEGIN:DAYLIGHT
TZOFFSETFROM:-0400
TZOFFSETTO:-0300
TZNAME:ADT
DTSTART:20260308T060000
END:DAYLIGHT
BEGIN:STANDARD
TZOFFSETFROM:-0300
TZOFFSETTO:-0400
TZNAME:AST
DTSTART:20261101T050000
END:STANDARD
END:VTIMEZONE
BEGIN:VEVENT
DTSTART;TZID=America/Halifax:20260305T173000
DTEND;TZID=America/Halifax:20260305T190000
DTSTAMP:20260421T110518
CREATED:20260209T203038Z
LAST-MODIFIED:20260218T162722Z
UID:103867-1772731800-1772737200@shiftkeylabs.ca
SUMMARY:Industry Showcase: Rakuten Kobo
DESCRIPTION:Industry Showcase with Rakuten Kobo \nInterested in careers in tech and digital publishing? Join us to hear directly from the team at Rakuten Kobo and explore what it’s like to work at a global tech company. \nBenefits of attending:\n• Learn about Rakuten Kobo and what they do\n• Discover career opportunities within the organization\n• Find out about salary information\, hiring processes\, and employee benefits\n• Network with recruiters and staff \n📅 March 5\, 2026\n⏰ 5:30 PM – 7:00 PM\n🎟️ Register here! https://bit.ly/shiftkey-events
URL:https://shiftkeylabs.ca/event/industry-showcase-rakuten-kobo
LOCATION:Goldberg Computer Science Building\, 6050 University Avenue\, Halifax\, Nova Scotia\, B3H 1W5\, Canada
CATEGORIES:Industry Showcase
ATTACH;FMTTYPE=image/png:https://shiftkeylabs.ca/wp-content/uploads/2026/02/New-Workshop-Template-Website-2.png
END:VEVENT
END:VCALENDAR