BEGIN:VCALENDAR
VERSION:2.0
PRODID:-//ShiftKey Labs - ECPv6.3.5//NONSGML v1.0//EN
CALSCALE:GREGORIAN
METHOD:PUBLISH
X-ORIGINAL-URL:https://shiftkeylabs.ca
X-WR-CALDESC:Events for ShiftKey Labs
REFRESH-INTERVAL;VALUE=DURATION:PT1H
X-Robots-Tag:noindex
X-PUBLISHED-TTL:PT1H
BEGIN:VTIMEZONE
TZID:America/Halifax
BEGIN:DAYLIGHT
TZOFFSETFROM:-0400
TZOFFSETTO:-0300
TZNAME:ADT
DTSTART:20260308T060000
END:DAYLIGHT
BEGIN:STANDARD
TZOFFSETFROM:-0300
TZOFFSETTO:-0400
TZNAME:AST
DTSTART:20261101T050000
END:STANDARD
END:VTIMEZONE
BEGIN:VEVENT
DTSTART;TZID=America/Halifax:20260304T180000
DTEND;TZID=America/Halifax:20260304T200000
DTSTAMP:20260421T110855
CREATED:20260225T151554Z
LAST-MODIFIED:20260225T151631Z
UID:103905-1772647200-1772654400@shiftkeylabs.ca
SUMMARY:Canadian Medical Datathon: From Zero to Data-Ready
DESCRIPTION:New to healthcare data or AI? This beginner-friendly session breaks down the basics with no coding experience needed! \n  \nLearn how healthcare data is structured\, what machine learning models do\, how to understand metrics like accuracy and F1 score\, and how teams turn raw datasets into real clinical insights. You’ll leave ready to confidently contribute at the upcoming datathon! \n  \nLed by Dorsa Soleymani (MCS\, Dalhousie University)\, the winner of the 2025 National Canadian Medical Datathon! \n  \n📅 March 4\, 2026 \n⏰ 6:00–8:00 PM \n📍 Online (Microsoft Teams) \n  \n🔗 Register here! https://bit.ly/shiftkey-events
URL:https://shiftkeylabs.ca/event/canadian-medical-datathon-from-zero-to-data-ready
ATTACH;FMTTYPE=image/jpeg:https://shiftkeylabs.ca/wp-content/uploads/2026/02/Tech-Forum-Beyond-the-Cloud-Hype.jpg
END:VEVENT
END:VCALENDAR