BEGIN:VCALENDAR
VERSION:2.0
PRODID:-//ShiftKey Labs - ECPv6.3.5//NONSGML v1.0//EN
CALSCALE:GREGORIAN
METHOD:PUBLISH
X-ORIGINAL-URL:https://shiftkeylabs.ca
X-WR-CALDESC:Events for ShiftKey Labs
REFRESH-INTERVAL;VALUE=DURATION:PT1H
X-Robots-Tag:noindex
X-PUBLISHED-TTL:PT1H
BEGIN:VTIMEZONE
TZID:America/Halifax
BEGIN:DAYLIGHT
TZOFFSETFROM:-0400
TZOFFSETTO:-0300
TZNAME:ADT
DTSTART:20260308T060000
END:DAYLIGHT
BEGIN:STANDARD
TZOFFSETFROM:-0300
TZOFFSETTO:-0400
TZNAME:AST
DTSTART:20261101T050000
END:STANDARD
END:VTIMEZONE
BEGIN:VEVENT
DTSTART;TZID=America/Halifax:20260303T180000
DTEND;TZID=America/Halifax:20260303T200000
DTSTAMP:20260421T110925
CREATED:20260209T202325Z
LAST-MODIFIED:20260210T011443Z
UID:103853-1772560800-1772568000@shiftkeylabs.ca
SUMMARY:Academy UP: Core Cybersecurity (1/5)
DESCRIPTION:🔐 Ready to explore the world of cybersecurity? \nJoin the Core Cybersecurity Course by ShiftKey Academy UP\, led by Aman Bhalla and Kaitlyn Woodworth. This hands-on course introduces key areas like Information Security\, Threat Assessments\, and Cloud Infrastructure Security—helping you build practical skills to assess risks\, safeguard data\, and navigate real cybersecurity frameworks. \n💻 Open to all disciplines and skill levels—no prior experience required! \n📅 Tuesdays in March (March 3\, 10\, 17\, 24 & 31)\n⏰ 6:00 PM – 8:00 PM\n📍 Goldberg Room 127 (March 10 will be held in Room 143) \nThank you to Cognizant for supporting the ShiftKey Academy UP program and making these opportunities possible. \nRegistration is now open: https://bit.ly/shiftkey-events
URL:https://shiftkeylabs.ca/event/academy-up-core-cybersecurity-1-4
LOCATION:Goldberg Computer Science Building\, 6050 University Avenue\, Halifax\, Nova Scotia\, B3H 1W5\, Canada
CATEGORIES:Academy UP
ATTACH;FMTTYPE=image/jpeg:https://shiftkeylabs.ca/wp-content/uploads/2026/02/Academy-Up-Website-Event-Images-4.jpg
END:VEVENT
END:VCALENDAR