BEGIN:VCALENDAR
VERSION:2.0
PRODID:-//ShiftKey Labs - ECPv6.3.5//NONSGML v1.0//EN
CALSCALE:GREGORIAN
METHOD:PUBLISH
X-ORIGINAL-URL:https://shiftkeylabs.ca
X-WR-CALDESC:Events for ShiftKey Labs
REFRESH-INTERVAL;VALUE=DURATION:PT1H
X-Robots-Tag:noindex
X-PUBLISHED-TTL:PT1H
BEGIN:VTIMEZONE
TZID:America/Halifax
BEGIN:DAYLIGHT
TZOFFSETFROM:-0400
TZOFFSETTO:-0300
TZNAME:ADT
DTSTART:20260308T060000
END:DAYLIGHT
BEGIN:STANDARD
TZOFFSETFROM:-0300
TZOFFSETTO:-0400
TZNAME:AST
DTSTART:20261101T050000
END:STANDARD
END:VTIMEZONE
BEGIN:VEVENT
DTSTART;TZID=America/Halifax:20260224T173000
DTEND;TZID=America/Halifax:20260224T190000
DTSTAMP:20260421T121617
CREATED:20260127T023346Z
LAST-MODIFIED:20260218T161356Z
UID:103831-1771954200-1771959600@shiftkeylabs.ca
SUMMARY:Industry Showcase: Trihedral Engineering Limited
DESCRIPTION:The Industry Showcase with Trihedral Engineering Limited \nDate: Tuesday February 24\, 2026 \nTime: 5:30pm – 7:00pm \nLocation: Room 430 Slonim Conference Room\, Goldberg Computer Science Building \nRegistration: Click here to register \nBenefits of attending: \n\nLearn about the organization’s operations\nDiscover upcoming job and training opportunities\nLearn about a Halifax based company
URL:https://shiftkeylabs.ca/event/industry-showcase-trihedral
ATTACH;FMTTYPE=image/png:https://shiftkeylabs.ca/wp-content/uploads/2026/01/Industry-Showcase-Trihedral.png
END:VEVENT
END:VCALENDAR