BEGIN:VCALENDAR
VERSION:2.0
PRODID:-//ShiftKey Labs - ECPv6.3.5//NONSGML v1.0//EN
CALSCALE:GREGORIAN
METHOD:PUBLISH
X-WR-CALNAME:ShiftKey Labs
X-ORIGINAL-URL:https://shiftkeylabs.ca
X-WR-CALDESC:Events for ShiftKey Labs
REFRESH-INTERVAL;VALUE=DURATION:PT1H
X-Robots-Tag:noindex
X-PUBLISHED-TTL:PT1H
BEGIN:VTIMEZONE
TZID:America/Halifax
BEGIN:DAYLIGHT
TZOFFSETFROM:-0400
TZOFFSETTO:-0300
TZNAME:ADT
DTSTART:20260308T060000
END:DAYLIGHT
BEGIN:STANDARD
TZOFFSETFROM:-0300
TZOFFSETTO:-0400
TZNAME:AST
DTSTART:20261101T050000
END:STANDARD
END:VTIMEZONE
BEGIN:VEVENT
DTSTART;TZID=America/Halifax:20260218T180000
DTEND;TZID=America/Halifax:20260218T200000
DTSTAMP:20260421T122739
CREATED:20260121T154906Z
LAST-MODIFIED:20260121T154906Z
UID:103799-1771437600-1771444800@shiftkeylabs.ca
SUMMARY:ShiftKey Academy Up: Databases After Graduation (3/4)
DESCRIPTION:🗄️ Ready to take your database skills beyond the classroom? Databases After Graduation is a practical course designed to bridge the gap between basic SQL and how databases are actually used in real-world backend systems. You’ll explore how design decisions impact performance\, reliability\, and scalability skills companies look for on the job and in technical interviews. \n  \nAcross four sessions\, you’ll dive into data modeling\, production-level SQL\, databases behind APIs\, and the principles of concurrency and consistency that power modern systems. \n  \n📆 Wednesdays in February (Feb 4\, 11\, 18 & 25) | ⏰ 6–8 PM | 📍 Room 143 \n  \nThis course is ideal for students with basic SQL knowledge and introductory programming experience who want to build confidence working with real database systems. \n  \nLed by Narges\, a PhD candidate in Computer Science at Dalhousie University and researcher at the MYTech Lab\, with extensive experience in database-driven and data-intensive systems. \n  \nRegistration is now open! https://bit.ly/shiftkey-events
URL:https://shiftkeylabs.ca/event/shiftkey-academy-up-databases-after-graduation-3-4
ATTACH;FMTTYPE=image/jpeg:https://shiftkeylabs.ca/wp-content/uploads/2026/01/Academy-Up-Website-Event-Images-3.jpg
END:VEVENT
END:VCALENDAR