BEGIN:VCALENDAR
VERSION:2.0
PRODID:-//ShiftKey Labs - ECPv6.3.5//NONSGML v1.0//EN
CALSCALE:GREGORIAN
METHOD:PUBLISH
X-ORIGINAL-URL:https://shiftkeylabs.ca
X-WR-CALDESC:Events for ShiftKey Labs
REFRESH-INTERVAL;VALUE=DURATION:PT1H
X-Robots-Tag:noindex
X-PUBLISHED-TTL:PT1H
BEGIN:VTIMEZONE
TZID:America/Halifax
BEGIN:DAYLIGHT
TZOFFSETFROM:-0400
TZOFFSETTO:-0300
TZNAME:ADT
DTSTART:20260308T060000
END:DAYLIGHT
BEGIN:STANDARD
TZOFFSETFROM:-0300
TZOFFSETTO:-0400
TZNAME:AST
DTSTART:20261101T050000
END:STANDARD
END:VTIMEZONE
BEGIN:VEVENT
DTSTART;TZID=America/Halifax:20260208T130000
DTEND;TZID=America/Halifax:20260208T163000
DTSTAMP:20260421T123614
CREATED:20260127T020022Z
LAST-MODIFIED:20260127T021811Z
UID:103816-1770555600-1770568200@shiftkeylabs.ca
SUMMARY:Collect. @ ShiftKey
DESCRIPTION:Collect. is bringing its creative and collaborative energy to ShiftKey and creating a space where students who are interested in computer science and tech can focus\, create\, and connect directly with professionals and innovators already involved in the Collect. community. Whether you’re building a technical project\, exploring a startup idea\, or diving into a personal passion\, this event offers the time\, tools\, and environment to make meaningful progress\, surrounded by people who share your drive. You’ll work through two focused deep-work sessions using the Pomodoro Method\, a productivity approach that helps you stay engaged through structured intervals of concentration and rest. Between sessions\, you’ll have the chance to meet and collaborate with peers and industry guests from the Collect. network. The event wraps up with an optional showcase where participants can share what they’ve been working on and connect over ideas\, feedback\, and inspiration.\n\nSchedule:\n1:00 PM — Kickoff & Introductions\nShare your goals and what you’re working on.\n1:15 PM — Deep Work Block #1 (50 min)\nWork independently or collaborate with others\, followed by a 10-minute break.\n2:15 PM — Deep Work Block #2 (50 min)\nContinue building momentum\, followed by another 10-minute break.\n3:15 PM — Demos & Closing\nShow your progress and network with others.\nWhy Attend?\n\nExperience a Collect. event — right here at ShiftKey \nConnect with industry professionals and fellow innovators\,\nBuild momentum on projects you care about\,\nLearn and apply productivity techniques that actually work\,\nCollaborate\, share ideas\, and get inspired\,\n\nThis collaboration is about bridging the community and connecting Collect.’s creative network with students who are passionate about tech.\nCome ready to focus\, create\, and connect.
URL:https://shiftkeylabs.ca/event/collect
ATTACH;FMTTYPE=image/jpeg:https://shiftkeylabs.ca/wp-content/uploads/2025/12/thumbnail_Collect-x-ShifKey-Labs.jpg
END:VEVENT
END:VCALENDAR