BEGIN:VCALENDAR
VERSION:2.0
PRODID:-//ShiftKey Labs - ECPv6.3.5//NONSGML v1.0//EN
CALSCALE:GREGORIAN
METHOD:PUBLISH
X-ORIGINAL-URL:https://shiftkeylabs.ca
X-WR-CALDESC:Events for ShiftKey Labs
REFRESH-INTERVAL;VALUE=DURATION:PT1H
X-Robots-Tag:noindex
X-PUBLISHED-TTL:PT1H
BEGIN:VTIMEZONE
TZID:America/Halifax
BEGIN:DAYLIGHT
TZOFFSETFROM:-0400
TZOFFSETTO:-0300
TZNAME:ADT
DTSTART:20260308T060000
END:DAYLIGHT
BEGIN:STANDARD
TZOFFSETFROM:-0300
TZOFFSETTO:-0400
TZNAME:AST
DTSTART:20261101T050000
END:STANDARD
END:VTIMEZONE
BEGIN:VEVENT
DTSTART;TZID=America/Halifax:20260114T180000
DTEND;TZID=America/Halifax:20260114T190000
DTSTAMP:20260421T135022
CREATED:20260106T193440Z
LAST-MODIFIED:20260106T193440Z
UID:103745-1768413600-1768417200@shiftkeylabs.ca
SUMMARY:AI2Market Launch Info Session
DESCRIPTION:Interested in learning how the AI2Market Launch program can help you build the skills and confidence to lead an AI-driven enterprise?\n\nLaunch is a three-month\, full-time experience focused on execution: developing robust business and financial models\, creating a go-to-market strategy\, and iterating an AI-based product. This info session is an opportunity to learn more about the program\, understand what to expect\, and ask any questions you may have.\n\nDate: January 14\, 2026\nTime: 6:00 pm – 7:00 pm\n\nRegister here: https://www.eventbrite.ca/e/info-session-ai2market-launch-tickets-1975697280751?aff=oddtdtcreator
URL:https://shiftkeylabs.ca/event/ai2market-launch-info-session
ATTACH;FMTTYPE=image/png:https://shiftkeylabs.ca/wp-content/uploads/2026/01/AI2M-Info-Session-L.png
END:VEVENT
END:VCALENDAR