BEGIN:VCALENDAR
VERSION:2.0
PRODID:-//ShiftKey Labs - ECPv6.3.5//NONSGML v1.0//EN
CALSCALE:GREGORIAN
METHOD:PUBLISH
X-WR-CALNAME:ShiftKey Labs
X-ORIGINAL-URL:https://shiftkeylabs.ca
X-WR-CALDESC:Events for ShiftKey Labs
REFRESH-INTERVAL;VALUE=DURATION:PT1H
X-Robots-Tag:noindex
X-PUBLISHED-TTL:PT1H
BEGIN:VTIMEZONE
TZID:America/Halifax
BEGIN:DAYLIGHT
TZOFFSETFROM:-0400
TZOFFSETTO:-0300
TZNAME:ADT
DTSTART:20250309T060000
END:DAYLIGHT
BEGIN:STANDARD
TZOFFSETFROM:-0300
TZOFFSETTO:-0400
TZNAME:AST
DTSTART:20251102T050000
END:STANDARD
END:VTIMEZONE
BEGIN:VEVENT
DTSTART;TZID=America/Halifax:20251119T173000
DTEND;TZID=America/Halifax:20251119T200000
DTSTAMP:20260421T164521
CREATED:20251021T165812Z
LAST-MODIFIED:20251106T172641Z
UID:103511-1763573400-1763582400@shiftkeylabs.ca
SUMMARY:Docker & Containers Workshop
DESCRIPTION:🚀 Ready to level up your dev skills? Join our Docker & Containers Workshop in Goldberg Room 127 to learn how containers work and how they’re used in real-world projects! You’ll gain the hands-on skills to build and deploy your own apps using Docker. 🐳 \n💡 Open to anyone with basic programming knowledge (Python\, Node\, etc.) \n💻 Make sure Docker is installed on your machine before the session! \nSign up now: https://bit.ly/shiftkey-events
URL:https://shiftkeylabs.ca/event/dockers-containers-workshop
LOCATION:Goldberg Computer Science Building\, 6050 University Avenue\, Halifax\, Nova Scotia\, B3H 1W5\, Canada
CATEGORIES:Workshop
ATTACH;FMTTYPE=image/png:https://shiftkeylabs.ca/wp-content/uploads/2025/10/New-Workshop-Template-Website.png
END:VEVENT
END:VCALENDAR