BEGIN:VCALENDAR
VERSION:2.0
PRODID:-//ShiftKey Labs - ECPv6.3.5//NONSGML v1.0//EN
CALSCALE:GREGORIAN
METHOD:PUBLISH
X-ORIGINAL-URL:https://shiftkeylabs.ca
X-WR-CALDESC:Events for ShiftKey Labs
REFRESH-INTERVAL;VALUE=DURATION:PT1H
X-Robots-Tag:noindex
X-PUBLISHED-TTL:PT1H
BEGIN:VTIMEZONE
TZID:America/Halifax
BEGIN:DAYLIGHT
TZOFFSETFROM:-0400
TZOFFSETTO:-0300
TZNAME:ADT
DTSTART:20250309T060000
END:DAYLIGHT
BEGIN:STANDARD
TZOFFSETFROM:-0300
TZOFFSETTO:-0400
TZNAME:AST
DTSTART:20251102T050000
END:STANDARD
END:VTIMEZONE
BEGIN:VEVENT
DTSTART;TZID=America/Halifax:20251114T170000
DTEND;TZID=America/Halifax:20251114T180000
DTSTAMP:20260421T164747
CREATED:20251002T160429Z
LAST-MODIFIED:20251020T161704Z
UID:103256-1763139600-1763143200@shiftkeylabs.ca
SUMMARY:Academy UP Course: AWS Cloud AI Practitioner Prep (2/4)
DESCRIPTION:The AWS Cloud AI Practitioner Prep Course by ShiftKey Academy UP is your launchpad into the world of cloud-powered artificial intelligence. Whether you’re curious about AWS\, aiming for certification\, or exploring how AI tools are built and deployed in real-world systems — this course will get you there. \nDesigned for learners from all backgrounds\, we start with the fundamentals of cloud computing and artificial intelligence before diving into practical AWS services like Bedrock\, SageMaker\, Amazon Q\, and Managed AI tools. Along the way\, you’ll explore essential AI concepts like RAG architecture\, prompting techniques\, fine-tuning\, governance\, and responsible deployment practices. \nThrough ten short\, self-paced sessions — paired with optional live support — you’ll build the confidence to navigate AWS’s AI ecosystem and prepare for official certification. \nNo AWS or coding background? No problem — all you need is curiosity and commitment. \nThank you to Cognizant for supporting ShiftKey Academy UP and making this course possible. \nRegistration link: https://bit.ly/shiftkey-events
URL:https://shiftkeylabs.ca/event/academy-up-course-aws-cloud-ai-practitioner-prep-2-4
LOCATION:Virtual
CATEGORIES:Academy UP
ATTACH;FMTTYPE=image/png:https://shiftkeylabs.ca/wp-content/uploads/2025/10/Academy-AI-Series.png
END:VEVENT
END:VCALENDAR