BEGIN:VCALENDAR
VERSION:2.0
PRODID:-//ShiftKey Labs - ECPv6.3.5//NONSGML v1.0//EN
CALSCALE:GREGORIAN
METHOD:PUBLISH
X-WR-CALNAME:ShiftKey Labs
X-ORIGINAL-URL:https://shiftkeylabs.ca
X-WR-CALDESC:Events for ShiftKey Labs
REFRESH-INTERVAL;VALUE=DURATION:PT1H
X-Robots-Tag:noindex
X-PUBLISHED-TTL:PT1H
BEGIN:VTIMEZONE
TZID:America/Halifax
BEGIN:DAYLIGHT
TZOFFSETFROM:-0400
TZOFFSETTO:-0300
TZNAME:ADT
DTSTART:20250309T060000
END:DAYLIGHT
BEGIN:STANDARD
TZOFFSETFROM:-0300
TZOFFSETTO:-0400
TZNAME:AST
DTSTART:20251102T050000
END:STANDARD
END:VTIMEZONE
BEGIN:VEVENT
DTSTART;VALUE=DATE:20251112
DTEND;VALUE=DATE:20251113
DTSTAMP:20260421T164518
CREATED:20250821T144245Z
LAST-MODIFIED:20250821T144245Z
UID:102904-1762905600-1762991999@shiftkeylabs.ca
SUMMARY:Ocean Crawl
DESCRIPTION:Details coming soon!\n\n📅 Date: November 12th\n⏰ Time: All Day\n📌 Location: Off-Campus\n💰 Cost: FREE!
URL:https://shiftkeylabs.ca/event/ocean-crawl-2
CATEGORIES:Off-Campus
ATTACH;FMTTYPE=image/png:https://shiftkeylabs.ca/wp-content/uploads/2022/12/Shiftkey-Labs-Logo-01-e1487284025704-1200x515-1.png
END:VEVENT
END:VCALENDAR