BEGIN:VCALENDAR
VERSION:2.0
PRODID:-//ShiftKey Labs - ECPv6.3.5//NONSGML v1.0//EN
CALSCALE:GREGORIAN
METHOD:PUBLISH
X-WR-CALNAME:ShiftKey Labs
X-ORIGINAL-URL:https://shiftkeylabs.ca
X-WR-CALDESC:Events for ShiftKey Labs
REFRESH-INTERVAL;VALUE=DURATION:PT1H
X-Robots-Tag:noindex
X-PUBLISHED-TTL:PT1H
BEGIN:VTIMEZONE
TZID:America/Halifax
BEGIN:DAYLIGHT
TZOFFSETFROM:-0400
TZOFFSETTO:-0300
TZNAME:ADT
DTSTART:20250309T060000
END:DAYLIGHT
BEGIN:STANDARD
TZOFFSETFROM:-0300
TZOFFSETTO:-0400
TZNAME:AST
DTSTART:20251102T050000
END:STANDARD
END:VTIMEZONE
BEGIN:VEVENT
DTSTART;TZID=America/Halifax:20251110T180000
DTEND;TZID=America/Halifax:20251110T200000
DTSTAMP:20260421T164520
CREATED:20251002T145910Z
LAST-MODIFIED:20251015T172357Z
UID:103257-1762797600-1762804800@shiftkeylabs.ca
SUMMARY:Academy UP Course: Foundations of Full Stack Development (2/4)
DESCRIPTION:🚀 Want to take your web development skills to the next level? Join us this November for Foundations of Full Stack Development — a hands-on course designed to help you understand how modern web apps are built from start to finish. You’ll learn React\, Node.js\, Express\, and Git while creating your own full-stack project to showcase in your portfolio. \n📅 Nov 4\, 10\, 18 & 25 | ⏰ 6–8 PM | 📍 Room 127 \nNo need to be an expert — just bring your curiosity and basic coding skills! \nThank you to Cognizant for supporting the ShiftKey Academy UP program\, making these courses possible. \nRegistration is now open: https://bit.ly/shiftkey-events
URL:https://shiftkeylabs.ca/event/academy-up-course-foundations-of-full-stack-development-2-4
LOCATION:Goldberg Computer Science Building\, 6050 University Avenue\, Halifax\, Nova Scotia\, B3H 1W5\, Canada
CATEGORIES:Academy UP
ATTACH;FMTTYPE=image/png:https://shiftkeylabs.ca/wp-content/uploads/2025/10/Academy.png
END:VEVENT
END:VCALENDAR