BEGIN:VCALENDAR
VERSION:2.0
PRODID:-//ShiftKey Labs - ECPv6.3.5//NONSGML v1.0//EN
CALSCALE:GREGORIAN
METHOD:PUBLISH
X-WR-CALNAME:ShiftKey Labs
X-ORIGINAL-URL:https://shiftkeylabs.ca
X-WR-CALDESC:Events for ShiftKey Labs
REFRESH-INTERVAL;VALUE=DURATION:PT1H
X-Robots-Tag:noindex
X-PUBLISHED-TTL:PT1H
BEGIN:VTIMEZONE
TZID:America/Halifax
BEGIN:DAYLIGHT
TZOFFSETFROM:-0400
TZOFFSETTO:-0300
TZNAME:ADT
DTSTART:20250309T060000
END:DAYLIGHT
BEGIN:STANDARD
TZOFFSETFROM:-0300
TZOFFSETTO:-0400
TZNAME:AST
DTSTART:20251102T050000
END:STANDARD
END:VTIMEZONE
BEGIN:VEVENT
DTSTART;VALUE=DATE:20251016
DTEND;VALUE=DATE:20251104
DTSTAMP:20260421T181344
CREATED:20250821T143922Z
LAST-MODIFIED:20251015T234307Z
UID:102900-1760572800-1762214399@shiftkeylabs.ca
SUMMARY:Ocean of Data Challenge: Our Living Ocean
DESCRIPTION:Join Ocean of Data Challenge Kickoff\, featuring Ocean Tracking Network. Hosted by DeepSense\, COVE\, and ShiftKey Labs\, this exciting challenge offers a unique opportunity to collaborate and develop innovative solutions to current ocean challenges by using real-world data! The free event kicks off on Thursday\, October 16th\, at 6 pm ADT with an introduction to the challenge\, expert presentations\, and a Q&A session to help fuel your creativity. Participants must submit video entries by 11:59 pm ADT on Monday\, November 3rd. Judges will review submissions over the following week\, and winners will be announced on Wednesday\, November 12th. \nDive into the challenge\, innovate with your unique approach\, and develop bold solutions to advance the ocean sector! Oh\, and in case you missed it\, win cash prizes! \nRegister here \n📅 Date: October 16th-November 3rd\n⏰ Time: All 2 Weeks\n📌 Location: Virtual\n💰 Cost: FREE!
URL:https://shiftkeylabs.ca/event/ocean-of-data-challenge-our-living-ocean
LOCATION:Virtual
CATEGORIES:Ocean of Data
ATTACH;FMTTYPE=image/png:https://shiftkeylabs.ca/wp-content/uploads/2025/08/STEM-Connector-Pier-1-copy.png
END:VEVENT
BEGIN:VEVENT
DTSTART;TZID=America/Halifax:20251020T160000
DTEND;TZID=America/Halifax:20251020T173000
DTSTAMP:20260421T181344
CREATED:20250821T143245Z
LAST-MODIFIED:20250821T143245Z
UID:102886-1760976000-1760981400@shiftkeylabs.ca
SUMMARY:Industry Showcase: CSE
DESCRIPTION:Details coming soon!\n\n📅 Date: October 20th\n⏰ Time: 4:00 PM – 5:30 PM\n📌 Location: TBD\n💰 Cost: FREE!
URL:https://shiftkeylabs.ca/event/industry-showcase-cse-2
CATEGORIES:Industry Showcase
ATTACH;FMTTYPE=image/png:https://shiftkeylabs.ca/wp-content/uploads/2022/12/Shiftkey-Labs-Logo-01-e1487284025704-1200x515-1.png
END:VEVENT
END:VCALENDAR