BEGIN:VCALENDAR
VERSION:2.0
PRODID:-//ShiftKey Labs - ECPv6.3.5//NONSGML v1.0//EN
CALSCALE:GREGORIAN
METHOD:PUBLISH
X-ORIGINAL-URL:https://shiftkeylabs.ca
X-WR-CALDESC:Events for ShiftKey Labs
REFRESH-INTERVAL;VALUE=DURATION:PT1H
X-Robots-Tag:noindex
X-PUBLISHED-TTL:PT1H
BEGIN:VTIMEZONE
TZID:America/Halifax
BEGIN:DAYLIGHT
TZOFFSETFROM:-0400
TZOFFSETTO:-0300
TZNAME:ADT
DTSTART:20250309T060000
END:DAYLIGHT
BEGIN:STANDARD
TZOFFSETFROM:-0300
TZOFFSETTO:-0400
TZNAME:AST
DTSTART:20251102T050000
END:STANDARD
END:VTIMEZONE
BEGIN:VEVENT
DTSTART;TZID=America/Halifax:20251009T173000
DTEND;TZID=America/Halifax:20251009T200000
DTSTAMP:20260421T181548
CREATED:20250821T142906Z
LAST-MODIFIED:20250926T161124Z
UID:102880-1760031000-1760040000@shiftkeylabs.ca
SUMMARY:Salesforce Workshop: Launch Your First App in Under 60 Minutes
DESCRIPTION:This is a beginner workshop designed to help students and aspiring tech professionals experience the power of Salesforce. No prior experience is needed. In just one hour\, participants will build and deploy their first custom app\, gaining practical skills and confidence to explore the Salesforce ecosystem further. Perfect for those curious about low-code platforms\, CRM or career in Salesforce.\n\n \nRegister here\n\n📅 Date: October 9th\n⏰ Time: 5:30 PM – 7:00 PM\n📌 Location: Goldberg Computer Science Building Room 143\n💰 Cost: FREE!
URL:https://shiftkeylabs.ca/event/salesforce-launch-your-first-app-in-under-60-minutes
LOCATION:Goldberg Computer Science Building\, 6050 University Avenue\, Halifax\, Nova Scotia\, B3H 1W5\, Canada
CATEGORIES:Workshop
ATTACH;FMTTYPE=image/png:https://shiftkeylabs.ca/wp-content/uploads/2025/08/Workshop-Green-2.png
END:VEVENT
END:VCALENDAR