BEGIN:VCALENDAR
VERSION:2.0
PRODID:-//ShiftKey Labs - ECPv6.3.5//NONSGML v1.0//EN
CALSCALE:GREGORIAN
METHOD:PUBLISH
X-WR-CALNAME:ShiftKey Labs
X-ORIGINAL-URL:https://shiftkeylabs.ca
X-WR-CALDESC:Events for ShiftKey Labs
REFRESH-INTERVAL;VALUE=DURATION:PT1H
X-Robots-Tag:noindex
X-PUBLISHED-TTL:PT1H
BEGIN:VTIMEZONE
TZID:America/Halifax
BEGIN:DAYLIGHT
TZOFFSETFROM:-0400
TZOFFSETTO:-0300
TZNAME:ADT
DTSTART:20250309T060000
END:DAYLIGHT
BEGIN:STANDARD
TZOFFSETFROM:-0300
TZOFFSETTO:-0400
TZNAME:AST
DTSTART:20251102T050000
END:STANDARD
END:VTIMEZONE
BEGIN:VEVENT
DTSTART;TZID=America/Halifax:20251002T180000
DTEND;TZID=America/Halifax:20251002T200000
DTSTAMP:20260421T181024
CREATED:20250821T142131Z
LAST-MODIFIED:20250918T165208Z
UID:102872-1759428000-1759435200@shiftkeylabs.ca
SUMMARY:ShiftKey and Dal CTF Workshop: Capture the Flag 101
DESCRIPTION:In this workshop we will cover the basic concepts and necessary tools for participating in a Capture The Flag (CTF) competition\, a competition where participants hack their way into systems and showcase their cybersecurity skills.\n\n📅 Date: October 2nd\n⏰ Time: 6:00 PM – 8:00 PM\n📌 Location: Goldberg Computer Science Building Room 143\n💰 Cost: FREE!\n\nRegister here
URL:https://shiftkeylabs.ca/event/intro-to-ctf
LOCATION:Goldberg Computer Science Building\, 6050 University Avenue\, Halifax\, Nova Scotia\, B3H 1W5\, Canada
CATEGORIES:Workshop
ATTACH;FMTTYPE=image/png:https://shiftkeylabs.ca/wp-content/uploads/2025/08/Workshop-Green-1.png
END:VEVENT
BEGIN:VEVENT
DTSTART;TZID=America/Halifax:20251002T190000
DTEND;TZID=America/Halifax:20251002T210000
DTSTAMP:20260421T181024
CREATED:20250821T142322Z
LAST-MODIFIED:20251002T131034Z
UID:102874-1759431600-1759438800@shiftkeylabs.ca
SUMMARY:AI2Market Launch Date
DESCRIPTION:AI2Market is designed to accelerate innovation and drive commercial success through AI adoption in Canada by helping students unlock the full market potential of their ideas.\nOpen to students from any university or college in Atlantic Canada\, AI2Market offers three core programs — Discover\, Validate\, and Launch — that guide participants from idea generation to market-ready ventures.\nThrough a unique blend of AI-first engineering\, software development\, data science\, and entrepreneurship training\, the program develops the next generation of founders and early employees who will thrive in AI-driven enterprises (AIDEs). \n\n\nTo learn more and apply\, please visit the AI2Market website: https://ai2market.webflow.io/ 
URL:https://shiftkeylabs.ca/event/ai2market-launch
LOCATION:Virtual
CATEGORIES:AI2Market
ATTACH;FMTTYPE=image/png:https://shiftkeylabs.ca/wp-content/uploads/2025/08/AI2Market_AI2M_Logo_Discover-scaled.png
END:VEVENT
END:VCALENDAR