BEGIN:VCALENDAR
VERSION:2.0
PRODID:-//ShiftKey Labs - ECPv6.3.5//NONSGML v1.0//EN
CALSCALE:GREGORIAN
METHOD:PUBLISH
X-WR-CALNAME:ShiftKey Labs
X-ORIGINAL-URL:https://shiftkeylabs.ca
X-WR-CALDESC:Events for ShiftKey Labs
REFRESH-INTERVAL;VALUE=DURATION:PT1H
X-Robots-Tag:noindex
X-PUBLISHED-TTL:PT1H
BEGIN:VTIMEZONE
TZID:America/Halifax
BEGIN:DAYLIGHT
TZOFFSETFROM:-0400
TZOFFSETTO:-0300
TZNAME:ADT
DTSTART:20250309T060000
END:DAYLIGHT
BEGIN:STANDARD
TZOFFSETFROM:-0300
TZOFFSETTO:-0400
TZNAME:AST
DTSTART:20251102T050000
END:STANDARD
END:VTIMEZONE
BEGIN:VEVENT
DTSTART;TZID=America/Halifax:20251001T170000
DTEND;TZID=America/Halifax:20251001T190000
DTSTAMP:20260421T181344
CREATED:20250821T141833Z
LAST-MODIFIED:20250904T130959Z
UID:102870-1759338000-1759345200@shiftkeylabs.ca
SUMMARY:ShiftKey Academy UP: Network Cybersecurity (1/5)
DESCRIPTION:The Network Cybersecurity Course by ShiftKey Academy UP\, led by Aman Bhalla is your path to the world of cybersecurity. Designed for students eager to explore the intricacies of network security\, this course covers the in-depth topics such as Networking Protocols & Tools\, Networking Policies\, Intrusion Defence methods along with the benefit of getting experience for building a live project. The course will help you prepare to confidently pursue the CCNA (Cisco Certified Network Associate) and the CompTIA Security+ certifications. Expect in-depth theory on networking fundamentals in lectures\, experiential learning through projects and preparation for certifications through an assessment. There will also be a guest lecture during the course where participants are encouraged to attend to hear from industry experts. \nThis course is open to participants from all disciplines and mainly requires prior basic networking knowledge. \nThank you to Cognizant for supporting the ShiftKey Academy UP program\, making these courses possible. \nRegistration is now open: https://main.d19nes5tbeksbp.amplifyapp.com/ \n\n\n📅 Date: October 1st\n⏰ Time: 5:00 PM – 7:00 PM\n📌 Location: Kenneth C. Rowe Management Building Room 1020\n💰 Cost: FREE!
URL:https://shiftkeylabs.ca/event/shiftkey-academy-up-network-cybersecurity-1-4
LOCATION:Rowe Management Building\, 6100 University Avenue\, Halifax\, Nova Scotia\, B3H 4R2\, Canada
CATEGORIES:Academy UP
ATTACH;FMTTYPE=image/png:https://shiftkeylabs.ca/wp-content/uploads/2025/08/Academy-1.png
END:VEVENT
END:VCALENDAR