BEGIN:VCALENDAR
VERSION:2.0
PRODID:-//ShiftKey Labs - ECPv6.3.5//NONSGML v1.0//EN
CALSCALE:GREGORIAN
METHOD:PUBLISH
X-WR-CALNAME:ShiftKey Labs
X-ORIGINAL-URL:https://shiftkeylabs.ca
X-WR-CALDESC:Events for ShiftKey Labs
REFRESH-INTERVAL;VALUE=DURATION:PT1H
X-Robots-Tag:noindex
X-PUBLISHED-TTL:PT1H
BEGIN:VTIMEZONE
TZID:America/Halifax
BEGIN:DAYLIGHT
TZOFFSETFROM:-0400
TZOFFSETTO:-0300
TZNAME:ADT
DTSTART:20250309T060000
END:DAYLIGHT
BEGIN:STANDARD
TZOFFSETFROM:-0300
TZOFFSETTO:-0400
TZNAME:AST
DTSTART:20251102T050000
END:STANDARD
END:VTIMEZONE
BEGIN:VEVENT
DTSTART;VALUE=DATE:20250919
DTEND;VALUE=DATE:20250927
DTSTAMP:20260421T193847
CREATED:20250821T132351Z
LAST-MODIFIED:20250829T183206Z
UID:102863-1758240000-1758931199@shiftkeylabs.ca
SUMMARY:Dal Innovation Week
DESCRIPTION:Dal Innovation Week 2025 is coming soon! 🐯 🚀 👏 \nIn partnership with Dalhousie University\, Dal Innovates is back with even more innovation\, inspiration\, and opportunities this Fall—all right here on campus. Whether you’re exploring entrepreneurship\, learning new skills\, or connecting with industry leaders\, #DIW2025 has something for everyone! From pitch competitions and hackathons to lab tours and demos\, there’s a chance for you to get involved and ignite your creativity. \nKick off your DIW experience on September 18 with exciting opening events\, then continue the momentum from September 19-26 — it’s the perfect way to dive in with energy and enthusiasm! \n🔗 Ready to be part of the action? Register now by visiting: www.dalinnovationweek.ca \nLet’s make DIW 2025 unforgettable!
URL:https://shiftkeylabs.ca/event/dalinnovates-innovation-week
LOCATION:Dalhousie University
CATEGORIES:External Event
ATTACH;FMTTYPE=image/png:https://shiftkeylabs.ca/wp-content/uploads/2025/08/Innovation-Week.png
END:VEVENT
BEGIN:VEVENT
DTSTART;TZID=America/Halifax:20250923T100000
DTEND;TZID=America/Halifax:20250923T160000
DTSTAMP:20260421T193847
CREATED:20250911T163551Z
LAST-MODIFIED:20250918T134220Z
UID:103172-1758621600-1758643200@shiftkeylabs.ca
SUMMARY:Here We Code: Tech Industry Fair
DESCRIPTION:Dalhousie Faculty of Computer Science and ShiftKey Labs are thrilled to announce that the Here We Code: Tech Industry Fair is on Tuesday\, September 23rd\, 2025\, in the Dalhousie Student Union Building’s McInness Room. \nAs with the two previous fairs\, it will be open to all university and college students studying computer science in Nova Scotia\, and we expect to have 1000+ attendees throughout the day. \nJoin us in connecting YOU to the growing tech sector in Nova Scotia!!! \nSign up now \nWho is coming:\n\n\n\nAvanade \nBDO Canada \nBDO Canada LLP \nBell Canada \nButterfield Support Services (Halifax) Ltd \nCGI \nCognizant \nDalhousie Work Integrated Learning and Co-operative Education (WIL Co-op)\n DeepSense \nEastlink \nEfficiencyOne\nEY \nGlobal Relay Communications\nHalifax Regional Municipality\nIBM \nJ.D. Irving\, Limited – JDI IT \nMaplewave \nMaritime Digital Art and Design Ltd \nMaster of Business Analytics of SMU \nMOBIA Technology Innovations \nNova Scotia Community College \nNova Scotia Health – One Person One Record \nRBC\nShared Services Canada\nShiftKey Labs\nSobeys Inc. \nTEAM Work Cooperative\nTrihedral Engineering Limited\nUbisoft\n\n\n\n 
URL:https://shiftkeylabs.ca/event/here-we-code-tech-industry-fair
LOCATION:Dalhousie Student Union Building\, 6136 University Ave\, Halifax\, Nova Scotia\, B3H 4R2\, Canada
CATEGORIES:Here We Code
ATTACH;FMTTYPE=image/png:https://shiftkeylabs.ca/wp-content/uploads/2025/09/Event-Graphics.png
END:VEVENT
BEGIN:VEVENT
DTSTART;TZID=America/Halifax:20250923T103000
DTEND;TZID=America/Halifax:20250923T133000
DTSTAMP:20260421T193847
CREATED:20250828T140714Z
LAST-MODIFIED:20250828T141005Z
UID:103003-1758623400-1758634200@shiftkeylabs.ca
SUMMARY:Dal Innovation Week: Open Street Innovation
DESCRIPTION:Bringing Dalhousie’s Innovators Together for Collaboration and Impact\nOpen Innovation Street returns on Tuesday\, September 23rd\, from 10:30 a.m. to 1:30 p.m.\, offering a vibrant platform designed to spark ideas\, foster partnerships\, and accelerate innovation across the Dalhousie community. \nThis dynamic event brings together over 25 forward-thinking organizations from across Atlantic Canada’s innovation ecosystem. From startups and research hubs to industry collaborators and support networks\, you’ll have the opportunity to engage directly with partners through interactive booths and activations located throughout campus. \nWhether you’re looking to launch a new venture\, explore research collaborations\, or simply gain insight into the latest breakthroughs emerging from Dalhousie\, Open Innovation Street is your gateway to discovery\, connection\, and growth. Join us in celebrating the spirit of innovation and charting new paths forward—together. \nTime: 10:30 a.m. – 1:30 p.m. \n*Registration is not required. \nFind out more here
URL:https://shiftkeylabs.ca/event/dal-innovation-week-open-street-innovation
LOCATION:Dalhousie University
CATEGORIES:Dal Innovation Week
ATTACH;FMTTYPE=image/png:https://shiftkeylabs.ca/wp-content/uploads/2025/08/Open-Street.png
END:VEVENT
BEGIN:VEVENT
DTSTART;TZID=America/Halifax:20250923T180000
DTEND;TZID=America/Halifax:20250923T200000
DTSTAMP:20260421T193847
CREATED:20250820T165458Z
LAST-MODIFIED:20250820T172848Z
UID:102837-1758650400-1758657600@shiftkeylabs.ca
SUMMARY:ShiftKey Academy UP: Agentic AI (3/4)
DESCRIPTION:The Agentic AI Course by ShiftKey Academy UP\, led by Eduard Kakosyan and Huy Huynh\, is your introduction to effectively using artificial intelligence. Tailored for people from all backgrounds\, this course introduces foundational concepts such as LLMs\, prompting\, and building custom workflows. After which we will dive deep into agents\, which models to use\, what tools to integrate and much more. \nYou’ll get hands-on experience with popular tools like n8n\, Lovable\, Perplexity\, Cursor\, Clay\, and learn how to deploy your own AI agents—all while gaining the skills to apply AI to your projects\, market research\, and your upcoming job search. \nNo AI or coding experience? No problem\, this course is open to participants from all disciplines. No pre-requisites are required to join\, even if you don’t know what AI is. \nThank you to Cognizant for supporting the ShiftKey Academy UP program\, making these courses possible. \nRegistration is now open: https://main.d19nes5tbeksbp.amplifyapp.com/ \n📅 Dates: September 9th\, 16th\, 23rd\, 29th\n⏰ Time: 6:00 PM – 8:00 PM\n📌 Location: Goldberg Computer Science Building Room 127\n💰 Cost: FREE!
URL:https://shiftkeylabs.ca/event/shiftkey-academy-up-agentic-ai-3-4
LOCATION:Goldberg Computer Science Building\, 6050 University Avenue\, Halifax\, Nova Scotia\, B3H 1W5\, Canada
CATEGORIES:Academy UP
ATTACH;FMTTYPE=image/png:https://shiftkeylabs.ca/wp-content/uploads/2025/08/Academy.png
END:VEVENT
END:VCALENDAR