BEGIN:VCALENDAR
VERSION:2.0
PRODID:-//ShiftKey Labs - ECPv6.3.5//NONSGML v1.0//EN
CALSCALE:GREGORIAN
METHOD:PUBLISH
X-ORIGINAL-URL:https://shiftkeylabs.ca
X-WR-CALDESC:Events for ShiftKey Labs
REFRESH-INTERVAL;VALUE=DURATION:PT1H
X-Robots-Tag:noindex
X-PUBLISHED-TTL:PT1H
BEGIN:VTIMEZONE
TZID:America/Halifax
BEGIN:DAYLIGHT
TZOFFSETFROM:-0400
TZOFFSETTO:-0300
TZNAME:ADT
DTSTART:20250309T060000
END:DAYLIGHT
BEGIN:STANDARD
TZOFFSETFROM:-0300
TZOFFSETTO:-0400
TZNAME:AST
DTSTART:20251102T050000
END:STANDARD
END:VTIMEZONE
BEGIN:VEVENT
DTSTART;VALUE=DATE:20250919
DTEND;VALUE=DATE:20250922
DTSTAMP:20260421T194147
CREATED:20250828T140916Z
LAST-MODIFIED:20251001T155314Z
UID:103006-1758240000-1758499199@shiftkeylabs.ca
SUMMARY:Dal Innovation Week: SURGE BrainHACK
DESCRIPTION:Presented by the SURGE Science Innovation Sandbox in partnership with Dal Innovates \nDive into the future of neurotechnology at SURGE’s annual BrainHack\, a weekend-long hackathon where students come together to build innovative Brain-Computer Interface (BCI) projects using OpenBCI systems. Over two intense and inspiring days\, you’ll collaborate in teams and compete for the best BCI application. Whether you’re decoding brainwaves\, building neurofeedback apps\, or inventing new ways for the brain to interact with machines—this is your chance to push the boundaries of human-computer interaction. \nJoin us at the SURGE Science Innovation Sandbox\, located in LSC Room 2660\, from September 19 to 21. Stop by to explore exciting opportunities\, connect with innovators\, and discover how SURGE can support your ideas and projects. \nFind out more here
URL:https://shiftkeylabs.ca/event/dal-innovation-week-surge-brainhack
LOCATION:SURGE Innovation\, Room O2660\, 1355 Oxford Street\, Halifax\, Nova Scotia\, B3H 4R2\, Canada
CATEGORIES:Dal Innovation Week
ATTACH;FMTTYPE=image/png:https://shiftkeylabs.ca/wp-content/uploads/2025/08/SURGE-BrainHACK.png
END:VEVENT
BEGIN:VEVENT
DTSTART;VALUE=DATE:20250919
DTEND;VALUE=DATE:20250927
DTSTAMP:20260421T194147
CREATED:20250821T132351Z
LAST-MODIFIED:20250829T183206Z
UID:102863-1758240000-1758931199@shiftkeylabs.ca
SUMMARY:Dal Innovation Week
DESCRIPTION:Dal Innovation Week 2025 is coming soon! 🐯 🚀 👏 \nIn partnership with Dalhousie University\, Dal Innovates is back with even more innovation\, inspiration\, and opportunities this Fall—all right here on campus. Whether you’re exploring entrepreneurship\, learning new skills\, or connecting with industry leaders\, #DIW2025 has something for everyone! From pitch competitions and hackathons to lab tours and demos\, there’s a chance for you to get involved and ignite your creativity. \nKick off your DIW experience on September 18 with exciting opening events\, then continue the momentum from September 19-26 — it’s the perfect way to dive in with energy and enthusiasm! \n🔗 Ready to be part of the action? Register now by visiting: www.dalinnovationweek.ca \nLet’s make DIW 2025 unforgettable!
URL:https://shiftkeylabs.ca/event/dalinnovates-innovation-week
LOCATION:Dalhousie University
CATEGORIES:External Event
ATTACH;FMTTYPE=image/png:https://shiftkeylabs.ca/wp-content/uploads/2025/08/Innovation-Week.png
END:VEVENT
END:VCALENDAR