BEGIN:VCALENDAR
VERSION:2.0
PRODID:-//ShiftKey Labs - ECPv6.3.5//NONSGML v1.0//EN
CALSCALE:GREGORIAN
METHOD:PUBLISH
X-WR-CALNAME:ShiftKey Labs
X-ORIGINAL-URL:https://shiftkeylabs.ca
X-WR-CALDESC:Events for ShiftKey Labs
REFRESH-INTERVAL;VALUE=DURATION:PT1H
X-Robots-Tag:noindex
X-PUBLISHED-TTL:PT1H
BEGIN:VTIMEZONE
TZID:America/Halifax
BEGIN:DAYLIGHT
TZOFFSETFROM:-0400
TZOFFSETTO:-0300
TZNAME:ADT
DTSTART:20250309T060000
END:DAYLIGHT
BEGIN:STANDARD
TZOFFSETFROM:-0300
TZOFFSETTO:-0400
TZNAME:AST
DTSTART:20251102T050000
END:STANDARD
END:VTIMEZONE
BEGIN:VEVENT
DTSTART;TZID=America/Halifax:20250915T183000
DTEND;TZID=America/Halifax:20250915T193000
DTSTAMP:20260421T193421
CREATED:20250829T161501Z
LAST-MODIFIED:20250908T175602Z
UID:103031-1757961000-1757964600@shiftkeylabs.ca
SUMMARY:Capture The Flag (CTF) Cyber Security for Beginners
DESCRIPTION:Note: This event is for Dalhousie Faculty of Computer Science students only\nBeginner friendly event where we will solve together some hacking challenges and introduce the students to the world of Capture The Flag events! Students who are interested in cybersecurity can come visit us and try out some easy challenges! \n📅 Date: September 15th\n⏰ Time: 6:30pm\n📌 Location: Goldberg Computer Science Building Room 211\n💰 Cost: FREE!
URL:https://shiftkeylabs.ca/event/ctf-for-beginners-2
LOCATION:Goldberg Computer Science Building\, 6050 University Avenue\, Halifax\, Nova Scotia\, B3H 1W5\, Canada
CATEGORIES:External Event
ATTACH;FMTTYPE=image/png:https://shiftkeylabs.ca/wp-content/uploads/2022/12/Shiftkey-Labs-Logo-01-e1487284025704-1200x515-1.png
END:VEVENT
END:VCALENDAR