BEGIN:VCALENDAR
VERSION:2.0
PRODID:-//ShiftKey Labs - ECPv6.3.5//NONSGML v1.0//EN
CALSCALE:GREGORIAN
METHOD:PUBLISH
X-ORIGINAL-URL:https://shiftkeylabs.ca
X-WR-CALDESC:Events for ShiftKey Labs
REFRESH-INTERVAL;VALUE=DURATION:PT1H
X-Robots-Tag:noindex
X-PUBLISHED-TTL:PT1H
BEGIN:VTIMEZONE
TZID:America/Halifax
BEGIN:DAYLIGHT
TZOFFSETFROM:-0400
TZOFFSETTO:-0300
TZNAME:ADT
DTSTART:20250309T060000
END:DAYLIGHT
BEGIN:STANDARD
TZOFFSETFROM:-0300
TZOFFSETTO:-0400
TZNAME:AST
DTSTART:20251102T050000
END:STANDARD
END:VTIMEZONE
BEGIN:VEVENT
DTSTART;TZID=America/Halifax:20250909T160000
DTEND;TZID=America/Halifax:20250909T173000
DTSTAMP:20260421T193629
CREATED:20250820T164442Z
LAST-MODIFIED:20250829T183127Z
UID:102830-1757433600-1757439000@shiftkeylabs.ca
SUMMARY:LinkedIn Glow-Up – How to Create an Effective LinkedIn Account 
DESCRIPTION:Come to LinkedIn Glow-Up: How to Create an Effective LinkedIn Account! \nJoin Kewoba Carter\, ShiftKey Labs Industry Engagement & Career Development Manager\, to explore how your LinkedIn profile can become a useful tool to gain experience within the tech industry. \nWhy YOU should come \n🤝 Learn how the Tech Industry uses LinkedIn to recruit candidates \n🤝 Learn tips and strategies to build and improve your LinkedIn profile \n🤝 Learn how to effectively use LinkedIn for professional networking \n🤝 Update your LinkedIn before the Here We Code: Tech Industry Fair to easily connect with industry professionals \nSign up now: https://bit.ly/shiftkey-events \n \n\n\n📅 Date: September 9th\n⏰ Time: 4:00PM- 5:30PM\n📌 Location: Goldberg Computer Science Building Room 430\n💰 Cost: FREE!
URL:https://shiftkeylabs.ca/event/linkedin-glow-up-how-to-create-an-effective-linkedin-account
LOCATION:Goldberg Computer Science Building\, 6050 University Avenue\, Halifax\, Nova Scotia\, B3H 1W5\, Canada
CATEGORIES:LinkedIn
ATTACH;FMTTYPE=image/png:https://shiftkeylabs.ca/wp-content/uploads/2025/08/Workshop-Blue.png
END:VEVENT
BEGIN:VEVENT
DTSTART;TZID=America/Halifax:20250909T180000
DTEND;TZID=America/Halifax:20250909T200000
DTSTAMP:20260421T193630
CREATED:20250820T165227Z
LAST-MODIFIED:20250820T172915Z
UID:102832-1757440800-1757448000@shiftkeylabs.ca
SUMMARY:ShiftKey Academy UP: Agentic AI (1/4)
DESCRIPTION:The Agentic AI Course by ShiftKey Academy UP\, led by Eduard Kakosyan and Huy Huynh\, is your introduction to effectively using artificial intelligence. Tailored for people from all backgrounds\, this course introduces foundational concepts such as LLMs\, prompting\, and building custom workflows. After which we will dive deep into agents\, which models to use\, what tools to integrate and much more. \nYou’ll get hands-on experience with popular tools like n8n\, Lovable\, Perplexity\, Cursor\, Clay\, and learn how to deploy your own AI agents—all while gaining the skills to apply AI to your projects\, market research\, and your upcoming job search. \nNo AI or coding experience? No problem\, this course is open to participants from all disciplines. No pre-requisites are required to join\, even if you don’t know what AI is. \nThank you to Cognizant for supporting the ShiftKey Academy UP program\, making these courses possible. \nRegistration is now open: https://main.d19nes5tbeksbp.amplifyapp.com/ \n📅 Dates: September 9th\, 16th\, 23rd\, 29th\n⏰ Time: 6:00 PM – 8:00 PM\n📌 Location: Goldberg Computer Science Building Room 127\n💰 Cost: FREE!
URL:https://shiftkeylabs.ca/event/shiftkey-academy-up-agentic-ai-1-4
LOCATION:Goldberg Computer Science Building\, 6050 University Avenue\, Halifax\, Nova Scotia\, B3H 1W5\, Canada
CATEGORIES:Academy UP
ATTACH;FMTTYPE=image/png:https://shiftkeylabs.ca/wp-content/uploads/2025/08/Academy.png
END:VEVENT
END:VCALENDAR