BEGIN:VCALENDAR
VERSION:2.0
PRODID:-//ShiftKey Labs - ECPv6.3.5//NONSGML v1.0//EN
CALSCALE:GREGORIAN
METHOD:PUBLISH
X-WR-CALNAME:ShiftKey Labs
X-ORIGINAL-URL:https://shiftkeylabs.ca
X-WR-CALDESC:Events for ShiftKey Labs
REFRESH-INTERVAL;VALUE=DURATION:PT1H
X-Robots-Tag:noindex
X-PUBLISHED-TTL:PT1H
BEGIN:VTIMEZONE
TZID:America/Halifax
BEGIN:DAYLIGHT
TZOFFSETFROM:-0400
TZOFFSETTO:-0300
TZNAME:ADT
DTSTART:20250309T060000
END:DAYLIGHT
BEGIN:STANDARD
TZOFFSETFROM:-0300
TZOFFSETTO:-0400
TZNAME:AST
DTSTART:20251102T050000
END:STANDARD
END:VTIMEZONE
BEGIN:VEVENT
DTSTART;VALUE=DATE:20250906
DTEND;VALUE=DATE:20250907
DTSTAMP:20260421T193337
CREATED:20250828T130621Z
LAST-MODIFIED:20250828T135003Z
UID:102971-1757116800-1757203199@shiftkeylabs.ca
SUMMARY:CODEChella Day 6
DESCRIPTION:Note: This event is for Dalhousie Faculty of Computer Science students only\nCSS Geek BBQ\n\nAbout the session: There’s no better way to wrap up CODEchella 2025 than the Geek BBQ\, hosted by the Computer Science Society. This is the place to be—a chance to celebrate everything you’ve experienced during CODEchella\, enjoy some great food\, and spend time with the people who’ll be part of your journey ahead.Whether you’re reconnecting with new friends or making a few more before the week’s out\, the energy\, community\, and atmosphere at the Geek BBQ make it a can’t-miss event. Come ready to relax\, reflect\, and end the week on a high note.\nDate & Time: Saturday\, September 6\, 2025 at 6:00PM\nLocation: Meet in the lobby of the Goldberg Computer Science Building\n\n\n\n\nFind out more here
URL:https://shiftkeylabs.ca/event/codechella-day-6
LOCATION:Dalhousie University
CATEGORIES:External Event
ATTACH;FMTTYPE=image/png:https://shiftkeylabs.ca/wp-content/uploads/2025/08/1755787877496.png
END:VEVENT
END:VCALENDAR