BEGIN:VCALENDAR
VERSION:2.0
PRODID:-//ShiftKey Labs - ECPv6.3.5//NONSGML v1.0//EN
CALSCALE:GREGORIAN
METHOD:PUBLISH
X-ORIGINAL-URL:https://shiftkeylabs.ca
X-WR-CALDESC:Events for ShiftKey Labs
REFRESH-INTERVAL;VALUE=DURATION:PT1H
X-Robots-Tag:noindex
X-PUBLISHED-TTL:PT1H
BEGIN:VTIMEZONE
TZID:America/Halifax
BEGIN:DAYLIGHT
TZOFFSETFROM:-0400
TZOFFSETTO:-0300
TZNAME:ADT
DTSTART:20250309T060000
END:DAYLIGHT
BEGIN:STANDARD
TZOFFSETFROM:-0300
TZOFFSETTO:-0400
TZNAME:AST
DTSTART:20251102T050000
END:STANDARD
END:VTIMEZONE
BEGIN:VEVENT
DTSTART;VALUE=DATE:20250905
DTEND;VALUE=DATE:20250906
DTSTAMP:20260421T194148
CREATED:20250828T130518Z
LAST-MODIFIED:20250828T134948Z
UID:102969-1757030400-1757116799@shiftkeylabs.ca
SUMMARY:CODEChella Day 5
DESCRIPTION:Note: This event is for Dalhousie Faculty of Computer Science students only\nFeel Good Friday\n\nAbout the session: After a whirlwind first week of classes\, it’s time to hit pause\, breathe deep\, and soak in some serious good vibes. Feel Good Friday is your afternoon to relax\, recharge\, and reconnect—with yourself and your new classmates.Join your classmates for an afternoon of light-hearted fun\, good company\, and simple pleasures. Whether you’re laughing on the lawn\, moving to the beat\, creating something cool\, or just soaking it all in—you’ll find space to be yourself and connect with others doing the same.No pressure\, no rush—just feel-good energy to wrap up your week before heading up the hill to DALFest to see BBNO$ and other great performers!\nDate & Time: Friday\, September 5\, 2025 at 1:00PM\nLocation: Meet in the lobby of the Goldberg Computer Science Building\n\n\n\n\nFind out more here
URL:https://shiftkeylabs.ca/event/codechella-day-5
LOCATION:Dalhousie University
CATEGORIES:External Event
ATTACH;FMTTYPE=image/png:https://shiftkeylabs.ca/wp-content/uploads/2025/08/1755787877496.png
END:VEVENT
BEGIN:VEVENT
DTSTART;VALUE=DATE:20250905
DTEND;VALUE=DATE:20250906
DTSTAMP:20260421T194148
CREATED:20250829T161643Z
LAST-MODIFIED:20250905T162123Z
UID:103033-1757030400-1757116799@shiftkeylabs.ca
SUMMARY:Games Social with WITS
DESCRIPTION:Note: This event is for Dalhousie Faculty of Computer Science students only\nTake a break\, meet new friends\, and join the Women in Tech Society (WITS) for an afternoon of games and good vibes! From board games to card games\, this social is all about relaxing\, laughing\, and connecting with fellow students in a fun\, low-pressure environment. \n📅 Date: September 5th\n⏰ Time: 1pm-4pm\n📌 Location: The Atrium\n💰 Cost: FREE!
URL:https://shiftkeylabs.ca/event/games-social-with-wits
LOCATION:Goldberg Computer Science Building\, 6050 University Avenue\, Halifax\, Nova Scotia\, B3H 1W5\, Canada
CATEGORIES:External Event
ATTACH;FMTTYPE=image/png:https://shiftkeylabs.ca/wp-content/uploads/2022/12/Shiftkey-Labs-Logo-01-e1487284025704-1200x515-1.png
END:VEVENT
BEGIN:VEVENT
DTSTART;TZID=America/Halifax:20250905T130000
DTEND;TZID=America/Halifax:20250905T180000
DTSTAMP:20260421T194148
CREATED:20250829T182811Z
LAST-MODIFIED:20250904T172946Z
UID:103046-1757077200-1757095200@shiftkeylabs.ca
SUMMARY:ShiftKey Showdown
DESCRIPTION:📅 Date: September 5th\n⏰ Time: 1:00pm-6:00pm\n📌 Location: Goldberg Computer Science Building 134/143\n💰 Cost: FREE!
URL:https://shiftkeylabs.ca/event/shiftkey-showdown
LOCATION:Goldberg Computer Science Building\, 6050 University Avenue\, Halifax\, Nova Scotia\, B3H 1W5\, Canada
CATEGORIES:Workshop
ATTACH;FMTTYPE=image/png:https://shiftkeylabs.ca/wp-content/uploads/2022/12/Shiftkey-Labs-Logo-01-e1487284025704-1200x515-1.png
END:VEVENT
END:VCALENDAR