BEGIN:VCALENDAR
VERSION:2.0
PRODID:-//ShiftKey Labs - ECPv6.3.5//NONSGML v1.0//EN
CALSCALE:GREGORIAN
METHOD:PUBLISH
X-WR-CALNAME:ShiftKey Labs
X-ORIGINAL-URL:https://shiftkeylabs.ca
X-WR-CALDESC:Events for ShiftKey Labs
REFRESH-INTERVAL;VALUE=DURATION:PT1H
X-Robots-Tag:noindex
X-PUBLISHED-TTL:PT1H
BEGIN:VTIMEZONE
TZID:America/Halifax
BEGIN:DAYLIGHT
TZOFFSETFROM:-0400
TZOFFSETTO:-0300
TZNAME:ADT
DTSTART:20250309T060000
END:DAYLIGHT
BEGIN:STANDARD
TZOFFSETFROM:-0300
TZOFFSETTO:-0400
TZNAME:AST
DTSTART:20251102T050000
END:STANDARD
END:VTIMEZONE
BEGIN:VEVENT
DTSTART;VALUE=DATE:20250903
DTEND;VALUE=DATE:20250904
DTSTAMP:20260421T205736
CREATED:20250828T130118Z
LAST-MODIFIED:20250828T134859Z
UID:102963-1756857600-1756943999@shiftkeylabs.ca
SUMMARY:CODEChella Day 3
DESCRIPTION:Note: This event is for Dalhousie Faculty of Computer Science students only\nWorkshop Wednesday\n\nAbout the session: After you wrap up Day 2 of classes\, come alone or join up with your classmates and take part in hands-on learning\, real talk\, and future-ready skills.Dive into everything from exploring the power of AI with ShiftKey\, to building confidence through bystander training\, prepping for co-op success\, and getting the inside scoop on Dal Hacks.\nDate & Time: Wednesday\, September 3\, 2025 at 4:00PM\nLocation: Meet in the lobby of the Goldberg Computer Science Building\n\n\n\n\nFind out more here
URL:https://shiftkeylabs.ca/event/codechella-day-3
LOCATION:Dalhousie University
CATEGORIES:External Event
ATTACH;FMTTYPE=image/png:https://shiftkeylabs.ca/wp-content/uploads/2025/08/1755787877496.png
END:VEVENT
BEGIN:VEVENT
DTSTART;TZID=America/Halifax:20250903T160000
DTEND;TZID=America/Halifax:20250903T173000
DTSTAMP:20260421T205736
CREATED:20250820T164221Z
LAST-MODIFIED:20250829T183052Z
UID:102828-1756915200-1756920600@shiftkeylabs.ca
SUMMARY:Hello World\, Meet Chatbot: Building from Scratch
DESCRIPTION:Want to launch your coding journey? In this beginner-friendly workshop\, you’ll build a 2-page website with a chatbot\, learn the secrets of prompt engineering\, and create your own assistant from scratch. We’ll finish by introducing essential Git commands so you can version control like a pro. Perfect for 1st-years – no prior experience required! \n\n\n📅 Date: September 3rd\n⏰ Time: 4:00 PM – 5:30 PM\n📌 Location: Goldberg Computer Science Building Room 134\n💰 Cost: FREE!
URL:https://shiftkeylabs.ca/event/hello-world-meet-chatbot-building-from-scratch
LOCATION:Goldberg Computer Science Building\, 6050 University Avenue\, Halifax\, Nova Scotia\, B3H 1W5\, Canada
CATEGORIES:Workshop
ATTACH;FMTTYPE=image/png:https://shiftkeylabs.ca/wp-content/uploads/2025/08/Workshop-Green-copy-3.png
END:VEVENT
END:VCALENDAR