BEGIN:VCALENDAR
VERSION:2.0
PRODID:-//ShiftKey Labs - ECPv6.3.5//NONSGML v1.0//EN
CALSCALE:GREGORIAN
METHOD:PUBLISH
X-WR-CALNAME:ShiftKey Labs
X-ORIGINAL-URL:https://shiftkeylabs.ca
X-WR-CALDESC:Events for ShiftKey Labs
REFRESH-INTERVAL;VALUE=DURATION:PT1H
X-Robots-Tag:noindex
X-PUBLISHED-TTL:PT1H
BEGIN:VTIMEZONE
TZID:America/Halifax
BEGIN:DAYLIGHT
TZOFFSETFROM:-0400
TZOFFSETTO:-0300
TZNAME:ADT
DTSTART:20250309T060000
END:DAYLIGHT
BEGIN:STANDARD
TZOFFSETFROM:-0300
TZOFFSETTO:-0400
TZNAME:AST
DTSTART:20251102T050000
END:STANDARD
END:VTIMEZONE
BEGIN:VEVENT
DTSTART;VALUE=DATE:20250901
DTEND;VALUE=DATE:20250902
DTSTAMP:20260421T193422
CREATED:20250828T125548Z
LAST-MODIFIED:20250828T134808Z
UID:102956-1756684800-1756771199@shiftkeylabs.ca
SUMMARY:CODEChella Day 1
DESCRIPTION:Note: These events are for Dalhousie Faculty of Computer Science students only\nPancake Social – CODEchella 2025 Launch!\n\nAbout the session: Start your CODEchella Computer Science Orientation journey with stacks of pancakes\, sweet syrup\, and a dash of friendly competition. Explore fun mini games in the Atrium & Urban Garden hosted by your CS mentors and begin building your new community as Computer Science student at Dalhousie University!\nDate & Time: Monday\, September 1\, 2025 at 10:00AM\nLocation: Meet in the lobby of the Goldberg Computer Science Building\n\nCampus Tour & Scavenger Hunt\n\nAbout the session: After University 101\, join up with your CODEchella Team as your Stage Manager (Guide) leads you through some key places to know on Campus. Don’t forgot to keep on eye out for those “Check-Ins” to earn your team CODEchella stamps.\nDate & Time: Monday\, September 1\, 2025 at 2:30PM\nLocation: Meet in the lobby of the Goldberg Computer Science Building\n\nWalk this Wave\n\nAbout the session: Follow your Stage Manager (mentor/guide) alongside your CODEchella teammates on a journey through the heart of Halifax—past iconic landmarks\, lively streets\, and the welcoming pulse of your new city. Along the way\, enjoy a taste of a local delicacy and end your adventure at The Wave on the stunning Halifax waterfront\, where your entire class will come together for a beloved CODEchella tradition: an iconic collective photo immortalizing the start of a new chapter!\nDate & Time: Monday\, September 1\, 2025 at 5:00PM\nLocation: Meet in the lobby of the Goldberg Computer Science Building.\n\nFind out more here
URL:https://shiftkeylabs.ca/event/codechella-day-1
LOCATION:Dalhousie University
CATEGORIES:External Event
ATTACH;FMTTYPE=image/png:https://shiftkeylabs.ca/wp-content/uploads/2025/08/1755787877496.png
END:VEVENT
BEGIN:VEVENT
DTSTART;VALUE=DATE:20250901
DTEND;VALUE=DATE:20250902
DTSTAMP:20260421T193422
CREATED:20250828T133834Z
LAST-MODIFIED:20250828T134527Z
UID:102981-1756684800-1756771199@shiftkeylabs.ca
SUMMARY:DSU Orientation
DESCRIPTION:Note: These events are for first-year Dalhousie University students only \nAcademic Orientation Day\n\nTime: There are 3 sessions available: 10 AM\, 11:30 AM\, and 1 PM.\nEach session will have the same information. Pick one that works for you!\nLocation: McInnes Room\, Student Union Building\nStart your university journey strong with Academic Orientation Day! This two-hour event features University 101 and a guided tour of your faculty—designed to help you feel confident\, connected\, and ready for the year ahead. We’ll cut through the confusion\, showing you exactly how to navigate campus services and decode all that new lingo. Get the practical strategies you need to conquer your courses and make the most of your time here at Dal.\n\nWriting Centre Cool Treat Drop-in\n\n\n\nTime: 10 AM – 2 PM\nLocation: Killam Atrium\, 6225 University Avenue\nBeat the heat and kick off your semester with a free freezie! Drop by the Writing Centre’s Cool Treat Drop-In to grab a sweet treat and discover how we can support you with university writing. Whether you’re looking for tips on essays\, assignments\, or just want to know where to start\, we’re here to help you adapt and thrive. No appointment needed—just stop by\, say hi\, and enjoy a freezie on us!\n\nDrop-In Schedule Building\n\nTime: 3 PM – 4 PM\nLocation: Council Chambers Room – Second Floor\, Student Union Building\nAfter acing University 101\, dive into a hands-on session with experienced counsellors where you’ll learn how to create your own class schedule. Get practical tips and step-by-step guidance to organize your courses\, manage your time effectively\, and set yourself up for a successful semester.\nBuild confidence in planning your academic path and take control of your Dal experience!\n\nLet’s Talk About Sex\, Baby\n\nTime: 6 -7:15 PM\nLocation: Scotiabank Auditorium\, McCain Building\nA candid talk about sex\, consent\, and communication. This is your chance to anonymously ask Venus Envy all your questions about sex\, hooking up\, STIs\, toys\, and more!\n\nVenus Envy is an education-based feminist sex shop and bookstore located in Kjipuktuk(Halifax)\, we are queer and trans owned and run. Since opening in 1998 Venus Envy has strived to be a safe space to explore desires and expand knowledge on topics surrounding sexual health\, gender and sexuality\, feminism\, and social justice. \n\n\n\n\nCapture the Flag\n\n\nTime: 7 PM – 10 PM\nLocation: Wickwire Field\nJoin us on the Wickwire Field for a game of Capture the Flag! Jump in to the game to represent your building or cheer along your team!\n\nNostalgia Night\n\n\n\n\n\n\nTime: 8 PM – 11 PM\nLocation: Assigned lounges in residence\nDescription: Do you miss your old family shows? Do the Dunkaroos\, Kool-aid\, and Gushers of the past call for your name? Are you looking for the perfect way to unwind after a long weekend of Orientation Activity? Look no further than Nostalgia Night. Bring your new friends\, your comfiest clothes and blankets\, and bask in the relaxed atmosphere watching your favorite shows\, listening to music\, and eating your favourite snacks that all scratch that nostalgia itch just right!\n\n\n\n\n\n\nFind out more here
URL:https://shiftkeylabs.ca/event/dsu-orientation
LOCATION:Dalhousie University
CATEGORIES:External Event
ATTACH;FMTTYPE=image/png:https://shiftkeylabs.ca/wp-content/uploads/2025/08/DSU-Orientation.png
END:VEVENT
END:VCALENDAR