BEGIN:VCALENDAR
VERSION:2.0
PRODID:-//ShiftKey Labs - ECPv6.3.5//NONSGML v1.0//EN
CALSCALE:GREGORIAN
METHOD:PUBLISH
X-ORIGINAL-URL:https://shiftkeylabs.ca
X-WR-CALDESC:Events for ShiftKey Labs
REFRESH-INTERVAL;VALUE=DURATION:PT1H
X-Robots-Tag:noindex
X-PUBLISHED-TTL:PT1H
BEGIN:VTIMEZONE
TZID:America/Halifax
BEGIN:DAYLIGHT
TZOFFSETFROM:-0400
TZOFFSETTO:-0300
TZNAME:ADT
DTSTART:20250309T060000
END:DAYLIGHT
BEGIN:STANDARD
TZOFFSETFROM:-0300
TZOFFSETTO:-0400
TZNAME:AST
DTSTART:20251102T050000
END:STANDARD
END:VTIMEZONE
BEGIN:VEVENT
DTSTART;VALUE=DATE:20250826
DTEND;VALUE=DATE:20250828
DTSTAMP:20260421T205927
CREATED:20250730T163018Z
LAST-MODIFIED:20250821T180451Z
UID:102798-1756166400-1756339199@shiftkeylabs.ca
SUMMARY:DevOpsDays Halifax 2025
DESCRIPTION:🐯 Dalhousie students — this is your chance. \nDevOpsDays Halifax 2025 is an international software and cloud engineering conference happening right here in Halifax. \n🔎 Why it matters for you: \n\nCompanies attending are actively looking to hire local talent\n30% student discount using the code GEN_STUDENT_DISCOUNT\nMeet engineers\, recruiters\, and hiring managers from across North America\nLearn about real-world DevOps\, CI/CD\, cloud platforms\, and security\nConference meals and a networking social event with industry professionals are included.\n\nBonus:\nKick off with a full-day Google Cloud AI Workshop: Get hands-on with Vision\, Translation\, and Natural Language APIs.\nBuild real projects and earn a Google Cloud Skill Badge—all included with your student ticket. If you’re serious about landing a job in tech\, this is the event to attend.\n \n📆 Spots are limited — reserve yours now here: \nIf you’re in between jobs\, or facing financial hardship\, we’ve got you covered. The Inclusive Access Ticket is available for just $30 — no code needed. Find it directly at our ticketing page. \nYou can also find this event on Dal events calendar: https://events.dal.ca/event/4593-devops-days-halifax-2025-at-dalhousie-university \n📣 But wait!! There’s more!! \nKick off with a full-day Google Cloud AI Workshop: Get hands-on with Vision\, Translation\, and Natural Language APIs. \nBuild real projects and earn a Google Cloud Skill Badge — all included with your student ticket.If you’re serious about landing a job in tech\, this is the event to attend.
URL:https://shiftkeylabs.ca/event/devopsdays-halifax-2025
LOCATION:Rowe Management Building\, 6100 University Avenue\, Halifax\, Nova Scotia\, B3H 4R2\, Canada
CATEGORIES:External Event
ATTACH;FMTTYPE=image/png:https://shiftkeylabs.ca/wp-content/uploads/2025/07/DevOps-Halifax.png
END:VEVENT
END:VCALENDAR