BEGIN:VCALENDAR
VERSION:2.0
PRODID:-//ShiftKey Labs - ECPv6.3.5//NONSGML v1.0//EN
CALSCALE:GREGORIAN
METHOD:PUBLISH
X-WR-CALNAME:ShiftKey Labs
X-ORIGINAL-URL:https://shiftkeylabs.ca
X-WR-CALDESC:Events for ShiftKey Labs
REFRESH-INTERVAL;VALUE=DURATION:PT1H
X-Robots-Tag:noindex
X-PUBLISHED-TTL:PT1H
BEGIN:VTIMEZONE
TZID:America/Halifax
BEGIN:DAYLIGHT
TZOFFSETFROM:-0400
TZOFFSETTO:-0300
TZNAME:ADT
DTSTART:20250309T060000
END:DAYLIGHT
BEGIN:STANDARD
TZOFFSETFROM:-0300
TZOFFSETTO:-0400
TZNAME:AST
DTSTART:20251102T050000
END:STANDARD
END:VTIMEZONE
BEGIN:VEVENT
DTSTART;TZID=America/Halifax:20250820T170000
DTEND;TZID=America/Halifax:20250820T190000
DTSTAMP:20260421T205741
CREATED:20250806T180027Z
LAST-MODIFIED:20250806T180027Z
UID:102824-1755709200-1755716400@shiftkeylabs.ca
SUMMARY:Connections Under the Sun
DESCRIPTION:Looking to enjoy a relaxing afternoon of games\, networking\, and sunshine? \nJoin DeepSense\, ShiftKey Labs\, and SURGE Innovation for Connections Under the Sun on August 20th at 5 pm on Dalhousie’s Studley Quad. \nBring a blanket or chair\, your favourite lawn games\, and don’t forget the sunscreen — snacks will be provided! \nRegister for the event here: http://bit.ly/41tryTS
URL:https://shiftkeylabs.ca/event/connections-under-the-sun
LOCATION:Studley Quad\, Halifax\, Nova Scotia\, B3H 4R2\, Canada
ATTACH;FMTTYPE=image/png:https://shiftkeylabs.ca/wp-content/uploads/2025/08/Connections-in-the-Sun.png
END:VEVENT
END:VCALENDAR