BEGIN:VCALENDAR
VERSION:2.0
PRODID:-//ShiftKey Labs - ECPv6.3.5//NONSGML v1.0//EN
CALSCALE:GREGORIAN
METHOD:PUBLISH
X-WR-CALNAME:ShiftKey Labs
X-ORIGINAL-URL:https://shiftkeylabs.ca
X-WR-CALDESC:Events for ShiftKey Labs
REFRESH-INTERVAL;VALUE=DURATION:PT1H
X-Robots-Tag:noindex
X-PUBLISHED-TTL:PT1H
BEGIN:VTIMEZONE
TZID:America/Halifax
BEGIN:DAYLIGHT
TZOFFSETFROM:-0400
TZOFFSETTO:-0300
TZNAME:ADT
DTSTART:20250309T060000
END:DAYLIGHT
BEGIN:STANDARD
TZOFFSETFROM:-0300
TZOFFSETTO:-0400
TZNAME:AST
DTSTART:20251102T050000
END:STANDARD
END:VTIMEZONE
BEGIN:VEVENT
DTSTART;TZID=America/Halifax:20250702T173000
DTEND;TZID=America/Halifax:20250702T190000
DTSTAMP:20260421T222223
CREATED:20250605T172308Z
LAST-MODIFIED:20250619T172751Z
UID:102202-1751477400-1751482800@shiftkeylabs.ca
SUMMARY:Dal CTF 2025 Info Session
DESCRIPTION:📅 Date: July 2nd\n⏰ Time: 5:30PM – 7:00 PM\n📌 Location: Goldberg Computer Science Building Room 127\n💰 Cost: FREE!
URL:https://shiftkeylabs.ca/event/dal-ctf-2025-info-session
LOCATION:Goldberg Computer Science Building\, 6050 University Avenue\, Halifax\, Nova Scotia\, B3H 1W5\, Canada
CATEGORIES:Capture the Flag,Info Session,Workshop
ATTACH;FMTTYPE=image/png:https://shiftkeylabs.ca/wp-content/uploads/2025/06/Dal-CTF-Web.png
END:VEVENT
END:VCALENDAR