BEGIN:VCALENDAR
VERSION:2.0
PRODID:-//ShiftKey Labs - ECPv6.3.5//NONSGML v1.0//EN
CALSCALE:GREGORIAN
METHOD:PUBLISH
X-WR-CALNAME:ShiftKey Labs
X-ORIGINAL-URL:https://shiftkeylabs.ca
X-WR-CALDESC:Events for ShiftKey Labs
REFRESH-INTERVAL;VALUE=DURATION:PT1H
X-Robots-Tag:noindex
X-PUBLISHED-TTL:PT1H
BEGIN:VTIMEZONE
TZID:America/Halifax
BEGIN:DAYLIGHT
TZOFFSETFROM:-0400
TZOFFSETTO:-0300
TZNAME:ADT
DTSTART:20250309T060000
END:DAYLIGHT
BEGIN:STANDARD
TZOFFSETFROM:-0300
TZOFFSETTO:-0400
TZNAME:AST
DTSTART:20251102T050000
END:STANDARD
END:VTIMEZONE
BEGIN:VEVENT
DTSTART;TZID=America/Halifax:20250603T180000
DTEND;TZID=America/Halifax:20250617T235900
DTSTAMP:20260421T233942
CREATED:20250524T182712Z
LAST-MODIFIED:20250524T183002Z
UID:101908-1748973600-1750204740@shiftkeylabs.ca
SUMMARY:Ocean of Data: AI in Action\, featuring Building Bridges
DESCRIPTION:Join this special edition of the Ocean of Data Challenge\, featuring Building Bridges. Hosted by DeepSense\, COVE\, and ShiftKey Labs\, this exciting challenge offers a unique opportunity to collaborate and develop innovative ideas! The free event kicks off on Tuesday\, June 3rd at 6 pm AST with an introduction to the challenge\, expert presentations\, and a Q&A session to help fuel your creativity. Participants must submit video entries by 11:59 pm AST on Tuesday\, June 17th. Judges will review submissions over the following two weeks\, and winners will be announced on Thursday\, July 3rd. \nWho should participate?  \nGreat ideas often emerge from diverse perspectives\, so we encourage students from all disciplines to participate – whether that be computer science\, engineering\, biology\, sustainability\, business\, or any other program! Participants must be current students (full-time or part-time) or recent graduates (within the past 12 months) of a post-secondary institution in Atlantic Canada. You can choose to work solo or collaborate with a team of up to five members. Please make sure to review the Official Rules below. \nThe Rules \n\nCompetitors must either own the rights to all software used in their project or have written permission from the owner.\nSubmissions can be as simple as an infographic or as complex as a machine learning model for predictions. Surprise us! Projects will be judged on their clarity\, creativity\, and potential impact.\nCompetitors can participate individually or in teams of up to 5 members.\nSubmissions must not include any confidential information.\nEach project must be based on data from the CIOOS Data Portal\, with the source clearly cited in the presentation\, infographic\, visual\, or slides (additional data sources can be used to supplement CIOOS data).\nCompetitors must currently live in Canada and have an active Canadian bank account.\nCompetitors must be a current part-time or full-time student at a post-secondary institution in Canada OR have graduated from one of these institutions within the past 12 months.\n\nFor more information\, visit https://deepsense.ca/ocean-of-data-challenge/. If you have any questions regarding eligibility\, reach out to info@deepsense.ca.
URL:https://shiftkeylabs.ca/event/ocean-of-data-ai-in-action-featuring-building-bridges
LOCATION:Virtual
CATEGORIES:Ocean of Data,Virtual
ATTACH;FMTTYPE=image/png:https://shiftkeylabs.ca/wp-content/uploads/2025/05/Ocean-of-Data.png
END:VEVENT
BEGIN:VEVENT
DTSTART;TZID=America/Halifax:20250605T180000
DTEND;TZID=America/Halifax:20250605T200000
DTSTAMP:20260421T233942
CREATED:20250510T140718Z
LAST-MODIFIED:20250527T162646Z
UID:101722-1749146400-1749153600@shiftkeylabs.ca
SUMMARY:Academy UP: Intro to Algorithmic Problem Solving (1/4)
DESCRIPTION:Ready to kickstart your technical interview preparation and enhance your algorithmic thinking? \nThis four-week program with Yuhan Fu covers essential topics including fundamental data structures\, time and space complexity analysis\, sorting and recursion\, graph theory\, greedy strategies\, and dynamic programming. \nEach week combines algorithmic logic analysis with hands-on\, Leetcode-style challenges to help you apply concepts through practical problem-solving. \nBy the end of the course\, you’ll have the skills to design\, analyze\, and optimize algorithms to tackle a wide range of algorithmic problems effectively. \nPrerequisites: \n\nKnowledge of at least one programming language\n\nThank you to Cognizant for supporting the ShiftKey Academy UP program\, making these courses possible. \n \n📅 Dates: June 5th\, 12th\, 19th\, 26th\n⏰ Time: 6:00 PM – 8:00 PM\n📌 Location: Goldberg Computer Science Building Room 127\n💰 Cost: FREE! \nRegister Here: https://bit.ly/shiftkey-events \n\nNote: Attendance is required for 3 sessions to earn certification\, as well as successful completion of assessment.
URL:https://shiftkeylabs.ca/event/academy-up-intro-to-algorithmic-problem-solving-1-4
LOCATION:Goldberg Computer Science Building\, 6050 University Avenue\, Halifax\, Nova Scotia\, B3H 1W5\, Canada
CATEGORIES:Certification
ATTACH;FMTTYPE=image/png:https://shiftkeylabs.ca/wp-content/uploads/2025/05/Academy.png
END:VEVENT
END:VCALENDAR