BEGIN:VCALENDAR
VERSION:2.0
PRODID:-//ShiftKey Labs - ECPv6.3.5//NONSGML v1.0//EN
CALSCALE:GREGORIAN
METHOD:PUBLISH
X-ORIGINAL-URL:https://shiftkeylabs.ca
X-WR-CALDESC:Events for ShiftKey Labs
REFRESH-INTERVAL;VALUE=DURATION:PT1H
X-Robots-Tag:noindex
X-PUBLISHED-TTL:PT1H
BEGIN:VTIMEZONE
TZID:America/Halifax
BEGIN:DAYLIGHT
TZOFFSETFROM:-0400
TZOFFSETTO:-0300
TZNAME:ADT
DTSTART:20250309T060000
END:DAYLIGHT
BEGIN:STANDARD
TZOFFSETFROM:-0300
TZOFFSETTO:-0400
TZNAME:AST
DTSTART:20251102T050000
END:STANDARD
END:VTIMEZONE
BEGIN:VEVENT
DTSTART;TZID=America/Halifax:20250529T160000
DTEND;TZID=America/Halifax:20250529T173000
DTSTAMP:20260421T234155
CREATED:20250203T185119Z
LAST-MODIFIED:20250424T123720Z
UID:100545-1748534400-1748539800@shiftkeylabs.ca
SUMMARY:Industry Showcase: Volta
DESCRIPTION:📅 Date: May 29th\, 2025 \nBy Application Only
URL:https://shiftkeylabs.ca/event/industry-showcase-volta
LOCATION:Volta\, 1800 Argyle St Unit 801\, Halifax\, Nova Scotia\, B3J 3N8\, Canada
CATEGORIES:Industry Showcase,Tech Talks
ATTACH;FMTTYPE=image/png:https://shiftkeylabs.ca/wp-content/uploads/2022/12/Shiftkey-Labs-Logo-01-e1487284025704-1200x515-1.png
END:VEVENT
BEGIN:VEVENT
DTSTART;TZID=America/Halifax:20250529T180000
DTEND;TZID=America/Halifax:20250529T200000
DTSTAMP:20260421T234155
CREATED:20250409T175559Z
LAST-MODIFIED:20250527T163252Z
UID:101287-1748541600-1748548800@shiftkeylabs.ca
SUMMARY:Academy UP: Fundamentals of Cloud Administration with Azure (4/4)
DESCRIPTION:Take your Azure expertise to the next level with our deep-dive course on Microsoft Azure! This four-week program explores key cloud concepts\, including identity and access management with Entra ID\, scalable storage and compute solutions\, and network architecture best practices. You’ll also learn how to automate infrastructure deployment and optimize monitoring\, alerting\, and compliance. Perfect for those with foundational Azure knowledge looking to expand their skills\, this hands-on course will equip you with practical insights to design and manage Azure environments effectively. \nPrerequisites: \n\nKnowledge of Cloud Foundations \, a Cloud Computing course at a university or equivalent. Basic familiarity with Bash and the command line.\nBefore Day 1: Students must decide on “pay-as-you-go subscription” (take the free course to set up their subscription) or do labs in Microsoft’s sandbox.\n\nThank you to Cognizant for supporting the ShiftKey Academy UP program\, making these courses possible. \n \n📅 Dates: May 8th\, 15th\, 22nd\, and 29th \n⏰ Time: 6:00 PM – 8:00 PM\n📌 Location: Goldberg Computer Science Building\, Room 143\n💰 Cost: FREE! \nRegister Here: https://airtable.com/appkB4tLGaUIf7rIf/shrRXVDaYwEt6eTGg \nNote: Attendance is required for 3 sessions to earn certification\, as well as successful completion of assessment.
URL:https://shiftkeylabs.ca/event/academy-up-fundamentals-of-cloud-administration-with-azure-4-4
LOCATION:Goldberg Computer Science Building\, 6050 University Avenue\, Halifax\, Nova Scotia\, B3H 1W5\, Canada
CATEGORIES:Certification
ATTACH;FMTTYPE=image/png:https://shiftkeylabs.ca/wp-content/uploads/2025/04/Academy-1.png
END:VEVENT
END:VCALENDAR