BEGIN:VCALENDAR
VERSION:2.0
PRODID:-//ShiftKey Labs - ECPv6.3.5//NONSGML v1.0//EN
CALSCALE:GREGORIAN
METHOD:PUBLISH
X-ORIGINAL-URL:https://shiftkeylabs.ca
X-WR-CALDESC:Events for ShiftKey Labs
REFRESH-INTERVAL;VALUE=DURATION:PT1H
X-Robots-Tag:noindex
X-PUBLISHED-TTL:PT1H
BEGIN:VTIMEZONE
TZID:America/Halifax
BEGIN:DAYLIGHT
TZOFFSETFROM:-0400
TZOFFSETTO:-0300
TZNAME:ADT
DTSTART:20250309T060000
END:DAYLIGHT
BEGIN:STANDARD
TZOFFSETFROM:-0300
TZOFFSETTO:-0400
TZNAME:AST
DTSTART:20251102T050000
END:STANDARD
END:VTIMEZONE
BEGIN:VEVENT
DTSTART;TZID=America/Halifax:20250322T130000
DTEND;TZID=America/Halifax:20250322T170000
DTSTAMP:20260422T064814
CREATED:20250305T133313Z
LAST-MODIFIED:20250305T152325Z
UID:101085-1742648400-1742662800@shiftkeylabs.ca
SUMMARY:Consulting 101 Workshop with Cognizant
DESCRIPTION:Ever wondered what a career in consulting looks like? Or the skills you need to break into the industry? \nJoin us for an engaging workshop with Cognizant\, one of the largest consulting firms in the world! By the end of the workshop\, you’ll gain a better understanding of the consulting world and develop some fundamental consulting skills. And did we mention there’ll be some door prizes and lunch? 🙌 \nTake a well-deserved break from your studies on March 22. \nSign up here: https://bit.ly/shiftkey-events
URL:https://shiftkeylabs.ca/event/consulting-101-workshop-with-cognizant
CATEGORIES:Skills Development,Workshop
ATTACH;FMTTYPE=image/png:https://shiftkeylabs.ca/wp-content/uploads/2025/03/Consulting-Workshop.png
END:VEVENT
END:VCALENDAR