BEGIN:VCALENDAR
VERSION:2.0
PRODID:-//ShiftKey Labs - ECPv6.3.5//NONSGML v1.0//EN
CALSCALE:GREGORIAN
METHOD:PUBLISH
X-WR-CALNAME:ShiftKey Labs
X-ORIGINAL-URL:https://shiftkeylabs.ca
X-WR-CALDESC:Events for ShiftKey Labs
REFRESH-INTERVAL;VALUE=DURATION:PT1H
X-Robots-Tag:noindex
X-PUBLISHED-TTL:PT1H
BEGIN:VTIMEZONE
TZID:America/Halifax
BEGIN:DAYLIGHT
TZOFFSETFROM:-0400
TZOFFSETTO:-0300
TZNAME:ADT
DTSTART:20250309T060000
END:DAYLIGHT
BEGIN:STANDARD
TZOFFSETFROM:-0300
TZOFFSETTO:-0400
TZNAME:AST
DTSTART:20251102T050000
END:STANDARD
END:VTIMEZONE
BEGIN:VEVENT
DTSTART;TZID=America/Halifax:20250320T183000
DTEND;TZID=America/Halifax:20250320T203000
DTSTAMP:20260422T052836
CREATED:20250219T194218Z
LAST-MODIFIED:20250305T132742Z
UID:101036-1742495400-1742502600@shiftkeylabs.ca
SUMMARY:Speech Craft Workshop
DESCRIPTION:Knowing how to confidently speak in front of an audience is a crucial life skill during and after university. Come to the Speech Craft Workshop on March 20th to learn how to command a room and the best tips and tricks to make your voice heard. \nIn this event you’ll:\n💬 Discover tips and strategies to improve your confidence and on-stage presence.\n💬 Practice pitches for tech conferences and showcases.\n💬 Compete for a chance to win an UberEATS gift card\n💬 Have an evening meal provided! \nSee you there! \nRegister here: https://lnkd.in/e3ftEFaR
URL:https://shiftkeylabs.ca/event/speech-craft-workshop
LOCATION:Goldberg Computer Science Building\, 6050 University Avenue\, Halifax\, Nova Scotia\, B3H 1W5\, Canada
CATEGORIES:Workshop
ATTACH;FMTTYPE=image/png:https://shiftkeylabs.ca/wp-content/uploads/2025/02/Workshop-Blue-copy.png
END:VEVENT
END:VCALENDAR